| Back to Multiple platform build/check report for BioC 3.11 |
|
This page was generated on 2020-10-17 11:54:31 -0400 (Sat, 17 Oct 2020).
| TO THE DEVELOPERS/MAINTAINERS OF THE CAGEfightR PACKAGE: Please make sure to use the following settings in order to reproduce any error or warning you see on this page. |
| Package 218/1905 | Hostname | OS / Arch | INSTALL | BUILD | CHECK | BUILD BIN | ||||||
| CAGEfightR 1.8.0 Malte Thodberg
| malbec2 | Linux (Ubuntu 18.04.4 LTS) / x86_64 | OK | OK | [ OK ] | |||||||
| tokay2 | Windows Server 2012 R2 Standard / x64 | OK | OK | OK | OK | |||||||
| machv2 | macOS 10.14.6 Mojave / x86_64 | OK | OK | OK | OK |
| Package: CAGEfightR |
| Version: 1.8.0 |
| Command: /home/biocbuild/bbs-3.11-bioc/R/bin/R CMD check --install=check:CAGEfightR.install-out.txt --library=/home/biocbuild/bbs-3.11-bioc/R/library --no-vignettes --timings CAGEfightR_1.8.0.tar.gz |
| StartedAt: 2020-10-16 23:30:11 -0400 (Fri, 16 Oct 2020) |
| EndedAt: 2020-10-16 23:37:18 -0400 (Fri, 16 Oct 2020) |
| EllapsedTime: 427.0 seconds |
| RetCode: 0 |
| Status: OK |
| CheckDir: CAGEfightR.Rcheck |
| Warnings: 0 |
##############################################################################
##############################################################################
###
### Running command:
###
### /home/biocbuild/bbs-3.11-bioc/R/bin/R CMD check --install=check:CAGEfightR.install-out.txt --library=/home/biocbuild/bbs-3.11-bioc/R/library --no-vignettes --timings CAGEfightR_1.8.0.tar.gz
###
##############################################################################
##############################################################################
* using log directory ‘/home/biocbuild/bbs-3.11-bioc/meat/CAGEfightR.Rcheck’
* using R version 4.0.3 (2020-10-10)
* using platform: x86_64-pc-linux-gnu (64-bit)
* using session charset: UTF-8
* using option ‘--no-vignettes’
* checking for file ‘CAGEfightR/DESCRIPTION’ ... OK
* checking extension type ... Package
* this is package ‘CAGEfightR’ version ‘1.8.0’
* package encoding: UTF-8
* checking package namespace information ... OK
* checking package dependencies ... OK
* checking if this is a source package ... OK
* checking if there is a namespace ... OK
* checking for hidden files and directories ... OK
* checking for portable file names ... OK
* checking for sufficient/correct file permissions ... OK
* checking whether package ‘CAGEfightR’ can be installed ... OK
* checking installed package size ... OK
* checking package directory ... OK
* checking ‘build’ directory ... OK
* checking DESCRIPTION meta-information ... OK
* checking top-level files ... OK
* checking for left-over files ... OK
* checking index information ... OK
* checking package subdirectories ... OK
* checking R files for non-ASCII characters ... OK
* checking R files for syntax errors ... OK
* checking whether the package can be loaded ... OK
* checking whether the package can be loaded with stated dependencies ... OK
* checking whether the package can be unloaded cleanly ... OK
* checking whether the namespace can be loaded with stated dependencies ... OK
* checking whether the namespace can be unloaded cleanly ... OK
* checking dependencies in R code ... OK
* checking S3 generic/method consistency ... OK
* checking replacement functions ... OK
* checking foreign function calls ... OK
* checking R code for possible problems ... OK
* checking Rd files ... OK
* checking Rd metadata ... OK
* checking Rd cross-references ... OK
* checking for missing documentation entries ... OK
* checking for code/documentation mismatches ... OK
* checking Rd \usage sections ... OK
* checking Rd contents ... OK
* checking for unstated dependencies in examples ... OK
* checking contents of ‘data’ directory ... OK
* checking data for non-ASCII characters ... OK
* checking data for ASCII and uncompressed saves ... OK
* checking files in ‘vignettes’ ... OK
* checking examples ... OK
Examples with CPU (user + system) or elapsed time > 5s
user system elapsed
findLinks 4.508 1.464 5.359
assignGeneID 4.846 0.039 5.795
* checking for unstated dependencies in vignettes ... OK
* checking package vignettes in ‘inst/doc’ ... OK
* checking running R code from vignettes ... SKIPPED
* checking re-building of vignette outputs ... SKIPPED
* checking PDF version of manual ... OK
* DONE
Status: OK
CAGEfightR.Rcheck/00install.out
############################################################################## ############################################################################## ### ### Running command: ### ### /home/biocbuild/bbs-3.11-bioc/R/bin/R CMD INSTALL CAGEfightR ### ############################################################################## ############################################################################## * installing to library ‘/home/biocbuild/bbs-3.11-bioc/R/library’ * installing *source* package ‘CAGEfightR’ ... ** using staged installation ** R ** data *** moving datasets to lazyload DB ** inst ** byte-compile and prepare package for lazy loading ** help *** installing help indices ** building package indices ** installing vignettes ** testing if installed package can be loaded from temporary location ** testing if installed package can be loaded from final location ** testing if installed package keeps a record of temporary installation path * DONE (CAGEfightR)
CAGEfightR.Rcheck/CAGEfightR-Ex.timings
| name | user | system | elapsed | |
| assignGeneID | 4.846 | 0.039 | 5.795 | |
| assignMissingID | 1.544 | 0.000 | 1.543 | |
| assignTxID | 1.261 | 0.008 | 1.270 | |
| assignTxType | 0.000 | 0.000 | 0.001 | |
| balanceBC | 0.001 | 0.000 | 0.001 | |
| balanceD | 0.001 | 0.000 | 0.000 | |
| bwCommonGenome | 0.067 | 0.004 | 0.108 | |
| bwGenomeCompatibility | 0.027 | 0.000 | 0.027 | |
| bwValid | 0.012 | 0.000 | 0.012 | |
| calcBidirectionality | 0.793 | 0.000 | 0.793 | |
| calcComposition | 3.342 | 0.004 | 3.346 | |
| calcPooled | 0.194 | 0.000 | 0.193 | |
| calcShape | 4.640 | 0.172 | 4.812 | |
| calcSupport | 0.245 | 0.008 | 0.253 | |
| calcTPM | 0.287 | 0.008 | 0.295 | |
| calcTotalTags | 0.121 | 0.008 | 0.129 | |
| checkCTSSs | 0.407 | 0.000 | 0.417 | |
| checkPeaked | 0.071 | 0.012 | 0.082 | |
| checkPooled | 0.206 | 0.003 | 0.209 | |
| clusterBidirectionally | 0 | 0 | 0 | |
| clusterUnidirectionally | 1.477 | 0.000 | 1.477 | |
| combineClusters | 0.868 | 0.000 | 0.867 | |
| convertBAM2BigWig | 0 | 0 | 0 | |
| convertBED2BigWig | 0.001 | 0.000 | 0.000 | |
| convertGRanges2GPos | 0.079 | 0.000 | 0.078 | |
| exampleDesign | 0.005 | 0.000 | 0.006 | |
| findLinks | 4.508 | 1.464 | 5.359 | |
| findStretches | 0.622 | 0.044 | 0.666 | |
| quantifyCTSSs | 0 | 0 | 0 | |
| quantifyCTSSs2 | 0.001 | 0.000 | 0.001 | |
| quantifyClusters | 0.738 | 0.028 | 0.766 | |
| quantifyGenes | 1.270 | 0.052 | 1.322 | |
| quickEnhancers | 0.001 | 0.000 | 0.000 | |
| quickGenes | 0 | 0 | 0 | |
| quickTSSs | 0 | 0 | 0 | |
| shapeEntropy | 0.001 | 0.000 | 0.001 | |
| shapeIQR | 0.001 | 0.000 | 0.001 | |
| shapeMean | 0.000 | 0.000 | 0.001 | |
| shapeMultimodality | 0 | 0 | 0 | |
| subsetByBidirectionality | 0.469 | 0.013 | 0.483 | |
| subsetByComposition | 1.376 | 0.012 | 1.389 | |
| subsetBySupport | 0.098 | 0.000 | 0.098 | |
| swapRanges | 0.268 | 0.000 | 0.269 | |
| swapScores | 0.151 | 0.008 | 0.158 | |
| trackBalance | 0.001 | 0.000 | 0.000 | |
| trackCTSS | 4.044 | 0.172 | 4.216 | |
| trackClusters | 2.572 | 0.000 | 2.572 | |
| trackLinks | 1.041 | 0.374 | 1.194 | |
| trimToPeak | 0.971 | 0.064 | 1.040 | |
| trimToPercentiles | 3.121 | 0.004 | 3.125 | |
| tuneTagClustering | 0.001 | 0.000 | 0.000 | |
| utilsAggregateRows | 0.745 | 0.168 | 0.914 | |
| utilsDeStrand | 0.220 | 0.004 | 0.224 | |
| utilsScoreOverlaps | 0.115 | 0.000 | 0.114 | |
| utilsSimplifyTxDb | 0.000 | 0.000 | 0.001 | |