| Back to Multiple platform build/check report for BioC 3.11 |
|
This page was generated on 2020-10-17 11:56:11 -0400 (Sat, 17 Oct 2020).
| TO THE DEVELOPERS/MAINTAINERS OF THE CAFE PACKAGE: Please make sure to use the following settings in order to reproduce any error or warning you see on this page. |
| Package 217/1905 | Hostname | OS / Arch | INSTALL | BUILD | CHECK | BUILD BIN | ||||||
| CAFE 1.24.0 Sander Bollen
| malbec2 | Linux (Ubuntu 18.04.4 LTS) / x86_64 | OK | OK | WARNINGS | |||||||
| tokay2 | Windows Server 2012 R2 Standard / x64 | [ OK ] | OK | WARNINGS | OK | |||||||
| machv2 | macOS 10.14.6 Mojave / x86_64 | OK | OK | WARNINGS | OK |
| Package: CAFE |
| Version: 1.24.0 |
| Command: C:\cygwin\bin\curl.exe -O https://malbec2.bioconductor.org/BBS/3.11/bioc/src/contrib/CAFE_1.24.0.tar.gz && rm -rf CAFE.buildbin-libdir && mkdir CAFE.buildbin-libdir && C:\Users\biocbuild\bbs-3.11-bioc\R\bin\R.exe CMD INSTALL --merge-multiarch --build --library=CAFE.buildbin-libdir CAFE_1.24.0.tar.gz && C:\Users\biocbuild\bbs-3.11-bioc\R\bin\R.exe CMD INSTALL CAFE_1.24.0.zip && rm CAFE_1.24.0.tar.gz CAFE_1.24.0.zip |
| StartedAt: 2020-10-16 19:33:08 -0400 (Fri, 16 Oct 2020) |
| EndedAt: 2020-10-16 19:35:21 -0400 (Fri, 16 Oct 2020) |
| EllapsedTime: 132.8 seconds |
| RetCode: 0 |
| Status: OK |
##############################################################################
##############################################################################
###
### Running command:
###
### C:\cygwin\bin\curl.exe -O https://malbec2.bioconductor.org/BBS/3.11/bioc/src/contrib/CAFE_1.24.0.tar.gz && rm -rf CAFE.buildbin-libdir && mkdir CAFE.buildbin-libdir && C:\Users\biocbuild\bbs-3.11-bioc\R\bin\R.exe CMD INSTALL --merge-multiarch --build --library=CAFE.buildbin-libdir CAFE_1.24.0.tar.gz && C:\Users\biocbuild\bbs-3.11-bioc\R\bin\R.exe CMD INSTALL CAFE_1.24.0.zip && rm CAFE_1.24.0.tar.gz CAFE_1.24.0.zip
###
##############################################################################
##############################################################################
% Total % Received % Xferd Average Speed Time Time Time Current
Dload Upload Total Spent Left Speed
0 0 0 0 0 0 0 0 --:--:-- --:--:-- --:--:-- 0
28 2278k 28 656k 0 0 1107k 0 0:00:02 --:--:-- 0:00:02 1123k
100 2278k 100 2278k 0 0 2175k 0 0:00:01 0:00:01 --:--:-- 2193k
install for i386
* installing *source* package 'CAFE' ...
** using staged installation
** R
** data
** inst
** byte-compile and prepare package for lazy loading
** help
*** installing help indices
converting help for package 'CAFE'
finding HTML links ... done
CAFE-package html
CAFE html
ProcessCels html
armStats html
bandStats html
chromosomeStats html
cliSubset html
discontPlot html
discontSmooth html
facetPlot html
fisher.method html
guiSubset html
rawPlot html
slidPlot html
slidSmooth html
** building package indices
** installing vignettes
** testing if installed package can be loaded from temporary location
** testing if installed package can be loaded from final location
** testing if installed package keeps a record of temporary installation path
install for x64
* installing *source* package 'CAFE' ...
** testing if installed package can be loaded
* MD5 sums
packaged installation of 'CAFE' as CAFE_1.24.0.zip
* DONE (CAFE)
* installing to library 'C:/Users/biocbuild/bbs-3.11-bioc/R/library'
package 'CAFE' successfully unpacked and MD5 sums checked