| Back to Multiple platform build/check report for BioC 3.11 |
|
This page was generated on 2020-10-17 11:56:11 -0400 (Sat, 17 Oct 2020).
| TO THE DEVELOPERS/MAINTAINERS OF THE BUSpaRse PACKAGE: Please make sure to use the following settings in order to reproduce any error or warning you see on this page. |
| Package 216/1905 | Hostname | OS / Arch | INSTALL | BUILD | CHECK | BUILD BIN | ||||||
| BUSpaRse 1.2.2 Lambda Moses
| malbec2 | Linux (Ubuntu 18.04.4 LTS) / x86_64 | OK | OK | OK | |||||||
| tokay2 | Windows Server 2012 R2 Standard / x64 | OK | OK | OK | [ OK ] | |||||||
| machv2 | macOS 10.14.6 Mojave / x86_64 | OK | OK | OK | OK |
| Package: BUSpaRse |
| Version: 1.2.2 |
| Command: rm -rf BUSpaRse.buildbin-libdir && mkdir BUSpaRse.buildbin-libdir && C:\Users\biocbuild\bbs-3.11-bioc\R\bin\R.exe CMD INSTALL --merge-multiarch --build --library=BUSpaRse.buildbin-libdir BUSpaRse_1.2.2.tar.gz |
| StartedAt: 2020-10-17 10:00:13 -0400 (Sat, 17 Oct 2020) |
| EndedAt: 2020-10-17 10:02:33 -0400 (Sat, 17 Oct 2020) |
| EllapsedTime: 139.4 seconds |
| RetCode: 0 |
| Status: OK |
| PackageFile: BUSpaRse_1.2.2.zip |
| PackageFileSize: 1.646 MiB |
##############################################################################
##############################################################################
###
### Running command:
###
### rm -rf BUSpaRse.buildbin-libdir && mkdir BUSpaRse.buildbin-libdir && C:\Users\biocbuild\bbs-3.11-bioc\R\bin\R.exe CMD INSTALL --merge-multiarch --build --library=BUSpaRse.buildbin-libdir BUSpaRse_1.2.2.tar.gz
###
##############################################################################
##############################################################################
install for i386
* installing *source* package 'BUSpaRse' ...
** using staged installation
** libs
"C:/rtools40/mingw32/bin/"g++ -std=gnu++11 -I"C:/Users/BIOCBU~1/BBS-3~1.11-/R/include" -DNDEBUG -I'C:/Users/biocbuild/bbs-3.11-bioc/R/library/Rcpp/include' -I'C:/Users/biocbuild/bbs-3.11-bioc/R/library/RcppArmadillo/include' -I'C:/Users/biocbuild/bbs-3.11-bioc/R/library/RcppProgress/include' -I'C:/Users/biocbuild/bbs-3.11-bioc/R/library/BH/include' -I"C:/extsoft/include" -fopenmp -O2 -Wall -mfpmath=sse -msse2 -mstackrealign -c RcppExports.cpp -o RcppExports.o
"C:/rtools40/mingw32/bin/"g++ -std=gnu++11 -I"C:/Users/BIOCBU~1/BBS-3~1.11-/R/include" -DNDEBUG -I'C:/Users/biocbuild/bbs-3.11-bioc/R/library/Rcpp/include' -I'C:/Users/biocbuild/bbs-3.11-bioc/R/library/RcppArmadillo/include' -I'C:/Users/biocbuild/bbs-3.11-bioc/R/library/RcppProgress/include' -I'C:/Users/biocbuild/bbs-3.11-bioc/R/library/BH/include' -I"C:/extsoft/include" -fopenmp -O2 -Wall -mfpmath=sse -msse2 -mstackrealign -c fill_cell_gene.cpp -o fill_cell_gene.o
In file included from C:/Users/biocbuild/bbs-3.11-bioc/R/library/BH/include/boost/mpl/aux_/na_assert.hpp:23,
from C:/Users/biocbuild/bbs-3.11-bioc/R/library/BH/include/boost/mpl/arg.hpp:25,
from C:/Users/biocbuild/bbs-3.11-bioc/R/library/BH/include/boost/mpl/placeholders.hpp:24,
from C:/Users/biocbuild/bbs-3.11-bioc/R/library/BH/include/boost/iterator/iterator_categories.hpp:16,
from C:/Users/biocbuild/bbs-3.11-bioc/R/library/BH/include/boost/iterator/iterator_adaptor.hpp:14,
from C:/Users/biocbuild/bbs-3.11-bioc/R/library/BH/include/boost/token_iterator.hpp:22,
from C:/Users/biocbuild/bbs-3.11-bioc/R/library/BH/include/boost/tokenizer.hpp:20,
from fill_cell_gene.cpp:16:
C:/Users/biocbuild/bbs-3.11-bioc/R/library/BH/include/boost/mpl/assert.hpp:194:21: warning: unnecessary parentheses in declaration of 'assert_arg' [-Wparentheses]
failed ************ (Pred::************
^
C:/Users/biocbuild/bbs-3.11-bioc/R/library/BH/include/boost/mpl/assert.hpp:199:21: warning: unnecessary parentheses in declaration of 'assert_not_arg' [-Wparentheses]
failed ************ (boost::mpl::not_<Pred>::************
^
C:/rtools40/mingw32/bin/g++ -shared -s -static-libgcc -o BUSpaRse.dll tmp.def RcppExports.o fill_cell_gene.o -fopenmp -LC:/Users/BIOCBU~1/BBS-3~1.11-/R/bin/i386 -lRlapack -LC:/Users/BIOCBU~1/BBS-3~1.11-/R/bin/i386 -lRblas -lgfortran -lm -lquadmath -LC:/extsoft/lib/i386 -LC:/extsoft/lib -LC:/Users/BIOCBU~1/BBS-3~1.11-/R/bin/i386 -lR
installing to C:/Users/biocbuild/bbs-3.11-bioc/meat/BUSpaRse.buildbin-libdir/00LOCK-BUSpaRse/00new/BUSpaRse/libs/i386
** R
** data
** inst
** byte-compile and prepare package for lazy loading
** help
*** installing help indices
converting help for package 'BUSpaRse'
finding HTML links ... done
EC2gene html
annot_circular html
finding level-2 HTML links ... done
annots_from_fa_df html
cellranger_biotypes html
check_char1 html
check_genome html
check_gff html
check_tag_present html
check_tx html
dl_transcriptome html
dot-get_velocity_files html
ensembl_gene_biotypes html
ensembl_gff_mcols html
ensembl_gtf_mcols html
ensembl_tx_biotypes html
get_intron_flanks html
get_velocity_files html
knee_plot html
make_sparse_matrix html
match_style html
read_count_output html
read_velocity_output html
refseq_gff_mcols html
save_tr2g_bustools html
sort_tr2g html
species2dataset html
standardize_tags html
sub_annot html
subset_annot html
tr2g_EnsDb html
tr2g_GRanges html
tr2g_TxDb html
tr2g_ensembl html
tr2g_fasta html
tr2g_gff3 html
tr2g_gtf html
tr2g_junction html
transcript2gene html
validate_velocity_input html
write_velocity_output html
** building package indices
** installing vignettes
** testing if installed package can be loaded from temporary location
** testing if installed package can be loaded from final location
** testing if installed package keeps a record of temporary installation path
install for x64
* installing *source* package 'BUSpaRse' ...
** libs
"C:/rtools40/mingw64/bin/"g++ -std=gnu++11 -I"C:/Users/BIOCBU~1/BBS-3~1.11-/R/include" -DNDEBUG -I'C:/Users/biocbuild/bbs-3.11-bioc/R/library/Rcpp/include' -I'C:/Users/biocbuild/bbs-3.11-bioc/R/library/RcppArmadillo/include' -I'C:/Users/biocbuild/bbs-3.11-bioc/R/library/RcppProgress/include' -I'C:/Users/biocbuild/bbs-3.11-bioc/R/library/BH/include' -I"C:/extsoft/include" -fopenmp -O2 -Wall -mfpmath=sse -msse2 -mstackrealign -c RcppExports.cpp -o RcppExports.o
"C:/rtools40/mingw64/bin/"g++ -std=gnu++11 -I"C:/Users/BIOCBU~1/BBS-3~1.11-/R/include" -DNDEBUG -I'C:/Users/biocbuild/bbs-3.11-bioc/R/library/Rcpp/include' -I'C:/Users/biocbuild/bbs-3.11-bioc/R/library/RcppArmadillo/include' -I'C:/Users/biocbuild/bbs-3.11-bioc/R/library/RcppProgress/include' -I'C:/Users/biocbuild/bbs-3.11-bioc/R/library/BH/include' -I"C:/extsoft/include" -fopenmp -O2 -Wall -mfpmath=sse -msse2 -mstackrealign -c fill_cell_gene.cpp -o fill_cell_gene.o
In file included from C:/Users/biocbuild/bbs-3.11-bioc/R/library/BH/include/boost/mpl/aux_/na_assert.hpp:23,
from C:/Users/biocbuild/bbs-3.11-bioc/R/library/BH/include/boost/mpl/arg.hpp:25,
from C:/Users/biocbuild/bbs-3.11-bioc/R/library/BH/include/boost/mpl/placeholders.hpp:24,
from C:/Users/biocbuild/bbs-3.11-bioc/R/library/BH/include/boost/iterator/iterator_categories.hpp:16,
from C:/Users/biocbuild/bbs-3.11-bioc/R/library/BH/include/boost/iterator/iterator_adaptor.hpp:14,
from C:/Users/biocbuild/bbs-3.11-bioc/R/library/BH/include/boost/token_iterator.hpp:22,
from C:/Users/biocbuild/bbs-3.11-bioc/R/library/BH/include/boost/tokenizer.hpp:20,
from fill_cell_gene.cpp:16:
C:/Users/biocbuild/bbs-3.11-bioc/R/library/BH/include/boost/mpl/assert.hpp:194:21: warning: unnecessary parentheses in declaration of 'assert_arg' [-Wparentheses]
failed ************ (Pred::************
^
C:/Users/biocbuild/bbs-3.11-bioc/R/library/BH/include/boost/mpl/assert.hpp:199:21: warning: unnecessary parentheses in declaration of 'assert_not_arg' [-Wparentheses]
failed ************ (boost::mpl::not_<Pred>::************
^
C:/rtools40/mingw64/bin/g++ -shared -s -static-libgcc -o BUSpaRse.dll tmp.def RcppExports.o fill_cell_gene.o -fopenmp -LC:/Users/BIOCBU~1/BBS-3~1.11-/R/bin/x64 -lRlapack -LC:/Users/BIOCBU~1/BBS-3~1.11-/R/bin/x64 -lRblas -lgfortran -lm -lquadmath -LC:/extsoft/lib/x64 -LC:/extsoft/lib -LC:/Users/BIOCBU~1/BBS-3~1.11-/R/bin/x64 -lR
installing to C:/Users/biocbuild/bbs-3.11-bioc/meat/BUSpaRse.buildbin-libdir/BUSpaRse/libs/x64
** testing if installed package can be loaded
* MD5 sums
packaged installation of 'BUSpaRse' as BUSpaRse_1.2.2.zip
* DONE (BUSpaRse)