| Back to Multiple platform build/check report for BioC 3.11 |
|
This page was generated on 2020-01-16 13:52:01 -0500 (Thu, 16 Jan 2020).
| Package 209/1818 | Hostname | OS / Arch | INSTALL | BUILD | CHECK | BUILD BIN | ||||||
| BUScorrect 1.5.0 Xiangyu Luo
| malbec2 | Linux (Ubuntu 18.04.3 LTS) / x86_64 | OK | OK | OK | |||||||
| tokay2 | Windows Server 2012 R2 Standard / x64 | OK | OK | OK | OK | |||||||
| celaya2 | OS X 10.11.6 El Capitan / x86_64 | OK | OK | [ OK ] | OK |
| Package: BUScorrect |
| Version: 1.5.0 |
| Command: /Library/Frameworks/R.framework/Versions/Current/Resources/bin/R CMD check --install=check:BUScorrect.install-out.txt --library=/Library/Frameworks/R.framework/Versions/Current/Resources/library --no-vignettes --timings BUScorrect_1.5.0.tar.gz |
| StartedAt: 2020-01-16 02:23:20 -0500 (Thu, 16 Jan 2020) |
| EndedAt: 2020-01-16 02:28:37 -0500 (Thu, 16 Jan 2020) |
| EllapsedTime: 316.7 seconds |
| RetCode: 0 |
| Status: OK |
| CheckDir: BUScorrect.Rcheck |
| Warnings: 0 |
##############################################################################
##############################################################################
###
### Running command:
###
### /Library/Frameworks/R.framework/Versions/Current/Resources/bin/R CMD check --install=check:BUScorrect.install-out.txt --library=/Library/Frameworks/R.framework/Versions/Current/Resources/library --no-vignettes --timings BUScorrect_1.5.0.tar.gz
###
##############################################################################
##############################################################################
* using log directory ‘/Users/biocbuild/bbs-3.11-bioc/meat/BUScorrect.Rcheck’
* using R Under development (unstable) (2019-12-14 r77572)
* using platform: x86_64-apple-darwin15.6.0 (64-bit)
* using session charset: UTF-8
* using option ‘--no-vignettes’
* checking for file ‘BUScorrect/DESCRIPTION’ ... OK
* checking extension type ... Package
* this is package ‘BUScorrect’ version ‘1.5.0’
* checking package namespace information ... OK
* checking package dependencies ... OK
* checking if this is a source package ... OK
* checking if there is a namespace ... OK
* checking for hidden files and directories ... OK
* checking for portable file names ... OK
* checking for sufficient/correct file permissions ... OK
* checking whether package ‘BUScorrect’ can be installed ... OK
* checking installed package size ... OK
* checking package directory ... OK
* checking ‘build’ directory ... OK
* checking DESCRIPTION meta-information ... OK
* checking top-level files ... OK
* checking for left-over files ... OK
* checking index information ... OK
* checking package subdirectories ... OK
* checking R files for non-ASCII characters ... OK
* checking R files for syntax errors ... OK
* checking whether the package can be loaded ... OK
* checking whether the package can be loaded with stated dependencies ... OK
* checking whether the package can be unloaded cleanly ... OK
* checking whether the namespace can be loaded with stated dependencies ... OK
* checking whether the namespace can be unloaded cleanly ... OK
* checking dependencies in R code ... OK
* checking S3 generic/method consistency ... OK
* checking replacement functions ... OK
* checking foreign function calls ... OK
* checking R code for possible problems ... OK
* checking Rd files ... OK
* checking Rd metadata ... OK
* checking Rd cross-references ... OK
* checking for missing documentation entries ... OK
* checking for code/documentation mismatches ... OK
* checking Rd \usage sections ... OK
* checking Rd contents ... OK
* checking for unstated dependencies in examples ... OK
* checking contents of ‘data’ directory ... OK
* checking data for non-ASCII characters ... OK
* checking data for ASCII and uncompressed saves ... OK
* checking line endings in C/C++/Fortran sources/headers ... OK
* checking compiled code ... NOTE
Note: information on .o files is not available
* checking sizes of PDF files under ‘inst/doc’ ... OK
* checking files in ‘vignettes’ ... OK
* checking examples ... OK
Examples with CPU (user + system) or elapsed time > 5s
user system elapsed
BUScorrect-package 27.694 5.518 33.213
BUSgibbs 26.094 4.925 31.021
* checking for unstated dependencies in ‘tests’ ... OK
* checking tests ...
Running ‘runTests.R’
OK
* checking for unstated dependencies in vignettes ... OK
* checking package vignettes in ‘inst/doc’ ... OK
* checking running R code from vignettes ... SKIPPED
* checking re-building of vignette outputs ... SKIPPED
* checking PDF version of manual ... OK
* DONE
Status: 1 NOTE
See
‘/Users/biocbuild/bbs-3.11-bioc/meat/BUScorrect.Rcheck/00check.log’
for details.
BUScorrect.Rcheck/00install.out
############################################################################## ############################################################################## ### ### Running command: ### ### /Library/Frameworks/R.framework/Versions/Current/Resources/bin/R CMD INSTALL BUScorrect ### ############################################################################## ############################################################################## * installing to library ‘/Library/Frameworks/R.framework/Versions/4.0/Resources/library’ * installing *source* package ‘BUScorrect’ ... ** using staged installation ** libs clang -I"/Library/Frameworks/R.framework/Resources/include" -DNDEBUG -isysroot /Library/Developer/CommandLineTools/SDKs/MacOSX.sdk -I/usr/local/include -fPIC -Wall -g -O2 -c BUS_Cfunctions.c -o BUS_Cfunctions.o clang -dynamiclib -Wl,-headerpad_max_install_names -undefined dynamic_lookup -single_module -multiply_defined suppress -L/Library/Frameworks/R.framework/Resources/lib -L/usr/local/lib -o BUScorrect.so BUS_Cfunctions.o -F/Library/Frameworks/R.framework/.. -framework R -Wl,-framework -Wl,CoreFoundation installing to /Library/Frameworks/R.framework/Versions/4.0/Resources/library/00LOCK-BUScorrect/00new/BUScorrect/libs ** R ** data ** inst ** byte-compile and prepare package for lazy loading ** help *** installing help indices ** building package indices ** installing vignettes ** testing if installed package can be loaded from temporary location ** checking absolute paths in shared objects and dynamic libraries ** testing if installed package can be loaded from final location ** testing if installed package keeps a record of temporary installation path * DONE (BUScorrect)
BUScorrect.Rcheck/tests/runTests.Rout
R Under development (unstable) (2019-12-14 r77572) -- "Unsuffered Consequences"
Copyright (C) 2019 The R Foundation for Statistical Computing
Platform: x86_64-apple-darwin15.6.0 (64-bit)
R is free software and comes with ABSOLUTELY NO WARRANTY.
You are welcome to redistribute it under certain conditions.
Type 'license()' or 'licence()' for distribution details.
R is a collaborative project with many contributors.
Type 'contributors()' for more information and
'citation()' on how to cite R or R packages in publications.
Type 'demo()' for some demos, 'help()' for on-line help, or
'help.start()' for an HTML browser interface to help.
Type 'q()' to quit R.
> BiocGenerics:::testPackage("BUScorrect")
running the Gibbs sampler ...
The Gibbs sampler takes: 0.012 mins
calculating posterior means and posterior modes...
calculating BIC...
RUNIT TEST PROTOCOL -- Thu Jan 16 02:28:23 2020
***********************************************
Number of test functions: 1
Number of errors: 0
Number of failures: 0
1 Test Suite :
BUScorrect RUnit Tests - 1 test function, 0 errors, 0 failures
Number of test functions: 1
Number of errors: 0
Number of failures: 0
>
> proc.time()
user system elapsed
10.571 0.973 11.496
BUScorrect.Rcheck/BUScorrect-Ex.timings
| name | user | system | elapsed | |
| BIC_BUS | 0.770 | 0.027 | 0.796 | |
| BUScorrect-package | 27.694 | 5.518 | 33.213 | |
| BUSexample_data | 0.002 | 0.002 | 0.004 | |
| BUSgibbs | 26.094 | 4.925 | 31.021 | |
| IG_index | 0.178 | 0.002 | 0.180 | |
| Subtypes | 0.178 | 0.013 | 0.191 | |
| adjusted_values | 0.182 | 0.035 | 0.217 | |
| baseline_expression_values | 0.172 | 0.002 | 0.174 | |
| calculate_EPSR_gamma | 0.006 | 0.001 | 0.007 | |
| calculate_EPSR_mu | 0.008 | 0.001 | 0.009 | |
| calculate_EPSR_sigma_sq | 0.010 | 0.001 | 0.010 | |
| estimate_IG_indicators | 0.185 | 0.003 | 0.188 | |
| location_batch_effects | 0.168 | 0.012 | 0.181 | |
| postprob_DE | 0.151 | 0.004 | 0.156 | |
| postprob_DE_thr_fun | 0.171 | 0.004 | 0.176 | |
| print.BUSfits | 0.181 | 0.021 | 0.202 | |
| scale_batch_effects | 0.168 | 0.004 | 0.172 | |
| subtype_effects | 0.183 | 0.003 | 0.186 | |
| summary.BUSfits | 0.152 | 0.017 | 0.169 | |
| visualize_data | 0.039 | 0.002 | 0.040 | |