| Back to Multiple platform build/check report for BioC 3.11 |
|
This page was generated on 2020-10-17 11:56:11 -0400 (Sat, 17 Oct 2020).
| TO THE DEVELOPERS/MAINTAINERS OF THE BRGenomics PACKAGE: Please make sure to use the following settings in order to reproduce any error or warning you see on this page. |
| Package 203/1905 | Hostname | OS / Arch | INSTALL | BUILD | CHECK | BUILD BIN | ||||||
| BRGenomics 1.0.3 Mike DeBerardine
| malbec2 | Linux (Ubuntu 18.04.4 LTS) / x86_64 | OK | OK | OK | |||||||
| tokay2 | Windows Server 2012 R2 Standard / x64 | OK | OK | OK | [ OK ] | |||||||
| machv2 | macOS 10.14.6 Mojave / x86_64 | OK | OK | OK | OK |
| Package: BRGenomics |
| Version: 1.0.3 |
| Command: rm -rf BRGenomics.buildbin-libdir && mkdir BRGenomics.buildbin-libdir && C:\Users\biocbuild\bbs-3.11-bioc\R\bin\R.exe CMD INSTALL --merge-multiarch --build --library=BRGenomics.buildbin-libdir BRGenomics_1.0.3.tar.gz |
| StartedAt: 2020-10-17 09:59:08 -0400 (Sat, 17 Oct 2020) |
| EndedAt: 2020-10-17 10:00:09 -0400 (Sat, 17 Oct 2020) |
| EllapsedTime: 61.1 seconds |
| RetCode: 0 |
| Status: OK |
| PackageFile: BRGenomics_1.0.3.zip |
| PackageFileSize: 3.685 MiB |
##############################################################################
##############################################################################
###
### Running command:
###
### rm -rf BRGenomics.buildbin-libdir && mkdir BRGenomics.buildbin-libdir && C:\Users\biocbuild\bbs-3.11-bioc\R\bin\R.exe CMD INSTALL --merge-multiarch --build --library=BRGenomics.buildbin-libdir BRGenomics_1.0.3.tar.gz
###
##############################################################################
##############################################################################
install for i386
* installing *source* package 'BRGenomics' ...
** using staged installation
** R
** data
** inst
** byte-compile and prepare package for lazy loading
** help
*** installing help indices
converting help for package 'BRGenomics'
finding HTML links ... done
BRGenomics-package html
PROseq-data html
applyNFsGRanges html
binNDimensions html
bootstrap-signal-by-position html
genebodies html
getCountsByPositions html
getCountsByRegions html
getDESeqDataSet html
getDESeqResults html
getMaxPositionsBySignal html
getPausingIndices html
getSpikeInCounts html
getSpikeInNFs html
getStrandedCoverage html
import-functions html
import_bam html
intersectByGene html
makeGRangesBRG html
mergeGRangesData html
mergeReplicates html
subsampleBySpikeIn html
subsampleGRanges html
subsetRegionsBySignal html
tidyChromosomes html
txs_dm6_chr4 html
** building package indices
** installing vignettes
** testing if installed package can be loaded from temporary location
** testing if installed package can be loaded from final location
** testing if installed package keeps a record of temporary installation path
install for x64
* installing *source* package 'BRGenomics' ...
** testing if installed package can be loaded
* MD5 sums
packaged installation of 'BRGenomics' as BRGenomics_1.0.3.zip
* DONE (BRGenomics)