| Back to Multiple platform build/check report for BioC 3.11 |
|
This page was generated on 2020-10-17 11:56:08 -0400 (Sat, 17 Oct 2020).
| TO THE DEVELOPERS/MAINTAINERS OF THE BEARscc PACKAGE: Please make sure to use the following settings in order to reproduce any error or warning you see on this page. |
| Package 133/1905 | Hostname | OS / Arch | INSTALL | BUILD | CHECK | BUILD BIN | ||||||
| BEARscc 1.8.1 Benjamin Schuster-Boeckler
| malbec2 | Linux (Ubuntu 18.04.4 LTS) / x86_64 | OK | OK | OK | |||||||
| tokay2 | Windows Server 2012 R2 Standard / x64 | OK | OK | [ OK ] | OK | |||||||
| machv2 | macOS 10.14.6 Mojave / x86_64 | OK | OK | OK | OK |
| Package: BEARscc |
| Version: 1.8.1 |
| Command: C:\Users\biocbuild\bbs-3.11-bioc\R\bin\R.exe CMD check --force-multiarch --install=check:BEARscc.install-out.txt --library=C:\Users\biocbuild\bbs-3.11-bioc\R\library --no-vignettes --timings BEARscc_1.8.1.tar.gz |
| StartedAt: 2020-10-17 01:51:27 -0400 (Sat, 17 Oct 2020) |
| EndedAt: 2020-10-17 01:56:59 -0400 (Sat, 17 Oct 2020) |
| EllapsedTime: 331.7 seconds |
| RetCode: 0 |
| Status: OK |
| CheckDir: BEARscc.Rcheck |
| Warnings: 0 |
##############################################################################
##############################################################################
###
### Running command:
###
### C:\Users\biocbuild\bbs-3.11-bioc\R\bin\R.exe CMD check --force-multiarch --install=check:BEARscc.install-out.txt --library=C:\Users\biocbuild\bbs-3.11-bioc\R\library --no-vignettes --timings BEARscc_1.8.1.tar.gz
###
##############################################################################
##############################################################################
* using log directory 'C:/Users/biocbuild/bbs-3.11-bioc/meat/BEARscc.Rcheck'
* using R version 4.0.3 (2020-10-10)
* using platform: x86_64-w64-mingw32 (64-bit)
* using session charset: ISO8859-1
* using option '--no-vignettes'
* checking for file 'BEARscc/DESCRIPTION' ... OK
* checking extension type ... Package
* this is package 'BEARscc' version '1.8.1'
* checking package namespace information ... OK
* checking package dependencies ... OK
* checking if this is a source package ... OK
* checking if there is a namespace ... OK
* checking for hidden files and directories ... OK
* checking for portable file names ... OK
* checking whether package 'BEARscc' can be installed ... OK
* checking installed package size ... OK
* checking package directory ... OK
* checking 'build' directory ... OK
* checking DESCRIPTION meta-information ... OK
* checking top-level files ... OK
* checking for left-over files ... OK
* checking index information ... OK
* checking package subdirectories ... OK
* checking R files for non-ASCII characters ... OK
* checking R files for syntax errors ... OK
* loading checks for arch 'i386'
** checking whether the package can be loaded ... OK
** checking whether the package can be loaded with stated dependencies ... OK
** checking whether the package can be unloaded cleanly ... OK
** checking whether the namespace can be loaded with stated dependencies ... OK
** checking whether the namespace can be unloaded cleanly ... OK
* loading checks for arch 'x64'
** checking whether the package can be loaded ... OK
** checking whether the package can be loaded with stated dependencies ... OK
** checking whether the package can be unloaded cleanly ... OK
** checking whether the namespace can be loaded with stated dependencies ... OK
** checking whether the namespace can be unloaded cleanly ... OK
* checking dependencies in R code ... OK
* checking S3 generic/method consistency ... OK
* checking replacement functions ... OK
* checking foreign function calls ... OK
* checking R code for possible problems ... OK
* checking Rd files ... OK
* checking Rd metadata ... OK
* checking Rd cross-references ... OK
* checking for missing documentation entries ... OK
* checking for code/documentation mismatches ... OK
* checking Rd \usage sections ... OK
* checking Rd contents ... OK
* checking for unstated dependencies in examples ... OK
* checking contents of 'data' directory ... OK
* checking data for non-ASCII characters ... OK
* checking data for ASCII and uncompressed saves ... OK
* checking files in 'vignettes' ... OK
* checking examples ...
** running examples for arch 'i386' ... OK
Examples with CPU (user + system) or elapsed time > 5s
user system elapsed
estimate_noiseparameters 8.05 0.56 8.62
simulate_replicates 7.07 0.11 7.17
** running examples for arch 'x64' ... OK
Examples with CPU (user + system) or elapsed time > 5s
user system elapsed
estimate_noiseparameters 12.75 0.17 12.97
simulate_replicates 8.98 0.06 9.07
* checking for unstated dependencies in 'tests' ... OK
* checking tests ...
** running tests for arch 'i386' ...
Running 'testthat.R'
OK
** running tests for arch 'x64' ...
Running 'testthat.R'
OK
* checking for unstated dependencies in vignettes ... OK
* checking package vignettes in 'inst/doc' ... OK
* checking running R code from vignettes ... SKIPPED
* checking re-building of vignette outputs ... SKIPPED
* checking PDF version of manual ... OK
* DONE
Status: OK
BEARscc.Rcheck/00install.out
##############################################################################
##############################################################################
###
### Running command:
###
### C:\cygwin\bin\curl.exe -O https://malbec2.bioconductor.org/BBS/3.11/bioc/src/contrib/BEARscc_1.8.1.tar.gz && rm -rf BEARscc.buildbin-libdir && mkdir BEARscc.buildbin-libdir && C:\Users\biocbuild\bbs-3.11-bioc\R\bin\R.exe CMD INSTALL --merge-multiarch --build --library=BEARscc.buildbin-libdir BEARscc_1.8.1.tar.gz && C:\Users\biocbuild\bbs-3.11-bioc\R\bin\R.exe CMD INSTALL BEARscc_1.8.1.zip && rm BEARscc_1.8.1.tar.gz BEARscc_1.8.1.zip
###
##############################################################################
##############################################################################
% Total % Received % Xferd Average Speed Time Time Time Current
Dload Upload Total Spent Left Speed
0 0 0 0 0 0 0 0 --:--:-- --:--:-- --:--:-- 0
0 2204k 0 0 0 0 0 0 --:--:-- --:--:-- --:--:-- 0
100 2204k 100 2204k 0 0 23.5M 0 --:--:-- --:--:-- --:--:-- 25.0M
install for i386
* installing *source* package 'BEARscc' ...
** using staged installation
** R
** data
** inst
** byte-compile and prepare package for lazy loading
** help
*** installing help indices
converting help for package 'BEARscc'
finding HTML links ... done
BEARscc-package html
BEARscc_examples html
analysis_examples html
cluster_consensus html
compute_consensus html
estimate_noiseparameters html
report_cell_metrics html
report_cluster_metrics html
simulate_replicates html
** building package indices
** installing vignettes
** testing if installed package can be loaded from temporary location
** testing if installed package can be loaded from final location
** testing if installed package keeps a record of temporary installation path
install for x64
* installing *source* package 'BEARscc' ...
** testing if installed package can be loaded
* MD5 sums
packaged installation of 'BEARscc' as BEARscc_1.8.1.zip
* DONE (BEARscc)
* installing to library 'C:/Users/biocbuild/bbs-3.11-bioc/R/library'
package 'BEARscc' successfully unpacked and MD5 sums checked
|
BEARscc.Rcheck/tests_i386/testthat.Rout
R version 4.0.3 (2020-10-10) -- "Bunny-Wunnies Freak Out"
Copyright (C) 2020 The R Foundation for Statistical Computing
Platform: i386-w64-mingw32/i386 (32-bit)
R is free software and comes with ABSOLUTELY NO WARRANTY.
You are welcome to redistribute it under certain conditions.
Type 'license()' or 'licence()' for distribution details.
R is a collaborative project with many contributors.
Type 'contributors()' for more information and
'citation()' on how to cite R or R packages in publications.
Type 'demo()' for some demos, 'help()' for on-line help, or
'help.start()' for an HTML browser interface to help.
Type 'q()' to quit R.
> library(testthat)
> library(BEARscc)
>
> test_check("BEARscc")
[1] "Running BEARscc on example data to test for correct installation."
[1] "Fitting parameter alpha to establish spike-in derived noise model."
[1] "Estimating error for spike-ins with alpha = 0"
[1] "Estimating error for spike-ins with alpha = 0.25"
[1] "Estimating error for spike-ins with alpha = 0.5"
[1] "Estimating error for spike-ins with alpha = 0.75"
[1] "Estimating error for spike-ins with alpha = 1"
[1] "There are adequate spike-in drop-outs to build the drop-out model. Estimating the drop-out model now."
[1] "Injecting noise for testing..."
[1] "Creating a simulated replicated counts matrix: 1."
[1] "Creating a simulated replicated counts matrix: 2."
[1] "Creating a simulated replicated counts matrix: 3."
[1] "Creating consensus matrix for testing..."
[1] "Computing cluster and cell metrics for testing..."
== testthat results ===========================================================
[ OK: 25 | SKIPPED: 0 | WARNINGS: 13 | FAILED: 0 ]
>
> proc.time()
user system elapsed
21.00 1.07 21.96
|
BEARscc.Rcheck/tests_x64/testthat.Rout
R version 4.0.3 (2020-10-10) -- "Bunny-Wunnies Freak Out"
Copyright (C) 2020 The R Foundation for Statistical Computing
Platform: x86_64-w64-mingw32/x64 (64-bit)
R is free software and comes with ABSOLUTELY NO WARRANTY.
You are welcome to redistribute it under certain conditions.
Type 'license()' or 'licence()' for distribution details.
R is a collaborative project with many contributors.
Type 'contributors()' for more information and
'citation()' on how to cite R or R packages in publications.
Type 'demo()' for some demos, 'help()' for on-line help, or
'help.start()' for an HTML browser interface to help.
Type 'q()' to quit R.
> library(testthat)
> library(BEARscc)
>
> test_check("BEARscc")
[1] "Running BEARscc on example data to test for correct installation."
[1] "Fitting parameter alpha to establish spike-in derived noise model."
[1] "Estimating error for spike-ins with alpha = 0"
[1] "Estimating error for spike-ins with alpha = 0.25"
[1] "Estimating error for spike-ins with alpha = 0.5"
[1] "Estimating error for spike-ins with alpha = 0.75"
[1] "Estimating error for spike-ins with alpha = 1"
[1] "There are adequate spike-in drop-outs to build the drop-out model. Estimating the drop-out model now."
[1] "Injecting noise for testing..."
[1] "Creating a simulated replicated counts matrix: 1."
[1] "Creating a simulated replicated counts matrix: 2."
[1] "Creating a simulated replicated counts matrix: 3."
[1] "Creating consensus matrix for testing..."
[1] "Computing cluster and cell metrics for testing..."
== testthat results ===========================================================
[ OK: 25 | SKIPPED: 0 | WARNINGS: 13 | FAILED: 0 ]
>
> proc.time()
user system elapsed
19.03 0.40 19.43
|
|
BEARscc.Rcheck/examples_i386/BEARscc-Ex.timings
|
BEARscc.Rcheck/examples_x64/BEARscc-Ex.timings
|