| Back to Multiple platform build/check report for BioC 3.11 |
|
This page was generated on 2020-10-17 11:56:07 -0400 (Sat, 17 Oct 2020).
| TO THE DEVELOPERS/MAINTAINERS OF THE BCRANK PACKAGE: Please make sure to use the following settings in order to reproduce any error or warning you see on this page. |
| Package 126/1905 | Hostname | OS / Arch | INSTALL | BUILD | CHECK | BUILD BIN | ||||||
| BCRANK 1.50.0 Adam Ameur
| malbec2 | Linux (Ubuntu 18.04.4 LTS) / x86_64 | OK | OK | OK | |||||||
| tokay2 | Windows Server 2012 R2 Standard / x64 | OK | OK | OK | [ OK ] | |||||||
| machv2 | macOS 10.14.6 Mojave / x86_64 | OK | OK | OK | OK |
| Package: BCRANK |
| Version: 1.50.0 |
| Command: rm -rf BCRANK.buildbin-libdir && mkdir BCRANK.buildbin-libdir && C:\Users\biocbuild\bbs-3.11-bioc\R\bin\R.exe CMD INSTALL --merge-multiarch --build --library=BCRANK.buildbin-libdir BCRANK_1.50.0.tar.gz |
| StartedAt: 2020-10-17 09:53:40 -0400 (Sat, 17 Oct 2020) |
| EndedAt: 2020-10-17 09:54:11 -0400 (Sat, 17 Oct 2020) |
| EllapsedTime: 30.7 seconds |
| RetCode: 0 |
| Status: OK |
| PackageFile: BCRANK_1.50.0.zip |
| PackageFileSize: 2.333 MiB |
##############################################################################
##############################################################################
###
### Running command:
###
### rm -rf BCRANK.buildbin-libdir && mkdir BCRANK.buildbin-libdir && C:\Users\biocbuild\bbs-3.11-bioc\R\bin\R.exe CMD INSTALL --merge-multiarch --build --library=BCRANK.buildbin-libdir BCRANK_1.50.0.tar.gz
###
##############################################################################
##############################################################################
install for i386
* installing *source* package 'BCRANK' ...
** using staged installation
** libs
"C:/rtools40/mingw32/bin/"gcc -I"C:/Users/BIOCBU~1/BBS-3~1.11-/R/include" -DNDEBUG -I"C:/extsoft/include" -O2 -Wall -std=gnu99 -mfpmath=sse -msse2 -mstackrealign -c init.c -o init.o
"C:/rtools40/mingw32/bin/"gcc -I"C:/Users/BIOCBU~1/BBS-3~1.11-/R/include" -DNDEBUG -I"C:/extsoft/include" -O2 -Wall -std=gnu99 -mfpmath=sse -msse2 -mstackrealign -c match_consensus.c -o match_consensus.o
C:/rtools40/mingw32/bin/gcc -shared -s -static-libgcc -o BCRANK.dll tmp.def init.o match_consensus.o -LC:/extsoft/lib/i386 -LC:/extsoft/lib -LC:/Users/BIOCBU~1/BBS-3~1.11-/R/bin/i386 -lR
installing to C:/Users/biocbuild/bbs-3.11-bioc/meat/BCRANK.buildbin-libdir/00LOCK-BCRANK/00new/BCRANK/libs/i386
** R
** data
** inst
** byte-compile and prepare package for lazy loading
** help
*** installing help indices
converting help for package 'BCRANK'
finding HTML links ... done
BCRANK-internal html
BCRANKmatch-class html
BCRANKout html
BCRANKresult-class html
BCRANKsearch-class html
bcrank html
matchingSites html
** building package indices
** installing vignettes
** testing if installed package can be loaded from temporary location
** testing if installed package can be loaded from final location
** testing if installed package keeps a record of temporary installation path
install for x64
* installing *source* package 'BCRANK' ...
** libs
"C:/rtools40/mingw64/bin/"gcc -I"C:/Users/BIOCBU~1/BBS-3~1.11-/R/include" -DNDEBUG -I"C:/extsoft/include" -O2 -Wall -std=gnu99 -mfpmath=sse -msse2 -mstackrealign -c init.c -o init.o
"C:/rtools40/mingw64/bin/"gcc -I"C:/Users/BIOCBU~1/BBS-3~1.11-/R/include" -DNDEBUG -I"C:/extsoft/include" -O2 -Wall -std=gnu99 -mfpmath=sse -msse2 -mstackrealign -c match_consensus.c -o match_consensus.o
C:/rtools40/mingw64/bin/gcc -shared -s -static-libgcc -o BCRANK.dll tmp.def init.o match_consensus.o -LC:/extsoft/lib/x64 -LC:/extsoft/lib -LC:/Users/BIOCBU~1/BBS-3~1.11-/R/bin/x64 -lR
installing to C:/Users/biocbuild/bbs-3.11-bioc/meat/BCRANK.buildbin-libdir/BCRANK/libs/x64
** testing if installed package can be loaded
* MD5 sums
packaged installation of 'BCRANK' as BCRANK_1.50.0.zip
* DONE (BCRANK)