| Back to Multiple platform build/check report for BioC 3.11 | 
  | 
This page was generated on 2020-01-16 13:37:44 -0500 (Thu, 16 Jan 2020).
| Package 104/1818 | Hostname | OS / Arch | INSTALL | BUILD | CHECK | BUILD BIN | ||||||
| BADER 1.25.0 Andreas Neudecker 
  | malbec2 | Linux (Ubuntu 18.04.3 LTS) / x86_64 | OK | OK | OK | |||||||
| tokay2 | Windows Server 2012 R2 Standard / x64 | OK | OK | OK | OK | |||||||
| celaya2 | OS X 10.11.6 El Capitan / x86_64 | OK | [ OK ] | OK | OK | 
| Package: BADER | 
| Version: 1.25.0 | 
| Command: /Library/Frameworks/R.framework/Versions/Current/Resources/bin/R CMD build --keep-empty-dirs --no-resave-data BADER | 
| StartedAt: 2020-01-15 21:13:50 -0500 (Wed, 15 Jan 2020) | 
| EndedAt: 2020-01-15 21:14:15 -0500 (Wed, 15 Jan 2020) | 
| EllapsedTime: 24.7 seconds | 
| RetCode: 0 | 
| Status: OK | 
| PackageFile: BADER_1.25.0.tar.gz | 
| PackageFileSize: 178.9 KiB | 
############################################################################## ############################################################################## ### ### Running command: ### ### /Library/Frameworks/R.framework/Versions/Current/Resources/bin/R CMD build --keep-empty-dirs --no-resave-data BADER ### ############################################################################## ############################################################################## * checking for file ‘BADER/DESCRIPTION’ ... OK * preparing ‘BADER’: * checking DESCRIPTION meta-information ... OK * cleaning src * installing the package to build vignettes * creating vignettes ... OK * cleaning src * checking for LF line-endings in source and make files and shell scripts * checking for empty or unneeded directories * building ‘BADER_1.25.0.tar.gz’