| Back to Multiple platform build/check report for BioC 3.11 |
|
This page was generated on 2020-10-17 11:56:04 -0400 (Sat, 17 Oct 2020).
| TO THE DEVELOPERS/MAINTAINERS OF THE AlphaBeta PACKAGE: Please make sure to use the following settings in order to reproduce any error or warning you see on this page. |
| Package 44/1905 | Hostname | OS / Arch | INSTALL | BUILD | CHECK | BUILD BIN | ||||||
| AlphaBeta 1.2.3 Yadollah Shahryary Dizaji
| malbec2 | Linux (Ubuntu 18.04.4 LTS) / x86_64 | OK | OK | OK | |||||||
| tokay2 | Windows Server 2012 R2 Standard / x64 | [ OK ] | OK | OK | OK | |||||||
| machv2 | macOS 10.14.6 Mojave / x86_64 | OK | OK | OK | OK |
| Package: AlphaBeta |
| Version: 1.2.3 |
| Command: C:\cygwin\bin\curl.exe -O https://malbec2.bioconductor.org/BBS/3.11/bioc/src/contrib/AlphaBeta_1.2.3.tar.gz && rm -rf AlphaBeta.buildbin-libdir && mkdir AlphaBeta.buildbin-libdir && C:\Users\biocbuild\bbs-3.11-bioc\R\bin\R.exe CMD INSTALL --merge-multiarch --build --library=AlphaBeta.buildbin-libdir AlphaBeta_1.2.3.tar.gz && C:\Users\biocbuild\bbs-3.11-bioc\R\bin\R.exe CMD INSTALL AlphaBeta_1.2.3.zip && rm AlphaBeta_1.2.3.tar.gz AlphaBeta_1.2.3.zip |
| StartedAt: 2020-10-16 18:24:09 -0400 (Fri, 16 Oct 2020) |
| EndedAt: 2020-10-16 18:24:59 -0400 (Fri, 16 Oct 2020) |
| EllapsedTime: 50.0 seconds |
| RetCode: 0 |
| Status: OK |
##############################################################################
##############################################################################
###
### Running command:
###
### C:\cygwin\bin\curl.exe -O https://malbec2.bioconductor.org/BBS/3.11/bioc/src/contrib/AlphaBeta_1.2.3.tar.gz && rm -rf AlphaBeta.buildbin-libdir && mkdir AlphaBeta.buildbin-libdir && C:\Users\biocbuild\bbs-3.11-bioc\R\bin\R.exe CMD INSTALL --merge-multiarch --build --library=AlphaBeta.buildbin-libdir AlphaBeta_1.2.3.tar.gz && C:\Users\biocbuild\bbs-3.11-bioc\R\bin\R.exe CMD INSTALL AlphaBeta_1.2.3.zip && rm AlphaBeta_1.2.3.tar.gz AlphaBeta_1.2.3.zip
###
##############################################################################
##############################################################################
% Total % Received % Xferd Average Speed Time Time Time Current
Dload Upload Total Spent Left Speed
0 0 0 0 0 0 0 0 --:--:-- --:--:-- --:--:-- 0
100 2527k 100 2527k 0 0 22.2M 0 --:--:-- --:--:-- --:--:-- 23.7M
install for i386
* installing *source* package 'AlphaBeta' ...
** using staged installation
** R
** inst
** byte-compile and prepare package for lazy loading
** help
*** installing help indices
converting help for package 'AlphaBeta'
finding HTML links ... done
ABneutral html
ABneutralSOMA html
ABnull html
ABplot html
ABselectMM html
ABselectMMSOMA html
ABselectUU html
ABselectUUSOMA html
BOOTmodel html
FtestRSS html
buildPedigree html
dMatrix html
plotPedigree html
rc.meth.lvl html
** building package indices
** installing vignettes
** testing if installed package can be loaded from temporary location
** testing if installed package can be loaded from final location
** testing if installed package keeps a record of temporary installation path
install for x64
* installing *source* package 'AlphaBeta' ...
** testing if installed package can be loaded
* MD5 sums
packaged installation of 'AlphaBeta' as AlphaBeta_1.2.3.zip
* DONE (AlphaBeta)
* installing to library 'C:/Users/biocbuild/bbs-3.11-bioc/R/library'
package 'AlphaBeta' successfully unpacked and MD5 sums checked