| Back to Multiple platform build/check report for BioC 3.11 |
|
This page was generated on 2020-10-17 11:56:03 -0400 (Sat, 17 Oct 2020).
| TO THE DEVELOPERS/MAINTAINERS OF THE AffyExpress PACKAGE: Please make sure to use the following settings in order to reproduce any error or warning you see on this page. |
| Package 28/1905 | Hostname | OS / Arch | INSTALL | BUILD | CHECK | BUILD BIN | ||||||
| AffyExpress 1.54.0 Xuejun Arthur Li
| malbec2 | Linux (Ubuntu 18.04.4 LTS) / x86_64 | OK | OK | OK | |||||||
| tokay2 | Windows Server 2012 R2 Standard / x64 | OK | OK | OK | [ OK ] | |||||||
| machv2 | macOS 10.14.6 Mojave / x86_64 | OK | OK | OK | OK |
| Package: AffyExpress |
| Version: 1.54.0 |
| Command: rm -rf AffyExpress.buildbin-libdir && mkdir AffyExpress.buildbin-libdir && C:\Users\biocbuild\bbs-3.11-bioc\R\bin\R.exe CMD INSTALL --merge-multiarch --build --library=AffyExpress.buildbin-libdir AffyExpress_1.54.0.tar.gz |
| StartedAt: 2020-10-17 09:46:04 -0400 (Sat, 17 Oct 2020) |
| EndedAt: 2020-10-17 09:46:25 -0400 (Sat, 17 Oct 2020) |
| EllapsedTime: 21.0 seconds |
| RetCode: 0 |
| Status: OK |
| PackageFile: AffyExpress_1.54.0.zip |
| PackageFileSize: 731.9 KiB |
##############################################################################
##############################################################################
###
### Running command:
###
### rm -rf AffyExpress.buildbin-libdir && mkdir AffyExpress.buildbin-libdir && C:\Users\biocbuild\bbs-3.11-bioc\R\bin\R.exe CMD INSTALL --merge-multiarch --build --library=AffyExpress.buildbin-libdir AffyExpress_1.54.0.tar.gz
###
##############################################################################
##############################################################################
install for i386
* installing *source* package 'AffyExpress' ...
** using staged installation
** R
** data
** inst
** byte-compile and prepare package for lazy loading
** help
*** installing help indices
converting help for package 'AffyExpress'
finding HTML links ... done
AffyInteraction html
AffyQA html
AffyRegress html
Filter html
import.data html
interaction.result2html html
make.contrast html
make.design html
post.interaction html
pre.process html
regress html
result2html html
select.sig.gene html
testData html
** building package indices
** installing vignettes
** testing if installed package can be loaded from temporary location
** testing if installed package can be loaded from final location
** testing if installed package keeps a record of temporary installation path
install for x64
* installing *source* package 'AffyExpress' ...
** testing if installed package can be loaded
* MD5 sums
packaged installation of 'AffyExpress' as AffyExpress_1.54.0.zip
* DONE (AffyExpress)