| Back to Multiple platform build/check report for BioC 3.11 | 
  | 
This page was generated on 2020-10-17 11:56:03 -0400 (Sat, 17 Oct 2020).
| TO THE DEVELOPERS/MAINTAINERS OF THE AffiXcan PACKAGE: Please make sure to use the following settings in order to reproduce any error or warning you see on this page. | 
| Package 21/1905 | Hostname | OS / Arch | INSTALL | BUILD | CHECK | BUILD BIN | ||||||
| AffiXcan 1.6.0 Alessandro Lussana 
  | malbec2 | Linux (Ubuntu 18.04.4 LTS) / x86_64 | OK | OK | OK | |||||||
| tokay2 | Windows Server 2012 R2 Standard / x64 | OK | OK | OK | [ OK ] | |||||||
| machv2 | macOS 10.14.6 Mojave / x86_64 | OK | OK | OK | OK | 
| Package: AffiXcan | 
| Version: 1.6.0 | 
| Command: rm -rf AffiXcan.buildbin-libdir && mkdir AffiXcan.buildbin-libdir && C:\Users\biocbuild\bbs-3.11-bioc\R\bin\R.exe CMD INSTALL --merge-multiarch --build --library=AffiXcan.buildbin-libdir AffiXcan_1.6.0.tar.gz | 
| StartedAt: 2020-10-17 09:45:22 -0400 (Sat, 17 Oct 2020) | 
| EndedAt: 2020-10-17 09:46:04 -0400 (Sat, 17 Oct 2020) | 
| EllapsedTime: 42.7 seconds | 
| RetCode: 0 | 
| Status: OK | 
| PackageFile: AffiXcan_1.6.0.zip | 
| PackageFileSize: 2.053 MiB | 
##############################################################################
##############################################################################
###
### Running command:
###
###   rm -rf AffiXcan.buildbin-libdir && mkdir AffiXcan.buildbin-libdir && C:\Users\biocbuild\bbs-3.11-bioc\R\bin\R.exe CMD INSTALL --merge-multiarch --build --library=AffiXcan.buildbin-libdir AffiXcan_1.6.0.tar.gz
###
##############################################################################
##############################################################################
install for i386
* installing *source* package 'AffiXcan' ...
** using staged installation
** R
** data
** inst
** byte-compile and prepare package for lazy loading
** help
*** installing help indices
  converting help for package 'AffiXcan'
    finding HTML links ... done
    AffiXcan-package                        html  
    affiXcanBs                              html  
    affiXcanGReX                            html  
    affiXcanImpute                          html  
    affiXcanPca                             html  
    affiXcanPcs                             html  
    affiXcanTrain                           html  
    assoc2list                              html  
    computeBs                               html  
    computeCorrelation                      html  
    computeExpr                             html  
    computePca                              html  
    computePcs                              html  
    computeRSquared                         html  
    exprMatrix                              html  
    overlookRegions                         html  
    regionAssoc                             html  
    subsetKFold                             html  
    trainingCovariates                      html  
** building package indices
** installing vignettes
** testing if installed package can be loaded from temporary location
** testing if installed package can be loaded from final location
** testing if installed package keeps a record of temporary installation path
install for x64
* installing *source* package 'AffiXcan' ...
** testing if installed package can be loaded
* MD5 sums
packaged installation of 'AffiXcan' as AffiXcan_1.6.0.zip
* DONE (AffiXcan)