| Back to Multiple platform build/check report for BioC 3.11 |
|
This page was generated on 2020-10-17 11:54:23 -0400 (Sat, 17 Oct 2020).
| TO THE DEVELOPERS/MAINTAINERS OF THE ASpli PACKAGE: Please make sure to use the following settings in order to reproduce any error or warning you see on this page. |
| Package 92/1905 | Hostname | OS / Arch | INSTALL | BUILD | CHECK | BUILD BIN | ||||||
| ASpli 1.14.0 Estefania Mancini
| malbec2 | Linux (Ubuntu 18.04.4 LTS) / x86_64 | OK | OK | [ OK ] | |||||||
| tokay2 | Windows Server 2012 R2 Standard / x64 | OK | OK | OK | OK | |||||||
| machv2 | macOS 10.14.6 Mojave / x86_64 | OK | OK | OK | OK |
| Package: ASpli |
| Version: 1.14.0 |
| Command: /home/biocbuild/bbs-3.11-bioc/R/bin/R CMD check --install=check:ASpli.install-out.txt --library=/home/biocbuild/bbs-3.11-bioc/R/library --no-vignettes --timings ASpli_1.14.0.tar.gz |
| StartedAt: 2020-10-16 22:57:56 -0400 (Fri, 16 Oct 2020) |
| EndedAt: 2020-10-16 23:05:33 -0400 (Fri, 16 Oct 2020) |
| EllapsedTime: 457.1 seconds |
| RetCode: 0 |
| Status: OK |
| CheckDir: ASpli.Rcheck |
| Warnings: 0 |
##############################################################################
##############################################################################
###
### Running command:
###
### /home/biocbuild/bbs-3.11-bioc/R/bin/R CMD check --install=check:ASpli.install-out.txt --library=/home/biocbuild/bbs-3.11-bioc/R/library --no-vignettes --timings ASpli_1.14.0.tar.gz
###
##############################################################################
##############################################################################
* using log directory ‘/home/biocbuild/bbs-3.11-bioc/meat/ASpli.Rcheck’
* using R version 4.0.3 (2020-10-10)
* using platform: x86_64-pc-linux-gnu (64-bit)
* using session charset: UTF-8
* using option ‘--no-vignettes’
* checking for file ‘ASpli/DESCRIPTION’ ... OK
* checking extension type ... Package
* this is package ‘ASpli’ version ‘1.14.0’
* checking package namespace information ... OK
* checking package dependencies ... OK
* checking if this is a source package ... OK
* checking if there is a namespace ... OK
* checking for hidden files and directories ... OK
* checking for portable file names ... OK
* checking for sufficient/correct file permissions ... OK
* checking whether package ‘ASpli’ can be installed ... OK
* checking installed package size ... OK
* checking package directory ... OK
* checking ‘build’ directory ... OK
* checking DESCRIPTION meta-information ... OK
* checking top-level files ... OK
* checking for left-over files ... OK
* checking index information ... OK
* checking package subdirectories ... OK
* checking R files for non-ASCII characters ... OK
* checking R files for syntax errors ... OK
* checking whether the package can be loaded ... OK
* checking whether the package can be loaded with stated dependencies ... OK
* checking whether the package can be unloaded cleanly ... OK
* checking whether the namespace can be loaded with stated dependencies ... OK
* checking whether the namespace can be unloaded cleanly ... OK
* checking dependencies in R code ... OK
* checking S3 generic/method consistency ... OK
* checking replacement functions ... OK
* checking foreign function calls ... OK
* checking R code for possible problems ... OK
* checking Rd files ... OK
* checking Rd metadata ... OK
* checking Rd cross-references ... OK
* checking for missing documentation entries ... OK
* checking for code/documentation mismatches ... OK
* checking Rd \usage sections ... OK
* checking Rd contents ... OK
* checking for unstated dependencies in examples ... OK
* checking files in ‘vignettes’ ... OK
* checking examples ... OK
Examples with CPU (user + system) or elapsed time > 5s
user system elapsed
mergeBinDUAS-method 10.426 0.032 10.458
ASpli-package 9.137 0.168 13.329
junctionDUreport 7.125 0.000 7.125
subset-methods 7.067 0.004 7.071
AsDiscover-methods 6.633 0.000 6.638
DUreportBinSplice-method 6.025 0.020 6.057
readCounts 6.040 0.004 6.045
containsJunctions-function 6.023 0.000 6.024
DUreport 5.693 0.012 5.710
filterDU-method 5.233 0.000 5.233
rds 5.060 0.000 5.061
* checking for unstated dependencies in vignettes ... OK
* checking package vignettes in ‘inst/doc’ ... OK
* checking running R code from vignettes ... SKIPPED
* checking re-building of vignette outputs ... SKIPPED
* checking PDF version of manual ... OK
* DONE
Status: OK
ASpli.Rcheck/00install.out
############################################################################## ############################################################################## ### ### Running command: ### ### /home/biocbuild/bbs-3.11-bioc/R/bin/R CMD INSTALL ASpli ### ############################################################################## ############################################################################## * installing to library ‘/home/biocbuild/bbs-3.11-bioc/R/library’ * installing *source* package ‘ASpli’ ... ** using staged installation ** R ** inst ** byte-compile and prepare package for lazy loading ** help *** installing help indices ** building package indices ** installing vignettes ** testing if installed package can be loaded from temporary location ** testing if installed package can be loaded from final location ** testing if installed package keeps a record of temporary installation path * DONE (ASpli)
ASpli.Rcheck/ASpli-Ex.timings
| name | user | system | elapsed | |
| ASpli-package | 9.137 | 0.168 | 13.329 | |
| AsDiscover-methods | 6.633 | 0.000 | 6.638 | |
| DUreport | 5.693 | 0.012 | 5.710 | |
| DUreportBinSplice-method | 6.025 | 0.020 | 6.057 | |
| acc_AS | 0.019 | 0.004 | 0.023 | |
| acc_DU | 0.007 | 0.000 | 0.007 | |
| acc_counts | 0.008 | 0.008 | 0.016 | |
| acc_features | 0.317 | 0.000 | 0.317 | |
| binGenome | 2.756 | 0.004 | 2.760 | |
| containsJunctions-function | 6.023 | 0.000 | 6.024 | |
| example_data | 0.559 | 0.008 | 0.568 | |
| filterDU-method | 5.233 | 0.000 | 5.233 | |
| getConditions-function | 0.005 | 0.000 | 0.005 | |
| junctionDUreport | 7.125 | 0.000 | 7.125 | |
| loadBAM | 0.136 | 0.004 | 0.141 | |
| mergeBinDUAS-method | 10.426 | 0.032 | 10.458 | |
| rds | 5.060 | 0.000 | 5.061 | |
| readCounts | 6.040 | 0.004 | 6.045 | |
| subset-methods | 7.067 | 0.004 | 7.071 | |