| Back to Multiple platform build/check report for BioC 3.11 | 
  | 
This page was generated on 2020-10-17 11:56:03 -0400 (Sat, 17 Oct 2020).
| TO THE DEVELOPERS/MAINTAINERS OF THE ALDEx2 PACKAGE: Please make sure to use the following settings in order to reproduce any error or warning you see on this page. | 
| Package 41/1905 | Hostname | OS / Arch | INSTALL | BUILD | CHECK | BUILD BIN | ||||||
| ALDEx2 1.20.0 Greg Gloor 
  | malbec2 | Linux (Ubuntu 18.04.4 LTS) / x86_64 | OK | OK | OK | |||||||
| tokay2 | Windows Server 2012 R2 Standard / x64 | OK | OK | [ OK ] | OK | |||||||
| machv2 | macOS 10.14.6 Mojave / x86_64 | OK | OK | OK | OK | 
| Package: ALDEx2 | 
| Version: 1.20.0 | 
| Command: C:\Users\biocbuild\bbs-3.11-bioc\R\bin\R.exe CMD check --force-multiarch --install=check:ALDEx2.install-out.txt --library=C:\Users\biocbuild\bbs-3.11-bioc\R\library --no-vignettes --timings ALDEx2_1.20.0.tar.gz | 
| StartedAt: 2020-10-17 01:30:00 -0400 (Sat, 17 Oct 2020) | 
| EndedAt: 2020-10-17 01:35:54 -0400 (Sat, 17 Oct 2020) | 
| EllapsedTime: 353.5 seconds | 
| RetCode: 0 | 
| Status: OK | 
| CheckDir: ALDEx2.Rcheck | 
| Warnings: 0 | 
##############################################################################
##############################################################################
###
### Running command:
###
###   C:\Users\biocbuild\bbs-3.11-bioc\R\bin\R.exe CMD check --force-multiarch --install=check:ALDEx2.install-out.txt --library=C:\Users\biocbuild\bbs-3.11-bioc\R\library --no-vignettes --timings ALDEx2_1.20.0.tar.gz
###
##############################################################################
##############################################################################
* using log directory 'C:/Users/biocbuild/bbs-3.11-bioc/meat/ALDEx2.Rcheck'
* using R version 4.0.3 (2020-10-10)
* using platform: x86_64-w64-mingw32 (64-bit)
* using session charset: ISO8859-1
* using option '--no-vignettes'
* checking for file 'ALDEx2/DESCRIPTION' ... OK
* checking extension type ... Package
* this is package 'ALDEx2' version '1.20.0'
* checking package namespace information ... OK
* checking package dependencies ... OK
* checking if this is a source package ... OK
* checking if there is a namespace ... OK
* checking for hidden files and directories ... OK
* checking for portable file names ... OK
* checking whether package 'ALDEx2' can be installed ... OK
* checking installed package size ... OK
* checking package directory ... OK
* checking 'build' directory ... OK
* checking DESCRIPTION meta-information ... OK
* checking top-level files ... OK
* checking for left-over files ... OK
* checking index information ... OK
* checking package subdirectories ... OK
* checking R files for non-ASCII characters ... OK
* checking R files for syntax errors ... OK
* loading checks for arch 'i386'
** checking whether the package can be loaded ... OK
** checking whether the package can be loaded with stated dependencies ... OK
** checking whether the package can be unloaded cleanly ... OK
** checking whether the namespace can be loaded with stated dependencies ... OK
** checking whether the namespace can be unloaded cleanly ... OK
* loading checks for arch 'x64'
** checking whether the package can be loaded ... OK
** checking whether the package can be loaded with stated dependencies ... OK
** checking whether the package can be unloaded cleanly ... OK
** checking whether the namespace can be loaded with stated dependencies ... OK
** checking whether the namespace can be unloaded cleanly ... OK
* checking dependencies in R code ... OK
* checking S3 generic/method consistency ... OK
* checking replacement functions ... OK
* checking foreign function calls ... OK
* checking R code for possible problems ... OK
* checking Rd files ... OK
* checking Rd metadata ... OK
* checking Rd cross-references ... OK
* checking for missing documentation entries ... OK
* checking for code/documentation mismatches ... OK
* checking Rd \usage sections ... OK
* checking Rd contents ... OK
* checking for unstated dependencies in examples ... OK
* checking contents of 'data' directory ... OK
* checking data for non-ASCII characters ... OK
* checking data for ASCII and uncompressed saves ... OK
* checking files in 'vignettes' ... OK
* checking examples ...
** running examples for arch 'i386' ... OK
Examples with CPU (user + system) or elapsed time > 5s
                 user system elapsed
aldex.corr       9.53   0.22    9.77
aldex.glm.effect 7.02   0.00    7.02
** running examples for arch 'x64' ... OK
Examples with CPU (user + system) or elapsed time > 5s
                 user system elapsed
aldex.corr       8.76   0.09    8.86
aldex.glm.effect 8.64   0.00    8.64
* checking for unstated dependencies in 'tests' ... OK
* checking tests ...
** running tests for arch 'i386' ...
  Running 'testthat.R'
 OK
** running tests for arch 'x64' ...
  Running 'testthat.R'
 OK
* checking for unstated dependencies in vignettes ... OK
* checking package vignettes in 'inst/doc' ... OK
* checking running R code from vignettes ... SKIPPED
* checking re-building of vignette outputs ... SKIPPED
* checking PDF version of manual ... OK
* DONE
Status: OK
ALDEx2.Rcheck/00install.out
##############################################################################
##############################################################################
###
### Running command:
###
###   C:\cygwin\bin\curl.exe -O https://malbec2.bioconductor.org/BBS/3.11/bioc/src/contrib/ALDEx2_1.20.0.tar.gz && rm -rf ALDEx2.buildbin-libdir && mkdir ALDEx2.buildbin-libdir && C:\Users\biocbuild\bbs-3.11-bioc\R\bin\R.exe CMD INSTALL --merge-multiarch --build --library=ALDEx2.buildbin-libdir ALDEx2_1.20.0.tar.gz && C:\Users\biocbuild\bbs-3.11-bioc\R\bin\R.exe CMD INSTALL ALDEx2_1.20.0.zip && rm ALDEx2_1.20.0.tar.gz ALDEx2_1.20.0.zip
###
##############################################################################
##############################################################################
  % Total    % Received % Xferd  Average Speed   Time    Time     Time  Current
                                 Dload  Upload   Total   Spent    Left  Speed
  0     0    0     0    0     0      0      0 --:--:-- --:--:-- --:--:--     0
100 1890k  100 1890k    0     0  23.4M      0 --:--:-- --:--:-- --:--:-- 25.2M
install for i386
* installing *source* package 'ALDEx2' ...
** using staged installation
** R
** data
** inst
** byte-compile and prepare package for lazy loading
** help
*** installing help indices
  converting help for package 'ALDEx2'
    finding HTML links ... done
    ALDEx2m-package                         html  
    aldex                                   html  
    aldex.clr-class                         html  
    aldex.clr.function-methods              html  
    aldex.corr                              html  
    aldex.effect                            html  
    aldex.glm                               html  
    aldex.glm.effect                        html  
    aldex.kw                                html  
    aldex.plotFeature                       html  
    aldex.set.mode                          html  
    aldex.ttest                             html  
    expectedDistance                        html  
    getDenom-method                         html  
    getFeatureNames-method                  html  
    getFeatures-method                      html  
    getMonteCarloInstances-method           html  
    getMonteCarloReplicate-method           html  
    getMonteCarloSample-method              html  
    getReads-method                         html  
    getSampleIDs-method                     html  
    numConditions-method                    html  
    numFeatures-method                      html  
    numMCInstances-method                   html  
    plot.aldex                              html  
    selex                                   html  
    synth2                                  html  
** building package indices
** installing vignettes
** testing if installed package can be loaded from temporary location
** testing if installed package can be loaded from final location
** testing if installed package keeps a record of temporary installation path
install for x64
* installing *source* package 'ALDEx2' ...
** testing if installed package can be loaded
* MD5 sums
packaged installation of 'ALDEx2' as ALDEx2_1.20.0.zip
* DONE (ALDEx2)
* installing to library 'C:/Users/biocbuild/bbs-3.11-bioc/R/library'
package 'ALDEx2' successfully unpacked and MD5 sums checked
| 
 ALDEx2.Rcheck/tests_i386/testthat.Rout 
R version 4.0.3 (2020-10-10) -- "Bunny-Wunnies Freak Out"
Copyright (C) 2020 The R Foundation for Statistical Computing
Platform: i386-w64-mingw32/i386 (32-bit)
R is free software and comes with ABSOLUTELY NO WARRANTY.
You are welcome to redistribute it under certain conditions.
Type 'license()' or 'licence()' for distribution details.
R is a collaborative project with many contributors.
Type 'contributors()' for more information and
'citation()' on how to cite R or R packages in publications.
Type 'demo()' for some demos, 'help()' for on-line help, or
'help.start()' for an HTML browser interface to help.
Type 'q()' to quit R.
> library(testthat)
> library(ALDEx2)
Loading required package: zCompositions
Loading required package: MASS
Loading required package: NADA
Loading required package: survival
Attaching package: 'NADA'
The following object is masked from 'package:stats':
    cor
Loading required package: truncnorm
> 
> test_check("ALDEx2")
== testthat results  ===========================================================
[ OK: 22 | SKIPPED: 0 | WARNINGS: 4 | FAILED: 0 ]
> 
> proc.time()
   user  system elapsed 
  41.70    2.18   43.89 
 | 
 ALDEx2.Rcheck/tests_x64/testthat.Rout 
R version 4.0.3 (2020-10-10) -- "Bunny-Wunnies Freak Out"
Copyright (C) 2020 The R Foundation for Statistical Computing
Platform: x86_64-w64-mingw32/x64 (64-bit)
R is free software and comes with ABSOLUTELY NO WARRANTY.
You are welcome to redistribute it under certain conditions.
Type 'license()' or 'licence()' for distribution details.
R is a collaborative project with many contributors.
Type 'contributors()' for more information and
'citation()' on how to cite R or R packages in publications.
Type 'demo()' for some demos, 'help()' for on-line help, or
'help.start()' for an HTML browser interface to help.
Type 'q()' to quit R.
> library(testthat)
> library(ALDEx2)
Loading required package: zCompositions
Loading required package: MASS
Loading required package: NADA
Loading required package: survival
Attaching package: 'NADA'
The following object is masked from 'package:stats':
    cor
Loading required package: truncnorm
> 
> test_check("ALDEx2")
== testthat results  ===========================================================
[ OK: 22 | SKIPPED: 0 | WARNINGS: 4 | FAILED: 0 ]
> 
> proc.time()
   user  system elapsed 
  44.06    1.37   45.42 
 | 
| 
 ALDEx2.Rcheck/examples_i386/ALDEx2-Ex.timings 
  | 
 ALDEx2.Rcheck/examples_x64/ALDEx2-Ex.timings 
  |