| Back to Multiple platform build/check report for BioC 3.10 |
|
This page was generated on 2020-04-15 12:27:35 -0400 (Wed, 15 Apr 2020).
| Package 1820/1823 | Hostname | OS / Arch | INSTALL | BUILD | CHECK | BUILD BIN | ||||||
| yarn 1.12.0 Joseph N Paulson
| malbec1 | Linux (Ubuntu 18.04.4 LTS) / x86_64 | OK | OK | OK | |||||||
| tokay1 | Windows Server 2012 R2 Standard / x64 | [ OK ] | OK | WARNINGS | OK | |||||||
| merida1 | OS X 10.11.6 El Capitan / x86_64 | OK | OK | OK | OK |
| Package: yarn |
| Version: 1.12.0 |
| Command: C:\cygwin\bin\curl.exe -O https://malbec1.bioconductor.org/BBS/3.10/bioc/src/contrib/yarn_1.12.0.tar.gz && rm -rf yarn.buildbin-libdir && mkdir yarn.buildbin-libdir && C:\Users\biocbuild\bbs-3.10-bioc\R\bin\R.exe CMD INSTALL --merge-multiarch --build --library=yarn.buildbin-libdir yarn_1.12.0.tar.gz && C:\Users\biocbuild\bbs-3.10-bioc\R\bin\R.exe CMD INSTALL yarn_1.12.0.zip && rm yarn_1.12.0.tar.gz yarn_1.12.0.zip |
| StartedAt: 2020-04-14 20:35:04 -0400 (Tue, 14 Apr 2020) |
| EndedAt: 2020-04-14 20:36:13 -0400 (Tue, 14 Apr 2020) |
| EllapsedTime: 69.2 seconds |
| RetCode: 0 |
| Status: OK |
##############################################################################
##############################################################################
###
### Running command:
###
### C:\cygwin\bin\curl.exe -O https://malbec1.bioconductor.org/BBS/3.10/bioc/src/contrib/yarn_1.12.0.tar.gz && rm -rf yarn.buildbin-libdir && mkdir yarn.buildbin-libdir && C:\Users\biocbuild\bbs-3.10-bioc\R\bin\R.exe CMD INSTALL --merge-multiarch --build --library=yarn.buildbin-libdir yarn_1.12.0.tar.gz && C:\Users\biocbuild\bbs-3.10-bioc\R\bin\R.exe CMD INSTALL yarn_1.12.0.zip && rm yarn_1.12.0.tar.gz yarn_1.12.0.zip
###
##############################################################################
##############################################################################
% Total % Received % Xferd Average Speed Time Time Time Current
Dload Upload Total Spent Left Speed
0 0 0 0 0 0 0 0 --:--:-- --:--:-- --:--:-- 0
0 2706k 0 0 0 0 0 0 --:--:-- --:--:-- --:--:-- 0
100 2706k 100 2706k 0 0 4348k 0 --:--:-- --:--:-- --:--:-- 4365k
install for i386
* installing *source* package 'yarn' ...
** using staged installation
** R
** data
*** moving datasets to lazyload DB
** inst
** byte-compile and prepare package for lazy loading
** help
*** installing help indices
converting help for package 'yarn'
finding HTML links ... done
annotateFromBiomart html
bladder html
Rd warning: C:/Users/biocbuild/bbs-3.10-bioc/tmpdir/RtmpML62C5/R.INSTALL2bb430f27462/yarn/man/bladder.Rd:7: file link 'ExpressionSet' in package 'Biobase' does not exist and so has been treated as a topic
checkMisAnnotation html
checkTissuesToMerge html
downloadGTEx html
extractMatrix html
filterGenes html
filterLowGenes html
filterMissingGenes html
filterSamples html
normalizeTissueAware html
plotCMDS html
plotDensity html
plotHeatmap html
qsmooth html
qstats html
skin html
Rd warning: C:/Users/biocbuild/bbs-3.10-bioc/tmpdir/RtmpML62C5/R.INSTALL2bb430f27462/yarn/man/skin.Rd:7: file link 'ExpressionSet' in package 'Biobase' does not exist and so has been treated as a topic
** building package indices
** installing vignettes
** testing if installed package can be loaded from temporary location
** testing if installed package can be loaded from final location
** testing if installed package keeps a record of temporary installation path
install for x64
* installing *source* package 'yarn' ...
** testing if installed package can be loaded
* MD5 sums
packaged installation of 'yarn' as yarn_1.12.0.zip
* DONE (yarn)
* installing to library 'C:/Users/biocbuild/bbs-3.10-bioc/R/library'
package 'yarn' successfully unpacked and MD5 sums checked