| Back to Multiple platform build/check report for BioC 3.10 |
|
This page was generated on 2020-04-15 12:23:07 -0400 (Wed, 15 Apr 2020).
| Package 1801/1823 | Hostname | OS / Arch | INSTALL | BUILD | CHECK | BUILD BIN | ||||||
| wavClusteR 2.20.0 Federico Comoglio
| malbec1 | Linux (Ubuntu 18.04.4 LTS) / x86_64 | OK | OK | OK | |||||||
| tokay1 | Windows Server 2012 R2 Standard / x64 | OK | OK | OK | [ OK ] | |||||||
| merida1 | OS X 10.11.6 El Capitan / x86_64 | OK | OK | OK | OK |
| Package: wavClusteR |
| Version: 2.20.0 |
| Command: rm -rf wavClusteR.buildbin-libdir && mkdir wavClusteR.buildbin-libdir && C:\Users\biocbuild\bbs-3.10-bioc\R\bin\R.exe CMD INSTALL --merge-multiarch --build --library=wavClusteR.buildbin-libdir wavClusteR_2.20.0.tar.gz |
| StartedAt: 2020-04-15 09:53:37 -0400 (Wed, 15 Apr 2020) |
| EndedAt: 2020-04-15 09:54:37 -0400 (Wed, 15 Apr 2020) |
| EllapsedTime: 59.7 seconds |
| RetCode: 0 |
| Status: OK |
| PackageFile: wavClusteR_2.20.0.zip |
| PackageFileSize: 615.5 KiB |
##############################################################################
##############################################################################
###
### Running command:
###
### rm -rf wavClusteR.buildbin-libdir && mkdir wavClusteR.buildbin-libdir && C:\Users\biocbuild\bbs-3.10-bioc\R\bin\R.exe CMD INSTALL --merge-multiarch --build --library=wavClusteR.buildbin-libdir wavClusteR_2.20.0.tar.gz
###
##############################################################################
##############################################################################
install for i386
* installing *source* package 'wavClusteR' ...
** using staged installation
** R
** data
** inst
** byte-compile and prepare package for lazy loading
** help
*** installing help indices
converting help for package 'wavClusteR'
finding HTML links ... done
FitMixtureModel html
annotateClusters html
estimateFDR html
exportClusters html
exportCoverage html
exportHighConfSub html
exportSequences html
filterClusters html
finding level-2 HTML links ... done
getAllSub html
getClusters html
getExpInterval html
getHighConfSub html
getMetaCoverage html
getMetaGene html
getMetaTSS html
model html
plotSizeDistribution html
plotStatistics html
plotSubstitutions html
readSortedBam html
wavClusteR-package html
** building package indices
** installing vignettes
** testing if installed package can be loaded from temporary location
** testing if installed package can be loaded from final location
** testing if installed package keeps a record of temporary installation path
install for x64
* installing *source* package 'wavClusteR' ...
** testing if installed package can be loaded
* MD5 sums
packaged installation of 'wavClusteR' as wavClusteR_2.20.0.zip
* DONE (wavClusteR)