| Back to Multiple platform build/check report for BioC 3.10 |
|
This page was generated on 2020-04-15 12:31:02 -0400 (Wed, 15 Apr 2020).
| Package 1771/1823 | Hostname | OS / Arch | INSTALL | BUILD | CHECK | BUILD BIN | ||||||
| tximeta 1.4.5 Michael Love
| malbec1 | Linux (Ubuntu 18.04.4 LTS) / x86_64 | OK | OK | OK | |||||||
| tokay1 | Windows Server 2012 R2 Standard / x64 | [ OK ] | OK | OK | OK | |||||||
| merida1 | OS X 10.11.6 El Capitan / x86_64 | OK | OK | OK | OK |
| Package: tximeta |
| Version: 1.4.5 |
| Command: C:\cygwin\bin\curl.exe -O https://malbec1.bioconductor.org/BBS/3.10/bioc/src/contrib/tximeta_1.4.5.tar.gz && rm -rf tximeta.buildbin-libdir && mkdir tximeta.buildbin-libdir && C:\Users\biocbuild\bbs-3.10-bioc\R\bin\R.exe CMD INSTALL --merge-multiarch --build --library=tximeta.buildbin-libdir tximeta_1.4.5.tar.gz && C:\Users\biocbuild\bbs-3.10-bioc\R\bin\R.exe CMD INSTALL tximeta_1.4.5.zip && rm tximeta_1.4.5.tar.gz tximeta_1.4.5.zip |
| StartedAt: 2020-04-14 19:56:15 -0400 (Tue, 14 Apr 2020) |
| EndedAt: 2020-04-14 19:57:11 -0400 (Tue, 14 Apr 2020) |
| EllapsedTime: 56.1 seconds |
| RetCode: 0 |
| Status: OK |
##############################################################################
##############################################################################
###
### Running command:
###
### C:\cygwin\bin\curl.exe -O https://malbec1.bioconductor.org/BBS/3.10/bioc/src/contrib/tximeta_1.4.5.tar.gz && rm -rf tximeta.buildbin-libdir && mkdir tximeta.buildbin-libdir && C:\Users\biocbuild\bbs-3.10-bioc\R\bin\R.exe CMD INSTALL --merge-multiarch --build --library=tximeta.buildbin-libdir tximeta_1.4.5.tar.gz && C:\Users\biocbuild\bbs-3.10-bioc\R\bin\R.exe CMD INSTALL tximeta_1.4.5.zip && rm tximeta_1.4.5.tar.gz tximeta_1.4.5.zip
###
##############################################################################
##############################################################################
% Total % Received % Xferd Average Speed Time Time Time Current
Dload Upload Total Spent Left Speed
0 0 0 0 0 0 0 0 --:--:-- --:--:-- --:--:-- 0
100 157k 100 157k 0 0 1115k 0 --:--:-- --:--:-- --:--:-- 1147k
install for i386
* installing *source* package 'tximeta' ...
** using staged installation
** R
** inst
** byte-compile and prepare package for lazy loading
** help
*** installing help indices
converting help for package 'tximeta'
finding HTML links ... done
addExons html
addIds html
getTximetaBFC html
linkedTxome html
summarizeToGene html
tximeta html
finding level-2 HTML links ... done
** building package indices
** installing vignettes
** testing if installed package can be loaded from temporary location
** testing if installed package can be loaded from final location
** testing if installed package keeps a record of temporary installation path
install for x64
* installing *source* package 'tximeta' ...
** testing if installed package can be loaded
* MD5 sums
packaged installation of 'tximeta' as tximeta_1.4.5.zip
* DONE (tximeta)
* installing to library 'C:/Users/biocbuild/bbs-3.10-bioc/R/library'
package 'tximeta' successfully unpacked and MD5 sums checked