| Back to Multiple platform build/check report for BioC 3.10 |
|
This page was generated on 2020-04-15 12:28:00 -0400 (Wed, 15 Apr 2020).
| Package 1770/1823 | Hostname | OS / Arch | INSTALL | BUILD | CHECK | BUILD BIN | ||||||
| twoddpcr 1.10.0 Anthony Chiu
| malbec1 | Linux (Ubuntu 18.04.4 LTS) / x86_64 | OK | OK | OK | |||||||
| tokay1 | Windows Server 2012 R2 Standard / x64 | [ OK ] | OK | OK | OK | |||||||
| merida1 | OS X 10.11.6 El Capitan / x86_64 | OK | OK | OK | OK |
| Package: twoddpcr |
| Version: 1.10.0 |
| Command: C:\cygwin\bin\curl.exe -O https://malbec1.bioconductor.org/BBS/3.10/bioc/src/contrib/twoddpcr_1.10.0.tar.gz && rm -rf twoddpcr.buildbin-libdir && mkdir twoddpcr.buildbin-libdir && C:\Users\biocbuild\bbs-3.10-bioc\R\bin\R.exe CMD INSTALL --merge-multiarch --build --library=twoddpcr.buildbin-libdir twoddpcr_1.10.0.tar.gz && C:\Users\biocbuild\bbs-3.10-bioc\R\bin\R.exe CMD INSTALL twoddpcr_1.10.0.zip && rm twoddpcr_1.10.0.tar.gz twoddpcr_1.10.0.zip |
| StartedAt: 2020-04-14 18:58:32 -0400 (Tue, 14 Apr 2020) |
| EndedAt: 2020-04-14 18:59:44 -0400 (Tue, 14 Apr 2020) |
| EllapsedTime: 72.0 seconds |
| RetCode: 0 |
| Status: OK |
##############################################################################
##############################################################################
###
### Running command:
###
### C:\cygwin\bin\curl.exe -O https://malbec1.bioconductor.org/BBS/3.10/bioc/src/contrib/twoddpcr_1.10.0.tar.gz && rm -rf twoddpcr.buildbin-libdir && mkdir twoddpcr.buildbin-libdir && C:\Users\biocbuild\bbs-3.10-bioc\R\bin\R.exe CMD INSTALL --merge-multiarch --build --library=twoddpcr.buildbin-libdir twoddpcr_1.10.0.tar.gz && C:\Users\biocbuild\bbs-3.10-bioc\R\bin\R.exe CMD INSTALL twoddpcr_1.10.0.zip && rm twoddpcr_1.10.0.tar.gz twoddpcr_1.10.0.zip
###
##############################################################################
##############################################################################
% Total % Received % Xferd Average Speed Time Time Time Current
Dload Upload Total Spent Left Speed
0 0 0 0 0 0 0 0 --:--:-- --:--:-- --:--:-- 0
100 872k 100 872k 0 0 18.6M 0 --:--:-- --:--:-- --:--:-- 20.2M
install for i386
* installing *source* package 'twoddpcr' ...
** using staged installation
** R
** data
*** moving datasets to lazyload DB
** inst
** byte-compile and prepare package for lazy loading
** help
*** installing help indices
converting help for package 'twoddpcr'
finding HTML links ... done
KRAScounts html
KRASdata html
amplitudes html
basicsSummary html
castSummary html
classCov html
classMeans html
classStats html
clusterCentres html
copiesSummary html
ddpcr html
ddpcrPlate-class html
ddpcrWell-class html
ddpcrWell-methods html
drawBlank html
dropletPlot html
elementType-SimpleList-method html
exportTable html
extractPlateName html
extractWellNames html
facetPlot html
flatPlot html
fullCopiesSummary html
fullCountsSummary html
getCutOff html
ggplot.well html
gridClassify html
heatPlot html
kmeansClassify html
knnClassify html
mahalanobisRain html
mutantCopiesSummary html
numDroplets html
numericInputRow html
parseClusterCounts html
plateClassification html
plateClassificationMethod html
plateSummary html
positiveCounts html
readCSVDataFrame html
relabelClasses html
removeDropletClasses html
renormalisePlate html
sdRain html
setChannelNames html
setDropletVolume html
shinyVis html
shinyVisApp html
shinyVisServer html
shinyVisUI html
sortDataFrame html
sortWells html
textInputRow html
thresholdClassify html
twoddpcr-package html
wellClassification html
wellClassificationMethod html
whiteTheme html
wildTypeCopiesSummary html
** building package indices
** installing vignettes
** testing if installed package can be loaded from temporary location
** testing if installed package can be loaded from final location
** testing if installed package keeps a record of temporary installation path
install for x64
* installing *source* package 'twoddpcr' ...
** testing if installed package can be loaded
* MD5 sums
packaged installation of 'twoddpcr' as twoddpcr_1.10.0.zip
* DONE (twoddpcr)
* installing to library 'C:/Users/biocbuild/bbs-3.10-bioc/R/library'
package 'twoddpcr' successfully unpacked and MD5 sums checked