| Back to Multiple platform build/check report for BioC 3.10 |
|
This page was generated on 2020-04-15 12:22:00 -0400 (Wed, 15 Apr 2020).
| Package 1756/1823 | Hostname | OS / Arch | INSTALL | BUILD | CHECK | BUILD BIN | ||||||
| trio 3.24.3 Holger Schwender
| malbec1 | Linux (Ubuntu 18.04.4 LTS) / x86_64 | OK | OK | OK | |||||||
| tokay1 | Windows Server 2012 R2 Standard / x64 | [ OK ] | OK | OK | OK | |||||||
| merida1 | OS X 10.11.6 El Capitan / x86_64 | OK | OK | OK | OK |
| Package: trio |
| Version: 3.24.3 |
| Command: C:\cygwin\bin\curl.exe -O https://malbec1.bioconductor.org/BBS/3.10/bioc/src/contrib/trio_3.24.3.tar.gz && rm -rf trio.buildbin-libdir && mkdir trio.buildbin-libdir && C:\Users\biocbuild\bbs-3.10-bioc\R\bin\R.exe CMD INSTALL --merge-multiarch --build --library=trio.buildbin-libdir trio_3.24.3.tar.gz && C:\Users\biocbuild\bbs-3.10-bioc\R\bin\R.exe CMD INSTALL trio_3.24.3.zip && rm trio_3.24.3.tar.gz trio_3.24.3.zip |
| StartedAt: 2020-04-14 18:50:05 -0400 (Tue, 14 Apr 2020) |
| EndedAt: 2020-04-14 18:51:02 -0400 (Tue, 14 Apr 2020) |
| EllapsedTime: 57.2 seconds |
| RetCode: 0 |
| Status: OK |
##############################################################################
##############################################################################
###
### Running command:
###
### C:\cygwin\bin\curl.exe -O https://malbec1.bioconductor.org/BBS/3.10/bioc/src/contrib/trio_3.24.3.tar.gz && rm -rf trio.buildbin-libdir && mkdir trio.buildbin-libdir && C:\Users\biocbuild\bbs-3.10-bioc\R\bin\R.exe CMD INSTALL --merge-multiarch --build --library=trio.buildbin-libdir trio_3.24.3.tar.gz && C:\Users\biocbuild\bbs-3.10-bioc\R\bin\R.exe CMD INSTALL trio_3.24.3.zip && rm trio_3.24.3.tar.gz trio_3.24.3.zip
###
##############################################################################
##############################################################################
% Total % Received % Xferd Average Speed Time Time Time Current
Dload Upload Total Spent Left Speed
0 0 0 0 0 0 0 0 --:--:-- --:--:-- --:--:-- 0
0 0 0 0 0 0 0 0 --:--:-- --:--:-- --:--:-- 0
100 724k 100 724k 0 0 16.2M 0 --:--:-- --:--:-- --:--:-- 17.6M
install for i386
* installing *source* package 'trio' ...
** using staged installation
** R
** data
** inst
** byte-compile and prepare package for lazy loading
** help
*** installing help indices
converting help for package 'trio'
finding HTML links ... done
allelicTDT html
colEMlrt html
colGxE html
colGxGPerms html
colPOlrt html
colTDTmaxTest html
colTDTsam html
findLDblocks html
getLD html
getMatPseudo html
lrControl html
ped2geno html
plot.LDblocks html
plot.getLD html
plot.trioLR html
poly4root html
print.colGxE html
print.trioFS html
print.trioLR html
probTDT html
read.pedfile html
removeSNPs html
scoreTDT html
tdt html
tdtGxG html
trio.check html
trio.data html
trio.permTest html
trio.power html
trio.prepare html
trio.sim html
trioFS html
trioLR html
vcf2geno html
** building package indices
** installing vignettes
'trio.Rnw'
** testing if installed package can be loaded from temporary location
** testing if installed package can be loaded from final location
** testing if installed package keeps a record of temporary installation path
install for x64
* installing *source* package 'trio' ...
** testing if installed package can be loaded
* MD5 sums
packaged installation of 'trio' as trio_3.24.3.zip
* DONE (trio)
* installing to library 'C:/Users/biocbuild/bbs-3.10-bioc/R/library'
package 'trio' successfully unpacked and MD5 sums checked