| Back to Multiple platform build/check report for BioC 3.10 |
|
This page was generated on 2020-04-15 12:17:13 -0400 (Wed, 15 Apr 2020).
| Package 1722/1823 | Hostname | OS / Arch | INSTALL | BUILD | CHECK | BUILD BIN | ||||||
| tilingArray 1.64.0 Zhenyu Xu
| malbec1 | Linux (Ubuntu 18.04.4 LTS) / x86_64 | OK | OK | OK | |||||||
| tokay1 | Windows Server 2012 R2 Standard / x64 | OK | OK | OK | [ OK ] | |||||||
| merida1 | OS X 10.11.6 El Capitan / x86_64 | OK | OK | OK | OK |
| Package: tilingArray |
| Version: 1.64.0 |
| Command: rm -rf tilingArray.buildbin-libdir && mkdir tilingArray.buildbin-libdir && C:\Users\biocbuild\bbs-3.10-bioc\R\bin\R.exe CMD INSTALL --merge-multiarch --build --library=tilingArray.buildbin-libdir tilingArray_1.64.0.tar.gz |
| StartedAt: 2020-04-15 09:49:07 -0400 (Wed, 15 Apr 2020) |
| EndedAt: 2020-04-15 09:49:50 -0400 (Wed, 15 Apr 2020) |
| EllapsedTime: 43.1 seconds |
| RetCode: 0 |
| Status: OK |
| PackageFile: tilingArray_1.64.0.zip |
| PackageFileSize: 3.149 MiB |
##############################################################################
##############################################################################
###
### Running command:
###
### rm -rf tilingArray.buildbin-libdir && mkdir tilingArray.buildbin-libdir && C:\Users\biocbuild\bbs-3.10-bioc\R\bin\R.exe CMD INSTALL --merge-multiarch --build --library=tilingArray.buildbin-libdir tilingArray_1.64.0.tar.gz
###
##############################################################################
##############################################################################
install for i386
* installing *source* package 'tilingArray' ...
** using staged installation
** libs
C:/Rtools/mingw_32/bin/gcc -I"C:/Users/BIOCBU~1/BBS-3~1.10-/R/include" -DNDEBUG -I"C:/extsoft/include" -O3 -Wall -std=gnu99 -mtune=core2 -c findsegments.c -o findsegments.o
C:/Rtools/mingw_32/bin/gcc -I"C:/Users/BIOCBU~1/BBS-3~1.10-/R/include" -DNDEBUG -I"C:/extsoft/include" -O3 -Wall -std=gnu99 -mtune=core2 -c sampleStep.c -o sampleStep.o
C:/Rtools/mingw_32/bin/gcc -shared -s -static-libgcc -o tilingArray.dll tmp.def findsegments.o sampleStep.o -LC:/extsoft/lib/i386 -LC:/extsoft/lib -LC:/Users/BIOCBU~1/BBS-3~1.10-/R/bin/i386 -lR
installing to C:/Users/biocbuild/bbs-3.10-bioc/meat/tilingArray.buildbin-libdir/00LOCK-tilingArray/00new/tilingArray/libs/i386
** R
** data
** inst
** byte-compile and prepare package for lazy loading
** help
*** installing help indices
converting help for package 'tilingArray'
finding HTML links ... done
PMindex html
breakpointsPretend html
class-segmentation html
comparisonPlot html
costMatrix html
findsegments html
gffSub html
normalizeByReference html
otherStrand html
plotAlongChrom html
plotAlongChromLegend html
plotFeatures html
plotSegmentationDots html
plotSegmentationHeatmap html
plotpenLL html
posMin html
qcPlots html
readCel2eSet html
sampleStep html
segChrom html
segment html
segnf html
tilingArray-package html
** building package indices
** installing vignettes
** testing if installed package can be loaded from temporary location
** testing if installed package can be loaded from final location
** testing if installed package keeps a record of temporary installation path
install for x64
* installing *source* package 'tilingArray' ...
** libs
C:/Rtools/mingw_64/bin/gcc -I"C:/Users/BIOCBU~1/BBS-3~1.10-/R/include" -DNDEBUG -I"C:/extsoft/include" -O2 -Wall -std=gnu99 -mtune=core2 -c findsegments.c -o findsegments.o
C:/Rtools/mingw_64/bin/gcc -I"C:/Users/BIOCBU~1/BBS-3~1.10-/R/include" -DNDEBUG -I"C:/extsoft/include" -O2 -Wall -std=gnu99 -mtune=core2 -c sampleStep.c -o sampleStep.o
C:/Rtools/mingw_64/bin/gcc -shared -s -static-libgcc -o tilingArray.dll tmp.def findsegments.o sampleStep.o -LC:/extsoft/lib/x64 -LC:/extsoft/lib -LC:/Users/BIOCBU~1/BBS-3~1.10-/R/bin/x64 -lR
installing to C:/Users/biocbuild/bbs-3.10-bioc/meat/tilingArray.buildbin-libdir/tilingArray/libs/x64
** testing if installed package can be loaded
* MD5 sums
packaged installation of 'tilingArray' as tilingArray_1.64.0.zip
* DONE (tilingArray)