| Back to Multiple platform build/check report for BioC 3.10 |
|
This page was generated on 2020-04-15 12:33:22 -0400 (Wed, 15 Apr 2020).
| Package 1703/1823 | Hostname | OS / Arch | INSTALL | BUILD | CHECK | BUILD BIN | ||||||
| target 1.0.0 Mahmoud Ahmed
| malbec1 | Linux (Ubuntu 18.04.4 LTS) / x86_64 | OK | OK | OK | |||||||
| tokay1 | Windows Server 2012 R2 Standard / x64 | [ OK ] | OK | OK | OK | |||||||
| merida1 | OS X 10.11.6 El Capitan / x86_64 | OK | OK | OK | OK |
| Package: target |
| Version: 1.0.0 |
| Command: C:\cygwin\bin\curl.exe -O https://malbec1.bioconductor.org/BBS/3.10/bioc/src/contrib/target_1.0.0.tar.gz && rm -rf target.buildbin-libdir && mkdir target.buildbin-libdir && C:\Users\biocbuild\bbs-3.10-bioc\R\bin\R.exe CMD INSTALL --merge-multiarch --build --library=target.buildbin-libdir target_1.0.0.tar.gz && C:\Users\biocbuild\bbs-3.10-bioc\R\bin\R.exe CMD INSTALL target_1.0.0.zip && rm target_1.0.0.tar.gz target_1.0.0.zip |
| StartedAt: 2020-04-14 19:30:05 -0400 (Tue, 14 Apr 2020) |
| EndedAt: 2020-04-14 19:30:43 -0400 (Tue, 14 Apr 2020) |
| EllapsedTime: 37.8 seconds |
| RetCode: 0 |
| Status: OK |
##############################################################################
##############################################################################
###
### Running command:
###
### C:\cygwin\bin\curl.exe -O https://malbec1.bioconductor.org/BBS/3.10/bioc/src/contrib/target_1.0.0.tar.gz && rm -rf target.buildbin-libdir && mkdir target.buildbin-libdir && C:\Users\biocbuild\bbs-3.10-bioc\R\bin\R.exe CMD INSTALL --merge-multiarch --build --library=target.buildbin-libdir target_1.0.0.tar.gz && C:\Users\biocbuild\bbs-3.10-bioc\R\bin\R.exe CMD INSTALL target_1.0.0.zip && rm target_1.0.0.tar.gz target_1.0.0.zip
###
##############################################################################
##############################################################################
% Total % Received % Xferd Average Speed Time Time Time Current
Dload Upload Total Spent Left Speed
0 0 0 0 0 0 0 0 --:--:-- --:--:-- --:--:-- 0
100 3516k 100 3516k 0 0 45.8M 0 --:--:-- --:--:-- --:--:-- 48.3M
install for i386
* installing *source* package 'target' ...
** using staged installation
** R
** data
*** moving datasets to lazyload DB
** inst
** byte-compile and prepare package for lazy loading
** help
*** installing help indices
converting help for package 'target'
finding HTML links ... done
associated_peaks html
direct_targets html
find_distance html
merge_ranges html
plot_predictions html
rank_product html
real_peaks html
real_transcripts html
score_peaks html
score_regions html
sim_peaks html
sim_transcripts html
target html
target_app html
test_predictions html
** building package indices
** installing vignettes
** testing if installed package can be loaded from temporary location
** testing if installed package can be loaded from final location
** testing if installed package keeps a record of temporary installation path
install for x64
* installing *source* package 'target' ...
** testing if installed package can be loaded
* MD5 sums
packaged installation of 'target' as target_1.0.0.zip
* DONE (target)
* installing to library 'C:/Users/biocbuild/bbs-3.10-bioc/R/library'
package 'target' successfully unpacked and MD5 sums checked