| Back to Multiple platform build/check report for BioC 3.10 |
|
This page was generated on 2020-04-15 12:21:43 -0400 (Wed, 15 Apr 2020).
| Package 1747/1823 | Hostname | OS / Arch | INSTALL | BUILD | CHECK | BUILD BIN | ||||||
| tRanslatome 1.24.0 Toma Tebaldi
| malbec1 | Linux (Ubuntu 18.04.4 LTS) / x86_64 | OK | OK | OK | |||||||
| tokay1 | Windows Server 2012 R2 Standard / x64 | OK | OK | OK | [ OK ] | |||||||
| merida1 | OS X 10.11.6 El Capitan / x86_64 | OK | OK | OK | OK |
| Package: tRanslatome |
| Version: 1.24.0 |
| Command: rm -rf tRanslatome.buildbin-libdir && mkdir tRanslatome.buildbin-libdir && C:\Users\biocbuild\bbs-3.10-bioc\R\bin\R.exe CMD INSTALL --merge-multiarch --build --library=tRanslatome.buildbin-libdir tRanslatome_1.24.0.tar.gz |
| StartedAt: 2020-04-15 09:50:37 -0400 (Wed, 15 Apr 2020) |
| EndedAt: 2020-04-15 09:51:23 -0400 (Wed, 15 Apr 2020) |
| EllapsedTime: 45.7 seconds |
| RetCode: 0 |
| Status: OK |
| PackageFile: tRanslatome_1.24.0.zip |
| PackageFileSize: 1.088 MiB |
##############################################################################
##############################################################################
###
### Running command:
###
### rm -rf tRanslatome.buildbin-libdir && mkdir tRanslatome.buildbin-libdir && C:\Users\biocbuild\bbs-3.10-bioc\R\bin\R.exe CMD INSTALL --merge-multiarch --build --library=tRanslatome.buildbin-libdir tRanslatome_1.24.0.tar.gz
###
##############################################################################
##############################################################################
install for i386
* installing *source* package 'tRanslatome' ...
** using staged installation
** R
** data
** inst
** byte-compile and prepare package for lazy loading
groupGOTerms: GOBPTerm, GOMFTerm, GOCCTerm environments built.
** help
*** installing help indices
converting help for package 'tRanslatome'
finding HTML links ... done
CVplot html
DEGs html
DEGs.table html
EnrichedSets html
FC.threshold html
GOComparison html
GOEnrichment html
GOsets html
GOsims html
Heatmap html
Histogram html
IdentityPlot html
MAplot html
Radar html
RegulatoryEnrichment html
SDplot html
Scatterplot html
SimilarityPlot html
TranslatomeDataset html
average.similarity.scores html
computeDEGs html
enriched.table html
getConditionA html
getConditionB html
getConditionC html
getConditionD html
getConditionLabels html
getDEGs html
getDEGsMethod html
getDataType html
getExprMatrix html
getLevelLabels html
identity.matrix html
label.condition html
label.level.DEGs html
label.level.enriched html
newTranslatomeDataset html
significance.threshold html
similarity.matrix html
tRanslatome-package html
tRanslatomeSampleData html
** building package indices
** installing vignettes
** testing if installed package can be loaded from temporary location
groupGOTerms: GOBPTerm, GOMFTerm, GOCCTerm environments built.
** testing if installed package can be loaded from final location
groupGOTerms: GOBPTerm, GOMFTerm, GOCCTerm environments built.
** testing if installed package keeps a record of temporary installation path
install for x64
* installing *source* package 'tRanslatome' ...
** testing if installed package can be loaded
groupGOTerms: GOBPTerm, GOMFTerm, GOCCTerm environments built.
* MD5 sums
packaged installation of 'tRanslatome' as tRanslatome_1.24.0.zip
* DONE (tRanslatome)