| Back to Multiple platform build/check report for BioC 3.10 |
|
This page was generated on 2020-04-15 12:25:19 -0400 (Wed, 15 Apr 2020).
| Package 1700/1823 | Hostname | OS / Arch | INSTALL | BUILD | CHECK | BUILD BIN | ||||||
| synlet 1.16.0 Chunxuan Shao
| malbec1 | Linux (Ubuntu 18.04.4 LTS) / x86_64 | OK | OK | OK | |||||||
| tokay1 | Windows Server 2012 R2 Standard / x64 | [ OK ] | OK | OK | OK | |||||||
| merida1 | OS X 10.11.6 El Capitan / x86_64 | OK | OK | OK | OK |
| Package: synlet |
| Version: 1.16.0 |
| Command: C:\cygwin\bin\curl.exe -O https://malbec1.bioconductor.org/BBS/3.10/bioc/src/contrib/synlet_1.16.0.tar.gz && rm -rf synlet.buildbin-libdir && mkdir synlet.buildbin-libdir && C:\Users\biocbuild\bbs-3.10-bioc\R\bin\R.exe CMD INSTALL --merge-multiarch --build --library=synlet.buildbin-libdir synlet_1.16.0.tar.gz && C:\Users\biocbuild\bbs-3.10-bioc\R\bin\R.exe CMD INSTALL synlet_1.16.0.zip && rm synlet_1.16.0.tar.gz synlet_1.16.0.zip |
| StartedAt: 2020-04-14 20:23:28 -0400 (Tue, 14 Apr 2020) |
| EndedAt: 2020-04-14 20:24:11 -0400 (Tue, 14 Apr 2020) |
| EllapsedTime: 42.7 seconds |
| RetCode: 0 |
| Status: OK |
##############################################################################
##############################################################################
###
### Running command:
###
### C:\cygwin\bin\curl.exe -O https://malbec1.bioconductor.org/BBS/3.10/bioc/src/contrib/synlet_1.16.0.tar.gz && rm -rf synlet.buildbin-libdir && mkdir synlet.buildbin-libdir && C:\Users\biocbuild\bbs-3.10-bioc\R\bin\R.exe CMD INSTALL --merge-multiarch --build --library=synlet.buildbin-libdir synlet_1.16.0.tar.gz && C:\Users\biocbuild\bbs-3.10-bioc\R\bin\R.exe CMD INSTALL synlet_1.16.0.zip && rm synlet_1.16.0.tar.gz synlet_1.16.0.zip
###
##############################################################################
##############################################################################
% Total % Received % Xferd Average Speed Time Time Time Current
Dload Upload Total Spent Left Speed
0 0 0 0 0 0 0 0 --:--:-- --:--:-- --:--:-- 0
100 452k 100 452k 0 0 3056k 0 --:--:-- --:--:-- --:--:-- 3141k
install for i386
* installing *source* package 'synlet' ...
** using staged installation
** R
** data
*** moving datasets to lazyload DB
** byte-compile and prepare package for lazy loading
** help
*** installing help indices
converting help for package 'synlet'
finding HTML links ... done
bScore html
exampleDat html
madSelect html
plateHeatmap html
rankProdHits html
rsaHits html
scatterPlot html
siRNAPlot html
tTest html
zFactor html
** building package indices
** installing vignettes
** testing if installed package can be loaded from temporary location
** testing if installed package can be loaded from final location
** testing if installed package keeps a record of temporary installation path
install for x64
* installing *source* package 'synlet' ...
** testing if installed package can be loaded
* MD5 sums
packaged installation of 'synlet' as synlet_1.16.0.zip
* DONE (synlet)
* installing to library 'C:/Users/biocbuild/bbs-3.10-bioc/R/library'
package 'synlet' successfully unpacked and MD5 sums checked