| Back to Multiple platform build/check report for BioC 3.10 |
|
This page was generated on 2020-04-15 12:39:09 -0400 (Wed, 15 Apr 2020).
| Package 1686/1823 | Hostname | OS / Arch | INSTALL | BUILD | CHECK | BUILD BIN | ||||||
| supraHex 1.24.0 Hai Fang
| malbec1 | Linux (Ubuntu 18.04.4 LTS) / x86_64 | OK | OK | OK | |||||||
| tokay1 | Windows Server 2012 R2 Standard / x64 | OK | OK | OK | OK | |||||||
| merida1 | OS X 10.11.6 El Capitan / x86_64 | OK | OK | [ OK ] | OK |
| Package: supraHex |
| Version: 1.24.0 |
| Command: /Library/Frameworks/R.framework/Versions/Current/Resources/bin/R CMD check --install=check:supraHex.install-out.txt --library=/Library/Frameworks/R.framework/Versions/Current/Resources/library --no-vignettes --timings supraHex_1.24.0.tar.gz |
| StartedAt: 2020-04-15 06:02:33 -0400 (Wed, 15 Apr 2020) |
| EndedAt: 2020-04-15 06:03:33 -0400 (Wed, 15 Apr 2020) |
| EllapsedTime: 60.6 seconds |
| RetCode: 0 |
| Status: OK |
| CheckDir: supraHex.Rcheck |
| Warnings: 0 |
############################################################################## ############################################################################## ### ### Running command: ### ### /Library/Frameworks/R.framework/Versions/Current/Resources/bin/R CMD check --install=check:supraHex.install-out.txt --library=/Library/Frameworks/R.framework/Versions/Current/Resources/library --no-vignettes --timings supraHex_1.24.0.tar.gz ### ############################################################################## ############################################################################## * using log directory ‘/Users/biocbuild/bbs-3.10-bioc/meat/supraHex.Rcheck’ * using R version 3.6.3 (2020-02-29) * using platform: x86_64-apple-darwin15.6.0 (64-bit) * using session charset: UTF-8 * using option ‘--no-vignettes’ * checking for file ‘supraHex/DESCRIPTION’ ... OK * checking extension type ... Package * this is package ‘supraHex’ version ‘1.24.0’ * checking package namespace information ... OK * checking package dependencies ... OK * checking if this is a source package ... OK * checking if there is a namespace ... OK * checking for hidden files and directories ... OK * checking for portable file names ... OK * checking for sufficient/correct file permissions ... OK * checking whether package ‘supraHex’ can be installed ... OK * checking installed package size ... OK * checking package directory ... OK * checking ‘build’ directory ... OK * checking DESCRIPTION meta-information ... OK * checking top-level files ... OK * checking for left-over files ... OK * checking index information ... OK * checking package subdirectories ... OK * checking R files for non-ASCII characters ... OK * checking R files for syntax errors ... OK * checking whether the package can be loaded ... OK * checking whether the package can be loaded with stated dependencies ... OK * checking whether the package can be unloaded cleanly ... OK * checking whether the namespace can be loaded with stated dependencies ... OK * checking whether the namespace can be unloaded cleanly ... OK * checking dependencies in R code ... OK * checking S3 generic/method consistency ... OK * checking replacement functions ... OK * checking foreign function calls ... OK * checking R code for possible problems ... OK * checking Rd files ... OK * checking Rd metadata ... OK * checking Rd cross-references ... OK * checking for missing documentation entries ... OK * checking for code/documentation mismatches ... OK * checking Rd \usage sections ... OK * checking Rd contents ... OK * checking for unstated dependencies in examples ... OK * checking contents of ‘data’ directory ... OK * checking data for non-ASCII characters ... OK * checking data for ASCII and uncompressed saves ... OK * checking sizes of PDF files under ‘inst/doc’ ... OK * checking files in ‘vignettes’ ... OK * checking examples ... OK * checking for unstated dependencies in vignettes ... OK * checking package vignettes in ‘inst/doc’ ... OK * checking running R code from vignettes ... SKIPPED * checking re-building of vignette outputs ... SKIPPED * checking PDF version of manual ... OK * DONE Status: OK
supraHex.Rcheck/00install.out
############################################################################## ############################################################################## ### ### Running command: ### ### /Library/Frameworks/R.framework/Versions/Current/Resources/bin/R CMD INSTALL supraHex ### ############################################################################## ############################################################################## * installing to library ‘/Library/Frameworks/R.framework/Versions/3.6/Resources/library’ * installing *source* package ‘supraHex’ ... ** using staged installation ** R ** data ** inst ** byte-compile and prepare package for lazy loading ** help *** installing help indices ** building package indices ** installing vignettes ** testing if installed package can be loaded from temporary location ** testing if installed package can be loaded from final location ** testing if installed package keeps a record of temporary installation path * DONE (supraHex)
supraHex.Rcheck/supraHex-Ex.timings
| name | user | system | elapsed | |
| sBMH | 0.079 | 0.014 | 0.094 | |
| sCompReorder | 0.946 | 0.107 | 1.059 | |
| sDistance | 0.099 | 0.010 | 0.109 | |
| sDmat | 0.152 | 0.007 | 0.162 | |
| sDmatCluster | 0.199 | 0.010 | 0.209 | |
| sDmatMinima | 0.129 | 0.012 | 0.141 | |
| sHexDist | 0.002 | 0.000 | 0.002 | |
| sHexGrid | 0.002 | 0.001 | 0.002 | |
| sHexGridVariant | 0.001 | 0.000 | 0.002 | |
| sHexPolygon | 0.002 | 0.000 | 0.002 | |
| sInitial | 0.001 | 0.000 | 0.002 | |
| sMapOverlay | 0.212 | 0.018 | 0.233 | |
| sNeighAny | 0.005 | 0.000 | 0.005 | |
| sNeighDirect | 0.003 | 0.000 | 0.003 | |
| sTopology | 0.020 | 0.005 | 0.026 | |
| sTrainBatch | 0.050 | 0.001 | 0.053 | |
| sTrainSeq | 0.512 | 0.009 | 0.523 | |
| sTrainology | 0.004 | 0.000 | 0.004 | |
| sWriteData | 0.192 | 0.005 | 0.199 | |
| visColoralpha | 0.014 | 0.001 | 0.015 | |
| visColorbar | 0.048 | 0.001 | 0.050 | |
| visColormap | 0.007 | 0.000 | 0.008 | |
| visCompReorder | 0.892 | 0.119 | 1.016 | |
| visDmatCluster | 0.312 | 0.034 | 0.348 | |
| visDmatHeatmap | 0.224 | 0.005 | 0.231 | |
| visHeatmap | 0.134 | 0.002 | 0.136 | |
| visHeatmapAdv | 0.641 | 0.006 | 0.658 | |
| visHexAnimate | 0.002 | 0.000 | 0.002 | |
| visHexBarplot | 0.388 | 0.051 | 0.443 | |
| visHexComp | 0.137 | 0.005 | 0.149 | |
| visHexGrid | 0.123 | 0.003 | 0.126 | |
| visHexMapping | 1.259 | 0.095 | 1.362 | |
| visHexMulComp | 0.832 | 0.051 | 0.896 | |
| visHexPattern | 1.434 | 0.110 | 1.556 | |
| visKernels | 0.010 | 0.006 | 0.016 | |
| visTreeBSclust | 0.094 | 0.002 | 0.096 | |
| visTreeBootstrap | 0.232 | 0.004 | 0.239 | |
| visVp | 0.026 | 0.006 | 0.033 | |