| Back to Multiple platform build/check report for BioC 3.10 |
|
This page was generated on 2020-04-15 12:27:23 -0400 (Wed, 15 Apr 2020).
| Package 1674/1823 | Hostname | OS / Arch | INSTALL | BUILD | CHECK | BUILD BIN | ||||||
| statTarget 1.16.1 Hemi Luan
| malbec1 | Linux (Ubuntu 18.04.4 LTS) / x86_64 | OK | OK | OK | |||||||
| tokay1 | Windows Server 2012 R2 Standard / x64 | OK | OK | OK | [ OK ] | |||||||
| merida1 | OS X 10.11.6 El Capitan / x86_64 | OK | OK | OK | OK |
| Package: statTarget |
| Version: 1.16.1 |
| Command: rm -rf statTarget.buildbin-libdir && mkdir statTarget.buildbin-libdir && C:\Users\biocbuild\bbs-3.10-bioc\R\bin\R.exe CMD INSTALL --merge-multiarch --build --library=statTarget.buildbin-libdir statTarget_1.16.1.tar.gz |
| StartedAt: 2020-04-15 09:46:21 -0400 (Wed, 15 Apr 2020) |
| EndedAt: 2020-04-15 09:47:03 -0400 (Wed, 15 Apr 2020) |
| EllapsedTime: 41.2 seconds |
| RetCode: 0 |
| Status: OK |
| PackageFile: statTarget_1.16.1.zip |
| PackageFileSize: 2.129 MiB |
##############################################################################
##############################################################################
###
### Running command:
###
### rm -rf statTarget.buildbin-libdir && mkdir statTarget.buildbin-libdir && C:\Users\biocbuild\bbs-3.10-bioc\R\bin\R.exe CMD INSTALL --merge-multiarch --build --library=statTarget.buildbin-libdir statTarget_1.16.1.tar.gz
###
##############################################################################
##############################################################################
install for i386
* installing *source* package 'statTarget' ...
** using staged installation
** R
** inst
** byte-compile and prepare package for lazy loading
** help
*** installing help indices
converting help for package 'statTarget'
finding HTML links ... done
mdsPlot html
predict_RF html
pvimPlot html
rForest html
shiftCor html
shiftCor_dQC html
statAnalysis html
statTarget-package html
statTargetGUI html
transX html
** building package indices
** installing vignettes
** testing if installed package can be loaded from temporary location
** testing if installed package can be loaded from final location
** testing if installed package keeps a record of temporary installation path
install for x64
* installing *source* package 'statTarget' ...
** testing if installed package can be loaded
* MD5 sums
packaged installation of 'statTarget' as statTarget_1.16.1.zip
* DONE (statTarget)