| Back to Multiple platform build/check report for BioC 3.10 |
|
This page was generated on 2020-04-15 12:24:05 -0400 (Wed, 15 Apr 2020).
| Package 1637/1823 | Hostname | OS / Arch | INSTALL | BUILD | CHECK | BUILD BIN | ||||||
| specL 1.20.0 Christian Panse
| malbec1 | Linux (Ubuntu 18.04.4 LTS) / x86_64 | OK | OK | OK | |||||||
| tokay1 | Windows Server 2012 R2 Standard / x64 | OK | OK | OK | [ OK ] | |||||||
| merida1 | OS X 10.11.6 El Capitan / x86_64 | OK | OK | OK | OK |
| Package: specL |
| Version: 1.20.0 |
| Command: rm -rf specL.buildbin-libdir && mkdir specL.buildbin-libdir && C:\Users\biocbuild\bbs-3.10-bioc\R\bin\R.exe CMD INSTALL --merge-multiarch --build --library=specL.buildbin-libdir specL_1.20.0.tar.gz |
| StartedAt: 2020-04-15 09:44:13 -0400 (Wed, 15 Apr 2020) |
| EndedAt: 2020-04-15 09:44:35 -0400 (Wed, 15 Apr 2020) |
| EllapsedTime: 21.2 seconds |
| RetCode: 0 |
| Status: OK |
| PackageFile: specL_1.20.0.zip |
| PackageFileSize: 1.315 MiB |
##############################################################################
##############################################################################
###
### Running command:
###
### rm -rf specL.buildbin-libdir && mkdir specL.buildbin-libdir && C:\Users\biocbuild\bbs-3.10-bioc\R\bin\R.exe CMD INSTALL --merge-multiarch --build --library=specL.buildbin-libdir specL_1.20.0.tar.gz
###
##############################################################################
##############################################################################
install for i386
* installing *source* package 'specL' ...
** using staged installation
** R
** data
*** moving datasets to lazyload DB
** inst
** byte-compile and prepare package for lazy loading
** help
*** installing help indices
converting help for package 'specL'
finding HTML links ... done
annotate.protein_id html
cdsw html
genSwathIonLib html
iRTpeptides html
ms1.p2069 html
peptideStd html
plot-methods html
read.bibliospec html
show-methods html
specL-class html
specLSet-class html
write.spectronaut-methods html
** building package indices
** installing vignettes
** testing if installed package can be loaded from temporary location
** testing if installed package can be loaded from final location
** testing if installed package keeps a record of temporary installation path
install for x64
* installing *source* package 'specL' ...
** testing if installed package can be loaded
* MD5 sums
packaged installation of 'specL' as specL_1.20.0.zip
* DONE (specL)