| Back to Multiple platform build/check report for BioC 3.10 |
|
This page was generated on 2020-04-15 12:14:42 -0400 (Wed, 15 Apr 2020).
| Package 1634/1823 | Hostname | OS / Arch | INSTALL | BUILD | CHECK | BUILD BIN | ||||||
| sparsenetgls 1.4.0 Irene Zeng
| malbec1 | Linux (Ubuntu 18.04.4 LTS) / x86_64 | OK | OK | [ OK ] | |||||||
| tokay1 | Windows Server 2012 R2 Standard / x64 | OK | OK | OK | OK | |||||||
| merida1 | OS X 10.11.6 El Capitan / x86_64 | OK | OK | OK | OK |
| Package: sparsenetgls |
| Version: 1.4.0 |
| Command: /home/biocbuild/bbs-3.10-bioc/R/bin/R CMD check --install=check:sparsenetgls.install-out.txt --library=/home/biocbuild/bbs-3.10-bioc/R/library --no-vignettes --timings sparsenetgls_1.4.0.tar.gz |
| StartedAt: 2020-04-15 06:00:21 -0400 (Wed, 15 Apr 2020) |
| EndedAt: 2020-04-15 06:02:10 -0400 (Wed, 15 Apr 2020) |
| EllapsedTime: 108.5 seconds |
| RetCode: 0 |
| Status: OK |
| CheckDir: sparsenetgls.Rcheck |
| Warnings: 0 |
##############################################################################
##############################################################################
###
### Running command:
###
### /home/biocbuild/bbs-3.10-bioc/R/bin/R CMD check --install=check:sparsenetgls.install-out.txt --library=/home/biocbuild/bbs-3.10-bioc/R/library --no-vignettes --timings sparsenetgls_1.4.0.tar.gz
###
##############################################################################
##############################################################################
* using log directory ‘/home/biocbuild/bbs-3.10-bioc/meat/sparsenetgls.Rcheck’
* using R version 3.6.3 (2020-02-29)
* using platform: x86_64-pc-linux-gnu (64-bit)
* using session charset: UTF-8
* using option ‘--no-vignettes’
* checking for file ‘sparsenetgls/DESCRIPTION’ ... OK
* checking extension type ... Package
* this is package ‘sparsenetgls’ version ‘1.4.0’
* package encoding: UTF-8
* checking package namespace information ... OK
* checking package dependencies ... OK
* checking if this is a source package ... OK
* checking if there is a namespace ... OK
* checking for hidden files and directories ... OK
* checking for portable file names ... OK
* checking for sufficient/correct file permissions ... OK
* checking whether package ‘sparsenetgls’ can be installed ... OK
* checking installed package size ... OK
* checking package directory ... OK
* checking ‘build’ directory ... OK
* checking DESCRIPTION meta-information ... OK
* checking top-level files ... OK
* checking for left-over files ... OK
* checking index information ... OK
* checking package subdirectories ... OK
* checking R files for non-ASCII characters ... OK
* checking R files for syntax errors ... OK
* checking whether the package can be loaded ... OK
* checking whether the package can be loaded with stated dependencies ... OK
* checking whether the package can be unloaded cleanly ... OK
* checking whether the namespace can be loaded with stated dependencies ... OK
* checking whether the namespace can be unloaded cleanly ... OK
* checking dependencies in R code ... OK
* checking S3 generic/method consistency ... OK
* checking replacement functions ... OK
* checking foreign function calls ... OK
* checking R code for possible problems ... OK
* checking Rd files ... OK
* checking Rd metadata ... OK
* checking Rd cross-references ... OK
* checking for missing documentation entries ... OK
* checking for code/documentation mismatches ... OK
* checking Rd \usage sections ... OK
* checking Rd contents ... OK
* checking for unstated dependencies in examples ... OK
* checking contents of ‘data’ directory ... OK
* checking data for non-ASCII characters ... OK
* checking data for ASCII and uncompressed saves ... OK
* checking files in ‘vignettes’ ... OK
* checking examples ... OK
Examples with CPU or elapsed time > 5s
user system elapsed
sparsenetgls 16.076 2.008 18.278
* checking for unstated dependencies in ‘tests’ ... OK
* checking tests ...
Running ‘testthat.R’
OK
* checking for unstated dependencies in vignettes ... OK
* checking package vignettes in ‘inst/doc’ ... OK
* checking running R code from vignettes ... SKIPPED
* checking re-building of vignette outputs ... SKIPPED
* checking PDF version of manual ... OK
* DONE
Status: OK
sparsenetgls.Rcheck/00install.out
############################################################################## ############################################################################## ### ### Running command: ### ### /home/biocbuild/bbs-3.10-bioc/R/bin/R CMD INSTALL sparsenetgls ### ############################################################################## ############################################################################## * installing to library ‘/home/biocbuild/bbs-3.10-bioc/R/library’ * installing *source* package ‘sparsenetgls’ ... ** using staged installation ** R ** data *** moving datasets to lazyload DB ** byte-compile and prepare package for lazy loading ** help *** installing help indices ** building package indices ** installing vignettes ** testing if installed package can be loaded from temporary location ** testing if installed package can be loaded from final location ** testing if installed package keeps a record of temporary installation path * DONE (sparsenetgls)
sparsenetgls.Rcheck/tests/testthat.Rout
R version 3.6.3 (2020-02-29) -- "Holding the Windsock"
Copyright (C) 2020 The R Foundation for Statistical Computing
Platform: x86_64-pc-linux-gnu (64-bit)
R is free software and comes with ABSOLUTELY NO WARRANTY.
You are welcome to redistribute it under certain conditions.
Type 'license()' or 'licence()' for distribution details.
R is a collaborative project with many contributors.
Type 'contributors()' for more information and
'citation()' on how to cite R or R packages in publications.
Type 'demo()' for some demos, 'help()' for on-line help, or
'help.start()' for an HTML browser interface to help.
Type 'q()' to quit R.
> library(testthat)
> library(lme4)
Loading required package: Matrix
> library(Matrix)
> library(MASS)
> library(sparsenetgls)
>
> test_check("sparsenetgls")
The input is identified as the covariance matrix.
Conducting the graphical lasso (glasso) wtih lossless screening....in progress: 19%
Conducting the graphical lasso (glasso) wtih lossless screening....in progress: 40%
Conducting the graphical lasso (glasso) wtih lossless screening....in progress: 60%
Conducting the graphical lasso (glasso)....done.
The input is identified as the covariance matrix.
Conducting the graphical lasso (glasso) wtih lossy screening....in progress: 9%
Conducting the graphical lasso (glasso) wtih lossy screening....in progress: 19%
Conducting the graphical lasso (glasso) wtih lossy screening....in progress: 30%
Conducting the graphical lasso (glasso) wtih lossy screening....in progress: 40%
Conducting the graphical lasso (glasso) wtih lossy screening....in progress: 50%
Conducting the graphical lasso (glasso) wtih lossy screening....in progress: 60%
Conducting the graphical lasso (glasso) wtih lossy screening....in progress: 70%
Conducting the graphical lasso (glasso) wtih lossy screening....in progress: 80%
Conducting the graphical lasso (glasso) wtih lossy screening....in progress: 90%
Conducting the graphical lasso (glasso)....done.
══ testthat results ═══════════════════════════════════════════════════════════
[ OK: 2 | SKIPPED: 0 | WARNINGS: 0 | FAILED: 0 ]
>
> proc.time()
user system elapsed
16.532 2.904 19.858
sparsenetgls.Rcheck/sparsenetgls-Ex.timings
| name | user | system | elapsed | |
| assess_direct | 0.000 | 0.000 | 0.001 | |
| bandprec | 0.012 | 0.004 | 0.016 | |
| convertbeta | 0.380 | 0.000 | 0.565 | |
| glassonet2 | 0.648 | 0.004 | 0.659 | |
| lassoglmnet | 0.016 | 0.000 | 0.019 | |
| path_result_for_roc | 0.000 | 0.000 | 0.002 | |
| plot_roc | 0.008 | 0.000 | 0.007 | |
| plotsngls | 3.060 | 0.028 | 3.115 | |
| sparsenetgls | 16.076 | 2.008 | 18.278 | |