| Back to Multiple platform build/check report for BioC 3.10 |
|
This page was generated on 2020-04-15 12:19:34 -0400 (Wed, 15 Apr 2020).
| Package 1622/1823 | Hostname | OS / Arch | INSTALL | BUILD | CHECK | BUILD BIN | ||||||
| snm 1.34.0 John D. Storey
| malbec1 | Linux (Ubuntu 18.04.4 LTS) / x86_64 | OK | OK | OK | |||||||
| tokay1 | Windows Server 2012 R2 Standard / x64 | [ OK ] | OK | OK | OK | |||||||
| merida1 | OS X 10.11.6 El Capitan / x86_64 | OK | OK | OK | OK |
| Package: snm |
| Version: 1.34.0 |
| Command: C:\cygwin\bin\curl.exe -O https://malbec1.bioconductor.org/BBS/3.10/bioc/src/contrib/snm_1.34.0.tar.gz && rm -rf snm.buildbin-libdir && mkdir snm.buildbin-libdir && C:\Users\biocbuild\bbs-3.10-bioc\R\bin\R.exe CMD INSTALL --merge-multiarch --build --library=snm.buildbin-libdir snm_1.34.0.tar.gz && C:\Users\biocbuild\bbs-3.10-bioc\R\bin\R.exe CMD INSTALL snm_1.34.0.zip && rm snm_1.34.0.tar.gz snm_1.34.0.zip |
| StartedAt: 2020-04-14 20:22:38 -0400 (Tue, 14 Apr 2020) |
| EndedAt: 2020-04-14 20:22:51 -0400 (Tue, 14 Apr 2020) |
| EllapsedTime: 12.8 seconds |
| RetCode: 0 |
| Status: OK |
##############################################################################
##############################################################################
###
### Running command:
###
### C:\cygwin\bin\curl.exe -O https://malbec1.bioconductor.org/BBS/3.10/bioc/src/contrib/snm_1.34.0.tar.gz && rm -rf snm.buildbin-libdir && mkdir snm.buildbin-libdir && C:\Users\biocbuild\bbs-3.10-bioc\R\bin\R.exe CMD INSTALL --merge-multiarch --build --library=snm.buildbin-libdir snm_1.34.0.tar.gz && C:\Users\biocbuild\bbs-3.10-bioc\R\bin\R.exe CMD INSTALL snm_1.34.0.zip && rm snm_1.34.0.tar.gz snm_1.34.0.zip
###
##############################################################################
##############################################################################
% Total % Received % Xferd Average Speed Time Time Time Current
Dload Upload Total Spent Left Speed
0 0 0 0 0 0 0 0 --:--:-- --:--:-- --:--:-- 0
100 212k 100 212k 0 0 701k 0 --:--:-- --:--:-- --:--:-- 709k
install for i386
* installing *source* package 'snm' ...
** using staged installation
** R
** inst
** byte-compile and prepare package for lazy loading
** help
*** installing help indices
converting help for package 'snm'
finding HTML links ... done
fitted.snm html
plot.snm html
sim.doubleChannel html
sim.preProcessed html
sim.refDesign html
sim.singleChannel html
snm-internal html
snm html
summary.snm html
** building package indices
** installing vignettes
** testing if installed package can be loaded from temporary location
** testing if installed package can be loaded from final location
** testing if installed package keeps a record of temporary installation path
install for x64
* installing *source* package 'snm' ...
** testing if installed package can be loaded
* MD5 sums
packaged installation of 'snm' as snm_1.34.0.zip
* DONE (snm)
* installing to library 'C:/Users/biocbuild/bbs-3.10-bioc/R/library'
package 'snm' successfully unpacked and MD5 sums checked