| Back to Multiple platform build/check report for BioC 3.10 |
|
This page was generated on 2020-04-15 12:30:29 -0400 (Wed, 15 Apr 2020).
| Package 1607/1823 | Hostname | OS / Arch | INSTALL | BUILD | CHECK | BUILD BIN | ||||||
| singscore 1.6.0 Dharmesh D. Bhuva
| malbec1 | Linux (Ubuntu 18.04.4 LTS) / x86_64 | OK | OK | OK | |||||||
| tokay1 | Windows Server 2012 R2 Standard / x64 | OK | OK | OK | [ OK ] | |||||||
| merida1 | OS X 10.11.6 El Capitan / x86_64 | OK | OK | OK | OK |
| Package: singscore |
| Version: 1.6.0 |
| Command: rm -rf singscore.buildbin-libdir && mkdir singscore.buildbin-libdir && C:\Users\biocbuild\bbs-3.10-bioc\R\bin\R.exe CMD INSTALL --merge-multiarch --build --library=singscore.buildbin-libdir singscore_1.6.0.tar.gz |
| StartedAt: 2020-04-15 09:42:32 -0400 (Wed, 15 Apr 2020) |
| EndedAt: 2020-04-15 09:43:35 -0400 (Wed, 15 Apr 2020) |
| EllapsedTime: 62.7 seconds |
| RetCode: 0 |
| Status: OK |
| PackageFile: singscore_1.6.0.zip |
| PackageFileSize: 2.741 MiB |
##############################################################################
##############################################################################
###
### Running command:
###
### rm -rf singscore.buildbin-libdir && mkdir singscore.buildbin-libdir && C:\Users\biocbuild\bbs-3.10-bioc\R\bin\R.exe CMD INSTALL --merge-multiarch --build --library=singscore.buildbin-libdir singscore_1.6.0.tar.gz
###
##############################################################################
##############################################################################
install for i386
* installing *source* package 'singscore' ...
** using staged installation
It is recommended to use 'given' instead of 'middle'.
** R
** data
*** moving datasets to lazyload DB
** inst
** byte-compile and prepare package for lazy loading
** help
*** installing help indices
converting help for package 'singscore'
finding HTML links ... done
generateNull html
generateNull_intl html
getPvals html
multiScore html
finding level-2 HTML links ... done
plotDispersion html
plotNull html
plotRankDensity html
plotRankDensity_intl html
plotScoreLandscape html
projectScoreLandscape html
rankGenes html
scoredf_ccle_epi html
scoredf_ccle_mes html
scoredf_tcga_epi html
scoredf_tcga_mes html
simpleScore html
singscore html
tgfb_expr_10_se html
tgfb_gs_dn html
tgfb_gs_up html
toy_expr_se html
toy_gs_dn html
toy_gs_up html
*** copying figures
** building package indices
** installing vignettes
** testing if installed package can be loaded from temporary location
** testing if installed package can be loaded from final location
** testing if installed package keeps a record of temporary installation path
install for x64
* installing *source* package 'singscore' ...
** testing if installed package can be loaded
* MD5 sums
packaged installation of 'singscore' as singscore_1.6.0.zip
* DONE (singscore)