| Back to Multiple platform build/check report for BioC 3.10 |
|
This page was generated on 2020-04-15 12:30:22 -0400 (Wed, 15 Apr 2020).
| Package 1605/1823 | Hostname | OS / Arch | INSTALL | BUILD | CHECK | BUILD BIN | ||||||
| singleCellTK 1.6.0 David Jenkins
| malbec1 | Linux (Ubuntu 18.04.4 LTS) / x86_64 | OK | OK | OK | |||||||
| tokay1 | Windows Server 2012 R2 Standard / x64 | [ OK ] | OK | OK | OK | |||||||
| merida1 | OS X 10.11.6 El Capitan / x86_64 | OK | OK | OK | OK |
| Package: singleCellTK |
| Version: 1.6.0 |
| Command: C:\cygwin\bin\curl.exe -O https://malbec1.bioconductor.org/BBS/3.10/bioc/src/contrib/singleCellTK_1.6.0.tar.gz && rm -rf singleCellTK.buildbin-libdir && mkdir singleCellTK.buildbin-libdir && C:\Users\biocbuild\bbs-3.10-bioc\R\bin\R.exe CMD INSTALL --merge-multiarch --build --library=singleCellTK.buildbin-libdir singleCellTK_1.6.0.tar.gz && C:\Users\biocbuild\bbs-3.10-bioc\R\bin\R.exe CMD INSTALL singleCellTK_1.6.0.zip && rm singleCellTK_1.6.0.tar.gz singleCellTK_1.6.0.zip |
| StartedAt: 2020-04-14 20:20:50 -0400 (Tue, 14 Apr 2020) |
| EndedAt: 2020-04-14 20:21:52 -0400 (Tue, 14 Apr 2020) |
| EllapsedTime: 61.4 seconds |
| RetCode: 0 |
| Status: OK |
##############################################################################
##############################################################################
###
### Running command:
###
### C:\cygwin\bin\curl.exe -O https://malbec1.bioconductor.org/BBS/3.10/bioc/src/contrib/singleCellTK_1.6.0.tar.gz && rm -rf singleCellTK.buildbin-libdir && mkdir singleCellTK.buildbin-libdir && C:\Users\biocbuild\bbs-3.10-bioc\R\bin\R.exe CMD INSTALL --merge-multiarch --build --library=singleCellTK.buildbin-libdir singleCellTK_1.6.0.tar.gz && C:\Users\biocbuild\bbs-3.10-bioc\R\bin\R.exe CMD INSTALL singleCellTK_1.6.0.zip && rm singleCellTK_1.6.0.tar.gz singleCellTK_1.6.0.zip
###
##############################################################################
##############################################################################
% Total % Received % Xferd Average Speed Time Time Time Current
Dload Upload Total Spent Left Speed
0 0 0 0 0 0 0 0 --:--:-- --:--:-- --:--:-- 0
0 425k 0 0 0 0 0 0 --:--:-- --:--:-- --:--:-- 0
100 425k 100 425k 0 0 1108k 0 --:--:-- --:--:-- --:--:-- 1118k
install for i386
* installing *source* package 'singleCellTK' ...
** using staged installation
** R
** data
*** moving datasets to lazyload DB
** inst
** byte-compile and prepare package for lazy loading
** help
*** installing help indices
converting help for package 'singleCellTK'
finding HTML links ... done
ComBatSCE html
DownsampleCells html
DownsampleDepth html
MAST html
SCtkExperiment-class html
SCtkExperiment html
alignSingleCellData html
calcEffectSizes html
convertGeneIDs html
createSCE html
distinctColors html
enrichRSCE html
filterSCData html
generateSimulatedData html
getBiomarker html
getClusterInputData html
getPCA html
getTSNE html
getUMAP html
gsvaSCE html
iterateSimulations html
mouseBrainSubsetSCE html
parseRsubreadLogs html
pcaVariances-set html
pcaVariances html
plotBatchVariance html
plotBiomarker html
plotDiffEx html
plotDimRed html
plotPCA html
plotTSNE html
plotUMAP html
saveBiomarkerRes html
saveDiffExResults html
scDiffEx html
singleCellTK html
subDiffEx html
summarizeTable html
visPlot html
** building package indices
** installing vignettes
** testing if installed package can be loaded from temporary location
** testing if installed package can be loaded from final location
** testing if installed package keeps a record of temporary installation path
install for x64
* installing *source* package 'singleCellTK' ...
** testing if installed package can be loaded
* MD5 sums
packaged installation of 'singleCellTK' as singleCellTK_1.6.0.zip
* DONE (singleCellTK)
* installing to library 'C:/Users/biocbuild/bbs-3.10-bioc/R/library'
package 'singleCellTK' successfully unpacked and MD5 sums checked