| Back to Multiple platform build/check report for BioC 3.10 |
|
This page was generated on 2020-04-15 12:24:57 -0400 (Wed, 15 Apr 2020).
| Package 1599/1823 | Hostname | OS / Arch | INSTALL | BUILD | CHECK | BUILD BIN | ||||||
| similaRpeak 1.18.0 Astrid Deschenes
| malbec1 | Linux (Ubuntu 18.04.4 LTS) / x86_64 | OK | OK | OK | |||||||
| tokay1 | Windows Server 2012 R2 Standard / x64 | OK | OK | OK | [ OK ] | |||||||
| merida1 | OS X 10.11.6 El Capitan / x86_64 | OK | OK | OK | OK |
| Package: similaRpeak |
| Version: 1.18.0 |
| Command: rm -rf similaRpeak.buildbin-libdir && mkdir similaRpeak.buildbin-libdir && C:\Users\biocbuild\bbs-3.10-bioc\R\bin\R.exe CMD INSTALL --merge-multiarch --build --library=similaRpeak.buildbin-libdir similaRpeak_1.18.0.tar.gz |
| StartedAt: 2020-04-15 09:42:05 -0400 (Wed, 15 Apr 2020) |
| EndedAt: 2020-04-15 09:42:47 -0400 (Wed, 15 Apr 2020) |
| EllapsedTime: 41.5 seconds |
| RetCode: 0 |
| Status: OK |
| PackageFile: similaRpeak_1.18.0.zip |
| PackageFileSize: 1.053 MiB |
##############################################################################
##############################################################################
###
### Running command:
###
### rm -rf similaRpeak.buildbin-libdir && mkdir similaRpeak.buildbin-libdir && C:\Users\biocbuild\bbs-3.10-bioc\R\bin\R.exe CMD INSTALL --merge-multiarch --build --library=similaRpeak.buildbin-libdir similaRpeak_1.18.0.tar.gz
###
##############################################################################
##############################################################################
install for i386
* installing *source* package 'similaRpeak' ...
** using staged installation
** R
** data
** inst
** byte-compile and prepare package for lazy loading
** help
*** installing help indices
converting help for package 'similaRpeak'
finding HTML links ... done
DiffPosMax html
Metric html
MetricFactory html
RatioArea html
RatioIntersect html
RatioMaxMax html
RatioNormalizedIntersect html
SpearmanCorrelation html
chr7Profiles html
demoProfiles html
diffPosMaxMethod html
ratioAreaMethod html
ratioIntersectMethod html
ratioMaxMaxMethod html
similaRpeak-package html
similarity html
spearmanCorrMethod html
** building package indices
** installing vignettes
** testing if installed package can be loaded from temporary location
** testing if installed package can be loaded from final location
** testing if installed package keeps a record of temporary installation path
install for x64
* installing *source* package 'similaRpeak' ...
** testing if installed package can be loaded
* MD5 sums
packaged installation of 'similaRpeak' as similaRpeak_1.18.0.zip
* DONE (similaRpeak)