| Back to Multiple platform build/check report for BioC 3.10 |
|
This page was generated on 2020-04-15 12:29:35 -0400 (Wed, 15 Apr 2020).
| Package 1591/1823 | Hostname | OS / Arch | INSTALL | BUILD | CHECK | BUILD BIN | ||||||
| signet 1.6.0 Alexandre Gouy
| malbec1 | Linux (Ubuntu 18.04.4 LTS) / x86_64 | OK | OK | OK | |||||||
| tokay1 | Windows Server 2012 R2 Standard / x64 | OK | [ OK ] | OK | OK | |||||||
| merida1 | OS X 10.11.6 El Capitan / x86_64 | OK | OK | OK | OK |
| Package: signet |
| Version: 1.6.0 |
| Command: chmod a+r signet -R && C:\Users\biocbuild\bbs-3.10-bioc\R\bin\R.exe CMD build --keep-empty-dirs --no-resave-data signet |
| StartedAt: 2020-04-14 23:54:07 -0400 (Tue, 14 Apr 2020) |
| EndedAt: 2020-04-14 23:54:26 -0400 (Tue, 14 Apr 2020) |
| EllapsedTime: 19.5 seconds |
| RetCode: 0 |
| Status: OK |
| PackageFile: signet_1.6.0.tar.gz |
| PackageFileSize: 208 KiB |
##############################################################################
##############################################################################
###
### Running command:
###
### chmod a+r signet -R && C:\Users\biocbuild\bbs-3.10-bioc\R\bin\R.exe CMD build --keep-empty-dirs --no-resave-data signet
###
##############################################################################
##############################################################################
* checking for file 'signet/DESCRIPTION' ... OK
* preparing 'signet':
* checking DESCRIPTION meta-information ... OK
* installing the package to build vignettes
* creating vignettes ... OK
Warning: 'inst/doc' files
'signet.Rmd', 'signet.html', 'signet.R'
ignored as vignettes have been rebuilt.
Run R CMD build with --no-build-vignettes to prevent rebuilding.
* checking for LF line-endings in source and make files and shell scripts
* checking for empty or unneeded directories
* looking to see if a 'data/datalist' file should be added
* building 'signet_1.6.0.tar.gz'