| Back to Multiple platform build/check report for BioC 3.10 |
|
This page was generated on 2020-04-15 12:30:12 -0400 (Wed, 15 Apr 2020).
| Package 1568/1823 | Hostname | OS / Arch | INSTALL | BUILD | CHECK | BUILD BIN | ||||||
| seqsetvis 1.6.0 Joseph R Boyd
| malbec1 | Linux (Ubuntu 18.04.4 LTS) / x86_64 | OK | OK | OK | |||||||
| tokay1 | Windows Server 2012 R2 Standard / x64 | OK | OK | OK | [ OK ] | |||||||
| merida1 | OS X 10.11.6 El Capitan / x86_64 | OK | OK | OK | OK |
| Package: seqsetvis |
| Version: 1.6.0 |
| Command: rm -rf seqsetvis.buildbin-libdir && mkdir seqsetvis.buildbin-libdir && C:\Users\biocbuild\bbs-3.10-bioc\R\bin\R.exe CMD INSTALL --merge-multiarch --build --library=seqsetvis.buildbin-libdir seqsetvis_1.6.0.tar.gz |
| StartedAt: 2020-04-15 09:40:20 -0400 (Wed, 15 Apr 2020) |
| EndedAt: 2020-04-15 09:41:26 -0400 (Wed, 15 Apr 2020) |
| EllapsedTime: 66.6 seconds |
| RetCode: 0 |
| Status: OK |
| PackageFile: seqsetvis_1.6.0.zip |
| PackageFileSize: 1.416 MiB |
##############################################################################
##############################################################################
###
### Running command:
###
### rm -rf seqsetvis.buildbin-libdir && mkdir seqsetvis.buildbin-libdir && C:\Users\biocbuild\bbs-3.10-bioc\R\bin\R.exe CMD INSTALL --merge-multiarch --build --library=seqsetvis.buildbin-libdir seqsetvis_1.6.0.tar.gz
###
##############################################################################
##############################################################################
install for i386
* installing *source* package 'seqsetvis' ...
** using staged installation
** R
** data
*** moving datasets to lazyload DB
** inst
** byte-compile and prepare package for lazy loading
** help
*** installing help indices
converting help for package 'seqsetvis'
finding HTML links ... done
Bcell_peaks html
CTCF_in_10a_bigWig_urls html
CTCF_in_10a_data html
CTCF_in_10a_narrowPeak_grs html
CTCF_in_10a_narrowPeak_urls html
CTCF_in_10a_overlaps_gr html
CTCF_in_10a_profiles_dt html
CTCF_in_10a_profiles_gr html
append_ynorm html
applySpline html
calc_norm_factors html
centerAtMax html
centerFixedSizeGRanges html
chromHMM_demo_bw_states_gr html
chromHMM_demo_chain_url html
chromHMM_demo_data html
chromHMM_demo_overlaps_gr html
chromHMM_demo_segmentation_url html
chromHMM_demo_state_colors html
chromHMM_demo_state_total_widths html
clusteringKmeans html
clusteringKmeansNestedHclust html
col2hex html
crossCorrByRle html
dot-expand_cigar_dt html
dot-expand_cigar_dt_recursive html
dot-rm_dupes html
dot-rm_dupesPE html
easyLoad_bed html
easyLoad_broadPeak html
easyLoad_narrowPeak html
fetchBam html
fragLen_calcStranded html
fragLen_fromMacs2Xls html
getReadLength html
ggellipse html
harmonize_seqlengths html
prepare_fetch_GRanges html
quantileGRangesWidth html
safeBrew html
seqsetvis-package html
set_list2memb html
shift_anchor html
ssvFactorizeMembTable html
ssvFeatureBars html
ssvFeatureBinaryHeatmap html
ssvFeatureEuler html
ssvFeaturePie html
ssvFeatureVenn html
ssvFetchBam html
ssvFetchBam.single html
ssvFetchBamPE html
ssvFetchBamPE.single html
ssvFetchBigwig html
ssvFetchBigwig.single html
ssvFetchGRanges html
ssvFetchSignal html
ssvMakeMembTable-methods html
ssvOverlapIntervalSets html
ssvSignalBandedQuantiles html
ssvSignalClustering html
ssvSignalHeatmap html
ssvSignalLineplot html
ssvSignalLineplotAgg html
ssvSignalScatterplot html
test_peaks html
viewGRangesWinSample_dt html
viewGRangesWinSummary_dt html
** building package indices
** installing vignettes
** testing if installed package can be loaded from temporary location
** testing if installed package can be loaded from final location
** testing if installed package keeps a record of temporary installation path
install for x64
* installing *source* package 'seqsetvis' ...
** testing if installed package can be loaded
* MD5 sums
packaged installation of 'seqsetvis' as seqsetvis_1.6.0.zip
* DONE (seqsetvis)