| Back to Multiple platform build/check report for BioC 3.10 |
|
This page was generated on 2020-04-15 12:29:05 -0400 (Wed, 15 Apr 2020).
| Package 1561/1823 | Hostname | OS / Arch | INSTALL | BUILD | CHECK | BUILD BIN | ||||||
| seqCAT 1.8.1 Erik Fasterius
| malbec1 | Linux (Ubuntu 18.04.4 LTS) / x86_64 | OK | OK | OK | |||||||
| tokay1 | Windows Server 2012 R2 Standard / x64 | [ OK ] | OK | OK | OK | |||||||
| merida1 | OS X 10.11.6 El Capitan / x86_64 | OK | OK | OK | OK |
| Package: seqCAT |
| Version: 1.8.1 |
| Command: C:\cygwin\bin\curl.exe -O https://malbec1.bioconductor.org/BBS/3.10/bioc/src/contrib/seqCAT_1.8.1.tar.gz && rm -rf seqCAT.buildbin-libdir && mkdir seqCAT.buildbin-libdir && C:\Users\biocbuild\bbs-3.10-bioc\R\bin\R.exe CMD INSTALL --merge-multiarch --build --library=seqCAT.buildbin-libdir seqCAT_1.8.1.tar.gz && C:\Users\biocbuild\bbs-3.10-bioc\R\bin\R.exe CMD INSTALL seqCAT_1.8.1.zip && rm seqCAT_1.8.1.tar.gz seqCAT_1.8.1.zip |
| StartedAt: 2020-04-14 19:58:13 -0400 (Tue, 14 Apr 2020) |
| EndedAt: 2020-04-14 19:59:09 -0400 (Tue, 14 Apr 2020) |
| EllapsedTime: 56.1 seconds |
| RetCode: 0 |
| Status: OK |
##############################################################################
##############################################################################
###
### Running command:
###
### C:\cygwin\bin\curl.exe -O https://malbec1.bioconductor.org/BBS/3.10/bioc/src/contrib/seqCAT_1.8.1.tar.gz && rm -rf seqCAT.buildbin-libdir && mkdir seqCAT.buildbin-libdir && C:\Users\biocbuild\bbs-3.10-bioc\R\bin\R.exe CMD INSTALL --merge-multiarch --build --library=seqCAT.buildbin-libdir seqCAT_1.8.1.tar.gz && C:\Users\biocbuild\bbs-3.10-bioc\R\bin\R.exe CMD INSTALL seqCAT_1.8.1.zip && rm seqCAT_1.8.1.tar.gz seqCAT_1.8.1.zip
###
##############################################################################
##############################################################################
% Total % Received % Xferd Average Speed Time Time Time Current
Dload Upload Total Spent Left Speed
0 0 0 0 0 0 0 0 --:--:-- --:--:-- --:--:-- 0
100 2402k 100 2402k 0 0 12.6M 0 --:--:-- --:--:-- --:--:-- 12.8M
install for i386
* installing *source* package 'seqCAT' ...
** using staged installation
** R
** data
*** moving datasets to lazyload DB
** inst
** byte-compile and prepare package for lazy loading
** help
*** installing help indices
converting help for package 'seqCAT'
finding HTML links ... done
calculate_similarity html
compare_many html
compare_profiles html
create_profile html
create_profiles html
filter_duplicates html
filter_variants html
list_cosmic html
list_variants html
plot_heatmap html
plot_impacts html
plot_variant_list html
read_cosmic html
read_profile html
read_profiles html
seqCAT html
test_comparison html
test_profile_1 html
test_profile_2 html
test_profile_3 html
test_similarities html
test_variant_list html
write_profile html
write_profiles html
*** copying figures
** building package indices
** installing vignettes
** testing if installed package can be loaded from temporary location
** testing if installed package can be loaded from final location
** testing if installed package keeps a record of temporary installation path
install for x64
* installing *source* package 'seqCAT' ...
** testing if installed package can be loaded
* MD5 sums
packaged installation of 'seqCAT' as seqCAT_1.8.1.zip
* DONE (seqCAT)
* installing to library 'C:/Users/biocbuild/bbs-3.10-bioc/R/library'
package 'seqCAT' successfully unpacked and MD5 sums checked