| Back to Multiple platform build/check report for BioC 3.10 |
|
This page was generated on 2020-04-15 12:19:10 -0400 (Wed, 15 Apr 2020).
| Package 1552/1823 | Hostname | OS / Arch | INSTALL | BUILD | CHECK | BUILD BIN | ||||||
| segmentSeq 2.20.0 Thomas J. Hardcastle
| malbec1 | Linux (Ubuntu 18.04.4 LTS) / x86_64 | OK | OK | OK | |||||||
| tokay1 | Windows Server 2012 R2 Standard / x64 | OK | OK | WARNINGS | [ OK ] | |||||||
| merida1 | OS X 10.11.6 El Capitan / x86_64 | OK | OK | OK | OK |
| Package: segmentSeq |
| Version: 2.20.0 |
| Command: rm -rf segmentSeq.buildbin-libdir && mkdir segmentSeq.buildbin-libdir && C:\Users\biocbuild\bbs-3.10-bioc\R\bin\R.exe CMD INSTALL --merge-multiarch --build --library=segmentSeq.buildbin-libdir segmentSeq_2.20.0.tar.gz |
| StartedAt: 2020-04-15 09:39:26 -0400 (Wed, 15 Apr 2020) |
| EndedAt: 2020-04-15 09:40:31 -0400 (Wed, 15 Apr 2020) |
| EllapsedTime: 64.1 seconds |
| RetCode: 0 |
| Status: OK |
| PackageFile: segmentSeq_2.20.0.zip |
| PackageFileSize: 3.446 MiB |
##############################################################################
##############################################################################
###
### Running command:
###
### rm -rf segmentSeq.buildbin-libdir && mkdir segmentSeq.buildbin-libdir && C:\Users\biocbuild\bbs-3.10-bioc\R\bin\R.exe CMD INSTALL --merge-multiarch --build --library=segmentSeq.buildbin-libdir segmentSeq_2.20.0.tar.gz
###
##############################################################################
##############################################################################
install for i386
* installing *source* package 'segmentSeq' ...
** using staged installation
** R
** data
** inst
** byte-compile and prepare package for lazy loading
** help
*** installing help indices
converting help for package 'segmentSeq'
finding HTML links ... done
SL html
alignmentClass-class html
alignmentData-class html
alignmentMeth-class html
averageMethylationRegions html
finding level-2 HTML links ... done
classifySeg html
Rd warning: C:/Users/biocbuild/bbs-3.10-bioc/tmpdir/RtmpohFJSH/R.INSTALL3e44d0e6b00/segmentSeq/man/classifySeg.Rd:45: file link 'getPriors.NB' in package 'baySeq' does not exist and so has been treated as a topic
findChunks html
getCounts html
getOverlaps html
givenExpression html
hSL html
heuristicSeg html
lociData-class html
lociLikelihoods html
Rd warning: C:/Users/biocbuild/bbs-3.10-bioc/tmpdir/RtmpohFJSH/R.INSTALL3e44d0e6b00/segmentSeq/man/lociLikelihoods.Rd:27: file link 'getLikelihoods.NB' in package 'baySeq' does not exist and so has been treated as a topic
mergeMethSegs html
methData-class html
normaliseNC html
plotGenome html
plotMeth html
plotMethDistribution html
processAD html
readMethods html
readMeths html
segClass-class html
Rd warning: C:/Users/biocbuild/bbs-3.10-bioc/tmpdir/RtmpohFJSH/R.INSTALL3e44d0e6b00/segmentSeq/man/segClass-class.Rd:23: file link 'GRanges' in package 'GenomicRanges' does not exist and so has been treated as a topic
segData-class html
Rd warning: C:/Users/biocbuild/bbs-3.10-bioc/tmpdir/RtmpohFJSH/R.INSTALL3e44d0e6b00/segmentSeq/man/segData-class.Rd:25: file link 'GRanges' in package 'GenomicRanges' does not exist and so has been treated as a topic
segMeth-class html
Rd warning: C:/Users/biocbuild/bbs-3.10-bioc/tmpdir/RtmpohFJSH/R.INSTALL3e44d0e6b00/segmentSeq/man/segMeth-class.Rd:25: file link 'GRanges' in package 'GenomicRanges' does not exist and so has been treated as a topic
segmentSeq-package html
selectLoci html
summariseLoci html
thresholdFinder html
** building package indices
** installing vignettes
** testing if installed package can be loaded from temporary location
** testing if installed package can be loaded from final location
** testing if installed package keeps a record of temporary installation path
install for x64
* installing *source* package 'segmentSeq' ...
** testing if installed package can be loaded
* MD5 sums
packaged installation of 'segmentSeq' as segmentSeq_2.20.0.zip
* DONE (segmentSeq)