| Back to Multiple platform build/check report for BioC 3.10 |
|
This page was generated on 2020-04-15 12:29:39 -0400 (Wed, 15 Apr 2020).
| Package 1531/1823 | Hostname | OS / Arch | INSTALL | BUILD | CHECK | BUILD BIN | ||||||
| scFeatureFilter 1.6.0 Guillaume Devailly
| malbec1 | Linux (Ubuntu 18.04.4 LTS) / x86_64 | OK | OK | OK | |||||||
| tokay1 | Windows Server 2012 R2 Standard / x64 | [ OK ] | OK | OK | OK | |||||||
| merida1 | OS X 10.11.6 El Capitan / x86_64 | OK | OK | OK | OK |
| Package: scFeatureFilter |
| Version: 1.6.0 |
| Command: C:\cygwin\bin\curl.exe -O https://malbec1.bioconductor.org/BBS/3.10/bioc/src/contrib/scFeatureFilter_1.6.0.tar.gz && rm -rf scFeatureFilter.buildbin-libdir && mkdir scFeatureFilter.buildbin-libdir && C:\Users\biocbuild\bbs-3.10-bioc\R\bin\R.exe CMD INSTALL --merge-multiarch --build --library=scFeatureFilter.buildbin-libdir scFeatureFilter_1.6.0.tar.gz && C:\Users\biocbuild\bbs-3.10-bioc\R\bin\R.exe CMD INSTALL scFeatureFilter_1.6.0.zip && rm scFeatureFilter_1.6.0.tar.gz scFeatureFilter_1.6.0.zip |
| StartedAt: 2020-04-14 18:57:09 -0400 (Tue, 14 Apr 2020) |
| EndedAt: 2020-04-14 18:57:39 -0400 (Tue, 14 Apr 2020) |
| EllapsedTime: 29.8 seconds |
| RetCode: 0 |
| Status: OK |
##############################################################################
##############################################################################
###
### Running command:
###
### C:\cygwin\bin\curl.exe -O https://malbec1.bioconductor.org/BBS/3.10/bioc/src/contrib/scFeatureFilter_1.6.0.tar.gz && rm -rf scFeatureFilter.buildbin-libdir && mkdir scFeatureFilter.buildbin-libdir && C:\Users\biocbuild\bbs-3.10-bioc\R\bin\R.exe CMD INSTALL --merge-multiarch --build --library=scFeatureFilter.buildbin-libdir scFeatureFilter_1.6.0.tar.gz && C:\Users\biocbuild\bbs-3.10-bioc\R\bin\R.exe CMD INSTALL scFeatureFilter_1.6.0.zip && rm scFeatureFilter_1.6.0.tar.gz scFeatureFilter_1.6.0.zip
###
##############################################################################
##############################################################################
% Total % Received % Xferd Average Speed Time Time Time Current
Dload Upload Total Spent Left Speed
0 0 0 0 0 0 0 0 --:--:-- --:--:-- --:--:-- 0
100 2916k 100 2916k 0 0 43.2M 0 --:--:-- --:--:-- --:--:-- 45.9M
install for i386
* installing *source* package 'scFeatureFilter' ...
** using staged installation
** R
** data
*** moving datasets to lazyload DB
** inst
** byte-compile and prepare package for lazy loading
** help
*** installing help indices
converting help for package 'scFeatureFilter'
finding HTML links ... done
bin_scdata html
calculate_cvs html
correlate_windows html
correlations_to_densities html
finding level-2 HTML links ... done
define_top_genes html
determine_bin_cutoff html
filter_expression_table html
get_mean_median html
plot_correlations_distributions html
plot_mean_variance html
plot_metric html
plot_top_window_autocor html
scData_hESC html
sc_feature_filter html
** building package indices
** installing vignettes
** testing if installed package can be loaded from temporary location
** testing if installed package can be loaded from final location
** testing if installed package keeps a record of temporary installation path
install for x64
* installing *source* package 'scFeatureFilter' ...
** testing if installed package can be loaded
* MD5 sums
packaged installation of 'scFeatureFilter' as scFeatureFilter_1.6.0.zip
* DONE (scFeatureFilter)
* installing to library 'C:/Users/biocbuild/bbs-3.10-bioc/R/library'
package 'scFeatureFilter' successfully unpacked and MD5 sums checked