| Back to Multiple platform build/check report for BioC 3.10 |
|
This page was generated on 2020-04-15 12:17:14 -0400 (Wed, 15 Apr 2020).
| Package 1506/1823 | Hostname | OS / Arch | INSTALL | BUILD | CHECK | BUILD BIN | ||||||
| safe 3.26.0 William T. Barry
| malbec1 | Linux (Ubuntu 18.04.4 LTS) / x86_64 | OK | OK | OK | |||||||
| tokay1 | Windows Server 2012 R2 Standard / x64 | OK | OK | OK | [ OK ] | |||||||
| merida1 | OS X 10.11.6 El Capitan / x86_64 | OK | OK | OK | OK |
| Package: safe |
| Version: 3.26.0 |
| Command: rm -rf safe.buildbin-libdir && mkdir safe.buildbin-libdir && C:\Users\biocbuild\bbs-3.10-bioc\R\bin\R.exe CMD INSTALL --merge-multiarch --build --library=safe.buildbin-libdir safe_3.26.0.tar.gz |
| StartedAt: 2020-04-15 09:37:02 -0400 (Wed, 15 Apr 2020) |
| EndedAt: 2020-04-15 09:37:30 -0400 (Wed, 15 Apr 2020) |
| EllapsedTime: 28.2 seconds |
| RetCode: 0 |
| Status: OK |
| PackageFile: safe_3.26.0.zip |
| PackageFileSize: 673.7 KiB |
##############################################################################
##############################################################################
###
### Running command:
###
### rm -rf safe.buildbin-libdir && mkdir safe.buildbin-libdir && C:\Users\biocbuild\bbs-3.10-bioc\R\bin\R.exe CMD INSTALL --merge-multiarch --build --library=safe.buildbin-libdir safe_3.26.0.tar.gz
###
##############################################################################
##############################################################################
install for i386
* installing *source* package 'safe' ...
** using staged installation
** R
** data
** inst
** byte-compile and prepare package for lazy loading
** help
*** installing help indices
converting help for package 'safe'
finding HTML links ... done
SAFE-class html
gene.results html
getCmatrix html
p53.stat html
safe-internal html
safe-package html
safe html
safe.toptable html
safedag html
safeplot html
** building package indices
** installing vignettes
** testing if installed package can be loaded from temporary location
** testing if installed package can be loaded from final location
** testing if installed package keeps a record of temporary installation path
install for x64
* installing *source* package 'safe' ...
** testing if installed package can be loaded
* MD5 sums
packaged installation of 'safe' as safe_3.26.0.zip
* DONE (safe)