| Back to Multiple platform build/check report for BioC 3.10 |
|
This page was generated on 2020-04-15 12:22:27 -0400 (Wed, 15 Apr 2020).
| Package 1465/1823 | Hostname | OS / Arch | INSTALL | BUILD | CHECK | BUILD BIN | ||||||
| roar 1.22.0 Elena Grassi
| malbec1 | Linux (Ubuntu 18.04.4 LTS) / x86_64 | OK | OK | OK | |||||||
| tokay1 | Windows Server 2012 R2 Standard / x64 | OK | OK | OK | [ OK ] | |||||||
| merida1 | OS X 10.11.6 El Capitan / x86_64 | OK | OK | OK | OK |
| Package: roar |
| Version: 1.22.0 |
| Command: rm -rf roar.buildbin-libdir && mkdir roar.buildbin-libdir && C:\Users\biocbuild\bbs-3.10-bioc\R\bin\R.exe CMD INSTALL --merge-multiarch --build --library=roar.buildbin-libdir roar_1.22.0.tar.gz |
| StartedAt: 2020-04-15 09:34:34 -0400 (Wed, 15 Apr 2020) |
| EndedAt: 2020-04-15 09:35:28 -0400 (Wed, 15 Apr 2020) |
| EllapsedTime: 53.6 seconds |
| RetCode: 0 |
| Status: OK |
| PackageFile: roar_1.22.0.zip |
| PackageFileSize: 1.06 MiB |
##############################################################################
##############################################################################
###
### Running command:
###
### rm -rf roar.buildbin-libdir && mkdir roar.buildbin-libdir && C:\Users\biocbuild\bbs-3.10-bioc\R\bin\R.exe CMD INSTALL --merge-multiarch --build --library=roar.buildbin-libdir roar_1.22.0.tar.gz
###
##############################################################################
##############################################################################
install for i386
* installing *source* package 'roar' ...
** using staged installation
** R
** inst
** byte-compile and prepare package for lazy loading
** help
*** installing help indices
converting help for package 'roar'
finding HTML links ... done
RoarDataset-class html
finding level-2 HTML links ... done
RoarDataset-constructor html
RoarDatasetFromFiles-constructor html
RoarDatasetMultipleAPA-class html
RoarDatasetMultipleAPA-constructor html
RoarDatasetMultipleAPAFromFiles-constructor
html
checkStep-method html
combineFisherMethod-method html
computePairedPvals-method html
computePvals-method html
computeRoars-method html
cores-method html
countPrePost-method html
countResults-method html
fpkmResults-method html
getFisher-method html
meanAcrossAssays-method html
pvalueCorrectFilter-method html
pvalueFilter-method html
roar-package html
standardFilter-method html
totalResults-method html
** building package indices
** installing vignettes
** testing if installed package can be loaded from temporary location
** testing if installed package can be loaded from final location
** testing if installed package keeps a record of temporary installation path
install for x64
* installing *source* package 'roar' ...
** testing if installed package can be loaded
* MD5 sums
packaged installation of 'roar' as roar_1.22.0.zip
* DONE (roar)