| Back to Multiple platform build/check report for BioC 3.10 |
|
This page was generated on 2020-04-15 12:23:48 -0400 (Wed, 15 Apr 2020).
| Package 1409/1823 | Hostname | OS / Arch | INSTALL | BUILD | CHECK | BUILD BIN | ||||||
| regionReport 1.20.1 Leonardo Collado-Torres
| malbec1 | Linux (Ubuntu 18.04.4 LTS) / x86_64 | OK | ERROR | skipped | |||||||
| tokay1 | Windows Server 2012 R2 Standard / x64 | OK | OK | OK | [ OK ] | |||||||
| merida1 | OS X 10.11.6 El Capitan / x86_64 | OK | OK | OK | OK |
| Package: regionReport |
| Version: 1.20.1 |
| Command: rm -rf regionReport.buildbin-libdir && mkdir regionReport.buildbin-libdir && C:\Users\biocbuild\bbs-3.10-bioc\R\bin\R.exe CMD INSTALL --merge-multiarch --build --library=regionReport.buildbin-libdir regionReport_1.20.1.tar.gz |
| StartedAt: 2020-04-15 09:31:23 -0400 (Wed, 15 Apr 2020) |
| EndedAt: 2020-04-15 09:32:30 -0400 (Wed, 15 Apr 2020) |
| EllapsedTime: 67.2 seconds |
| RetCode: 0 |
| Status: OK |
| PackageFile: regionReport_1.20.1.zip |
| PackageFileSize: 1.149 MiB |
##############################################################################
##############################################################################
###
### Running command:
###
### rm -rf regionReport.buildbin-libdir && mkdir regionReport.buildbin-libdir && C:\Users\biocbuild\bbs-3.10-bioc\R\bin\R.exe CMD INSTALL --merge-multiarch --build --library=regionReport.buildbin-libdir regionReport_1.20.1.tar.gz
###
##############################################################################
##############################################################################
install for i386
* installing *source* package 'regionReport' ...
** using staged installation
** R
** inst
** byte-compile and prepare package for lazy loading
** help
*** installing help indices
converting help for package 'regionReport'
finding HTML links ... done
DESeq2Report html
derfinderReport html
edgeReport html
load_check html
regionReport-package html
renderReport html
with_wd html
** building package indices
** installing vignettes
** testing if installed package can be loaded from temporary location
** testing if installed package can be loaded from final location
** testing if installed package keeps a record of temporary installation path
install for x64
* installing *source* package 'regionReport' ...
** testing if installed package can be loaded
* MD5 sums
packaged installation of 'regionReport' as regionReport_1.20.1.zip
* DONE (regionReport)