| Back to Multiple platform build/check report for BioC 3.10 |
|
This page was generated on 2020-04-15 12:27:03 -0400 (Wed, 15 Apr 2020).
| Package 1402/1823 | Hostname | OS / Arch | INSTALL | BUILD | CHECK | BUILD BIN | ||||||
| recount 1.12.1 Leonardo Collado-Torres
| malbec1 | Linux (Ubuntu 18.04.4 LTS) / x86_64 | OK | OK | OK | |||||||
| tokay1 | Windows Server 2012 R2 Standard / x64 | [ OK ] | OK | OK | OK | |||||||
| merida1 | OS X 10.11.6 El Capitan / x86_64 | OK | OK | OK | OK |
| Package: recount |
| Version: 1.12.1 |
| Command: C:\cygwin\bin\curl.exe -O https://malbec1.bioconductor.org/BBS/3.10/bioc/src/contrib/recount_1.12.1.tar.gz && rm -rf recount.buildbin-libdir && mkdir recount.buildbin-libdir && C:\Users\biocbuild\bbs-3.10-bioc\R\bin\R.exe CMD INSTALL --merge-multiarch --build --library=recount.buildbin-libdir recount_1.12.1.tar.gz && C:\Users\biocbuild\bbs-3.10-bioc\R\bin\R.exe CMD INSTALL recount_1.12.1.zip && rm recount_1.12.1.tar.gz recount_1.12.1.zip |
| StartedAt: 2020-04-14 20:34:42 -0400 (Tue, 14 Apr 2020) |
| EndedAt: 2020-04-14 20:36:10 -0400 (Tue, 14 Apr 2020) |
| EllapsedTime: 87.8 seconds |
| RetCode: 0 |
| Status: OK |
##############################################################################
##############################################################################
###
### Running command:
###
### C:\cygwin\bin\curl.exe -O https://malbec1.bioconductor.org/BBS/3.10/bioc/src/contrib/recount_1.12.1.tar.gz && rm -rf recount.buildbin-libdir && mkdir recount.buildbin-libdir && C:\Users\biocbuild\bbs-3.10-bioc\R\bin\R.exe CMD INSTALL --merge-multiarch --build --library=recount.buildbin-libdir recount_1.12.1.tar.gz && C:\Users\biocbuild\bbs-3.10-bioc\R\bin\R.exe CMD INSTALL recount_1.12.1.zip && rm recount_1.12.1.tar.gz recount_1.12.1.zip
###
##############################################################################
##############################################################################
% Total % Received % Xferd Average Speed Time Time Time Current
Dload Upload Total Spent Left Speed
0 0 0 0 0 0 0 0 --:--:-- --:--:-- --:--:-- 0
71 5764k 71 4096k 0 0 29.5M 0 --:--:-- --:--:-- --:--:-- 30.3M
100 5764k 100 5764k 0 0 37.2M 0 --:--:-- --:--:-- --:--:-- 38.0M
install for i386
* installing *source* package 'recount' ...
** using staged installation
** R
** data
*** moving datasets to lazyload DB
** inst
** byte-compile and prepare package for lazy loading
** help
*** installing help indices
converting help for package 'recount'
finding HTML links ... done
abstract_search html
add_metadata html
add_predictions html
all_metadata html
browse_study html
coverage_matrix html
download_retry html
download_study html
expressed_regions html
find_geo html
geo_characteristics html
geo_info html
getRPKM html
getTPM html
read_counts html
recount-package html
recount_abstract html
recount_exons html
recount_genes html
recount_url html
reproduce_ranges html
rse_gene_SRP009615 html
scale_counts html
snaptron_query html
** building package indices
** installing vignettes
** testing if installed package can be loaded from temporary location
** testing if installed package can be loaded from final location
** testing if installed package keeps a record of temporary installation path
install for x64
* installing *source* package 'recount' ...
** testing if installed package can be loaded
* MD5 sums
packaged installation of 'recount' as recount_1.12.1.zip
* DONE (recount)
* installing to library 'C:/Users/biocbuild/bbs-3.10-bioc/R/library'
package 'recount' successfully unpacked and MD5 sums checked