| Back to Multiple platform build/check report for BioC 3.10 |
|
This page was generated on 2020-04-15 12:17:23 -0400 (Wed, 15 Apr 2020).
| Package 1400/1823 | Hostname | OS / Arch | INSTALL | BUILD | CHECK | BUILD BIN | ||||||
| reb 1.64.0 Karl J. Dykema
| malbec1 | Linux (Ubuntu 18.04.4 LTS) / x86_64 | OK | OK | OK | |||||||
| tokay1 | Windows Server 2012 R2 Standard / x64 | [ OK ] | OK | OK | OK | |||||||
| merida1 | OS X 10.11.6 El Capitan / x86_64 | OK | OK | OK | OK |
| Package: reb |
| Version: 1.64.0 |
| Command: C:\cygwin\bin\curl.exe -O https://malbec1.bioconductor.org/BBS/3.10/bioc/src/contrib/reb_1.64.0.tar.gz && rm -rf reb.buildbin-libdir && mkdir reb.buildbin-libdir && C:\Users\biocbuild\bbs-3.10-bioc\R\bin\R.exe CMD INSTALL --merge-multiarch --build --library=reb.buildbin-libdir reb_1.64.0.tar.gz && C:\Users\biocbuild\bbs-3.10-bioc\R\bin\R.exe CMD INSTALL reb_1.64.0.zip && rm reb_1.64.0.tar.gz reb_1.64.0.zip |
| StartedAt: 2020-04-14 18:53:35 -0400 (Tue, 14 Apr 2020) |
| EndedAt: 2020-04-14 18:54:11 -0400 (Tue, 14 Apr 2020) |
| EllapsedTime: 35.9 seconds |
| RetCode: 0 |
| Status: OK |
##############################################################################
##############################################################################
###
### Running command:
###
### C:\cygwin\bin\curl.exe -O https://malbec1.bioconductor.org/BBS/3.10/bioc/src/contrib/reb_1.64.0.tar.gz && rm -rf reb.buildbin-libdir && mkdir reb.buildbin-libdir && C:\Users\biocbuild\bbs-3.10-bioc\R\bin\R.exe CMD INSTALL --merge-multiarch --build --library=reb.buildbin-libdir reb_1.64.0.tar.gz && C:\Users\biocbuild\bbs-3.10-bioc\R\bin\R.exe CMD INSTALL reb_1.64.0.zip && rm reb_1.64.0.tar.gz reb_1.64.0.zip
###
##############################################################################
##############################################################################
% Total % Received % Xferd Average Speed Time Time Time Current
Dload Upload Total Spent Left Speed
0 0 0 0 0 0 0 0 --:--:-- --:--:-- --:--:-- 0
100 491k 100 491k 0 0 9853k 0 --:--:-- --:--:-- --:--:-- 10.4M
install for i386
* installing *source* package 'reb' ...
** using staged installation
** libs
C:/Rtools/mingw_32/bin/gcc -I"C:/Users/BIOCBU~1/BBS-3~1.10-/R/include" -DNDEBUG -I"C:/extsoft/include" -O3 -Wall -std=gnu99 -mtune=core2 -c movbin.c -o movbin.o
C:/Rtools/mingw_32/bin/gcc -shared -s -static-libgcc -o reb.dll tmp.def movbin.o -LC:/extsoft/lib/i386 -LC:/extsoft/lib -LC:/Users/BIOCBU~1/BBS-3~1.10-/R/bin/i386 -lR
installing to C:/Users/biocbuild/bbs-3.10-bioc/meat/reb.buildbin-libdir/00LOCK-reb/00new/reb/libs/i386
** R
** data
** byte-compile and prepare package for lazy loading
** help
*** installing help indices
converting help for package 'reb'
finding HTML links ... done
Hs.arms html
absMax html
buildChromCytoband html
buildChromMap html
cset2band html
fromRevIsh html
isAbnormal html
mcr.eset html
movbin html
movt html
naMean html
regmap html
revish html
rmAmbigMappings html
smoothByRegion html
summarizeByRegion html
tBinomTest html
writeGFF3 html
** building package indices
** installing vignettes
** testing if installed package can be loaded from temporary location
** testing if installed package can be loaded from final location
** testing if installed package keeps a record of temporary installation path
install for x64
* installing *source* package 'reb' ...
** libs
C:/Rtools/mingw_64/bin/gcc -I"C:/Users/BIOCBU~1/BBS-3~1.10-/R/include" -DNDEBUG -I"C:/extsoft/include" -O2 -Wall -std=gnu99 -mtune=core2 -c movbin.c -o movbin.o
C:/Rtools/mingw_64/bin/gcc -shared -s -static-libgcc -o reb.dll tmp.def movbin.o -LC:/extsoft/lib/x64 -LC:/extsoft/lib -LC:/Users/BIOCBU~1/BBS-3~1.10-/R/bin/x64 -lR
installing to C:/Users/biocbuild/bbs-3.10-bioc/meat/reb.buildbin-libdir/reb/libs/x64
** testing if installed package can be loaded
* MD5 sums
packaged installation of 'reb' as reb_1.64.0.zip
* DONE (reb)
* installing to library 'C:/Users/biocbuild/bbs-3.10-bioc/R/library'
package 'reb' successfully unpacked and MD5 sums checked