| Back to Multiple platform build/check report for BioC 3.10 |
|
This page was generated on 2020-04-15 12:44:41 -0400 (Wed, 15 Apr 2020).
| Package 1364/1823 | Hostname | OS / Arch | INSTALL | BUILD | CHECK | BUILD BIN | ||||||
| ramwas 1.10.5 Andrey A Shabalin
| malbec1 | Linux (Ubuntu 18.04.4 LTS) / x86_64 | OK | OK | OK | |||||||
| tokay1 | Windows Server 2012 R2 Standard / x64 | OK | OK | OK | OK | |||||||
| merida1 | OS X 10.11.6 El Capitan / x86_64 | OK | OK | [ OK ] | OK |
| Package: ramwas |
| Version: 1.10.5 |
| Command: /Library/Frameworks/R.framework/Versions/Current/Resources/bin/R CMD check --install=check:ramwas.install-out.txt --library=/Library/Frameworks/R.framework/Versions/Current/Resources/library --no-vignettes --timings ramwas_1.10.5.tar.gz |
| StartedAt: 2020-04-15 04:57:21 -0400 (Wed, 15 Apr 2020) |
| EndedAt: 2020-04-15 05:01:50 -0400 (Wed, 15 Apr 2020) |
| EllapsedTime: 268.8 seconds |
| RetCode: 0 |
| Status: OK |
| CheckDir: ramwas.Rcheck |
| Warnings: 0 |
##############################################################################
##############################################################################
###
### Running command:
###
### /Library/Frameworks/R.framework/Versions/Current/Resources/bin/R CMD check --install=check:ramwas.install-out.txt --library=/Library/Frameworks/R.framework/Versions/Current/Resources/library --no-vignettes --timings ramwas_1.10.5.tar.gz
###
##############################################################################
##############################################################################
* using log directory ‘/Users/biocbuild/bbs-3.10-bioc/meat/ramwas.Rcheck’
* using R version 3.6.3 (2020-02-29)
* using platform: x86_64-apple-darwin15.6.0 (64-bit)
* using session charset: UTF-8
* using option ‘--no-vignettes’
* checking for file ‘ramwas/DESCRIPTION’ ... OK
* checking extension type ... Package
* this is package ‘ramwas’ version ‘1.10.5’
* checking package namespace information ... OK
* checking package dependencies ... OK
* checking if this is a source package ... OK
* checking if there is a namespace ... OK
* checking for hidden files and directories ... OK
* checking for portable file names ... OK
* checking for sufficient/correct file permissions ... OK
* checking whether package ‘ramwas’ can be installed ... OK
* checking installed package size ... OK
* checking package directory ... OK
* checking ‘build’ directory ... OK
* checking DESCRIPTION meta-information ... OK
* checking top-level files ... OK
* checking for left-over files ... OK
* checking index information ... OK
* checking package subdirectories ... OK
* checking R files for non-ASCII characters ... OK
* checking R files for syntax errors ... OK
* checking whether the package can be loaded ... OK
* checking whether the package can be loaded with stated dependencies ... OK
* checking whether the package can be unloaded cleanly ... OK
* checking whether the namespace can be loaded with stated dependencies ... OK
* checking whether the namespace can be unloaded cleanly ... OK
* checking dependencies in R code ... OK
* checking S3 generic/method consistency ... OK
* checking replacement functions ... OK
* checking foreign function calls ... OK
* checking R code for possible problems ... OK
* checking Rd files ... OK
* checking Rd metadata ... OK
* checking Rd cross-references ... OK
* checking for missing documentation entries ... OK
* checking for code/documentation mismatches ... OK
* checking Rd \usage sections ... OK
* checking Rd contents ... OK
* checking for unstated dependencies in examples ... OK
* checking line endings in C/C++/Fortran sources/headers ... OK
* checking compiled code ... NOTE
Note: information on .o files is not available
* checking files in ‘vignettes’ ... OK
* checking examples ... OK
Examples with CPU or elapsed time > 5s
user system elapsed
manhattan 8.138 0.824 9.017
* checking for unstated dependencies in vignettes ... OK
* checking package vignettes in ‘inst/doc’ ... OK
* checking running R code from vignettes ... SKIPPED
* checking re-building of vignette outputs ... SKIPPED
* checking PDF version of manual ... OK
* DONE
Status: 1 NOTE
See
‘/Users/biocbuild/bbs-3.10-bioc/meat/ramwas.Rcheck/00check.log’
for details.
ramwas.Rcheck/00install.out
############################################################################## ############################################################################## ### ### Running command: ### ### /Library/Frameworks/R.framework/Versions/Current/Resources/bin/R CMD INSTALL ramwas ### ############################################################################## ############################################################################## * installing to library ‘/Library/Frameworks/R.framework/Versions/3.6/Resources/library’ * installing *source* package ‘ramwas’ ... ** using staged installation ** libs clang -I"/Library/Frameworks/R.framework/Resources/include" -DNDEBUG -isysroot /Library/Developer/CommandLineTools/SDKs/MacOSX.sdk -I/usr/local/include -fPIC -Wall -g -O2 -c rw_c_code.c -o rw_c_code.o clang -dynamiclib -Wl,-headerpad_max_install_names -undefined dynamic_lookup -single_module -multiply_defined suppress -L/Library/Frameworks/R.framework/Resources/lib -L/usr/local/lib -o ramwas.so rw_c_code.o -F/Library/Frameworks/R.framework/.. -framework R -Wl,-framework -Wl,CoreFoundation installing to /Library/Frameworks/R.framework/Versions/3.6/Resources/library/00LOCK-ramwas/00new/ramwas/libs ** R ** inst ** byte-compile and prepare package for lazy loading ** help *** installing help indices *** copying figures ** building package indices ** installing vignettes ** testing if installed package can be loaded from temporary location ** checking absolute paths in shared objects and dynamic libraries ** testing if installed package can be loaded from final location ** testing if installed package keeps a record of temporary installation path * DONE (ramwas)
ramwas.Rcheck/ramwas-Ex.timings
| name | user | system | elapsed | |
| MakeBED | 0.000 | 0.000 | 0.001 | |
| QCs | 0.050 | 0.005 | 0.055 | |
| cachedRDSload | 1.102 | 0.002 | 1.107 | |
| findBestNpvs | 0.002 | 0.001 | 0.002 | |
| get | 0.000 | 0.000 | 0.001 | |
| getCpGset | 3.608 | 0.178 | 3.824 | |
| injectSNPsMAF | 0.685 | 0.006 | 0.699 | |
| insilicoFASTQ | 0.003 | 0.000 | 0.002 | |
| isAbsolutePath | 0.001 | 0.000 | 0.001 | |
| makefullpath | 0.001 | 0.001 | 0.001 | |
| manhattan | 8.138 | 0.824 | 9.017 | |
| mat2cols | 0.002 | 0.000 | 0.002 | |
| orthonormalizeCovariates | 0.012 | 0.001 | 0.013 | |
| parameterDump | 0.005 | 0.001 | 0.005 | |
| parameterPreprocess | 0.009 | 0.006 | 0.015 | |
| parametersFromFile | 0.002 | 0.001 | 0.003 | |
| pipeline | 0.003 | 0.001 | 0.004 | |
| plotCV | 0.226 | 0.013 | 0.248 | |
| plotFragmentSizeDistributionEstimate | 0.031 | 0.002 | 0.033 | |
| plotPC | 0.006 | 0.001 | 0.007 | |
| processCommandLine | 0.001 | 0.000 | 0.001 | |
| pvalue2qvalue | 0.001 | 0.000 | 0.000 | |
| qqplotFast | 0.716 | 0.172 | 0.897 | |
| ramwas0createArtificialData | 0.291 | 0.058 | 0.357 | |
| ramwasAnnotateLocations | 0.001 | 0.000 | 0.001 | |
| ramwasParameters | 0 | 0 | 0 | |
| rowcolSumSq | 0.001 | 0.000 | 0.002 | |
| rwDataClass-class | 0.063 | 0.001 | 0.064 | |
| subsetData | 0.000 | 0.000 | 0.001 | |
| testPhenotype | 0.021 | 0.002 | 0.022 | |