| Back to Multiple platform build/check report for BioC 3.10 |
|
This page was generated on 2020-04-15 12:07:24 -0400 (Wed, 15 Apr 2020).
| Package 1487/1823 | Hostname | OS / Arch | INSTALL | BUILD | CHECK | BUILD BIN | ||||||
| rTANDEM 1.26.0 Frederic Fournier
| malbec1 | Linux (Ubuntu 18.04.4 LTS) / x86_64 | OK | [ OK ] | OK | |||||||
| tokay1 | Windows Server 2012 R2 Standard / x64 | OK | OK | OK | OK | |||||||
| merida1 | OS X 10.11.6 El Capitan / x86_64 | ERROR | ERROR | skipped | skipped |
| Package: rTANDEM |
| Version: 1.26.0 |
| Command: /home/biocbuild/bbs-3.10-bioc/R/bin/R CMD build --keep-empty-dirs --no-resave-data rTANDEM |
| StartedAt: 2020-04-14 20:27:12 -0400 (Tue, 14 Apr 2020) |
| EndedAt: 2020-04-14 20:29:53 -0400 (Tue, 14 Apr 2020) |
| EllapsedTime: 161.2 seconds |
| RetCode: 0 |
| Status: OK |
| PackageFile: rTANDEM_1.26.0.tar.gz |
| PackageFileSize: 2.016 MiB |
##############################################################################
##############################################################################
###
### Running command:
###
### /home/biocbuild/bbs-3.10-bioc/R/bin/R CMD build --keep-empty-dirs --no-resave-data rTANDEM
###
##############################################################################
##############################################################################
* checking for file ‘rTANDEM/DESCRIPTION’ ... OK
* preparing ‘rTANDEM’:
* checking DESCRIPTION meta-information ... OK
* cleaning src
* installing the package to build vignettes
* creating vignettes ... OK
Warning: ‘inst/doc’ file
‘rTANDEM.Rnw’
ignored as vignettes have been rebuilt.
Run R CMD build with --no-build-vignettes to prevent rebuilding.
* cleaning src
* checking for LF line-endings in source and make files and shell scripts
* checking for empty or unneeded directories
* building ‘rTANDEM_1.26.0.tar.gz’