| Back to Multiple platform build/check report for BioC 3.10 | 
  | 
This page was generated on 2020-04-15 12:17:42 -0400 (Wed, 15 Apr 2020).
| Package 1350/1823 | Hostname | OS / Arch | INSTALL | BUILD | CHECK | BUILD BIN | ||||||
| quantsmooth 1.52.0 Jan Oosting 
  | malbec1 | Linux (Ubuntu 18.04.4 LTS) / x86_64 | OK | OK | OK | |||||||
| tokay1 | Windows Server 2012 R2 Standard / x64 | OK | OK | OK | [ OK ] | |||||||
| merida1 | OS X 10.11.6 El Capitan / x86_64 | OK | OK | OK | OK | 
| Package: quantsmooth | 
| Version: 1.52.0 | 
| Command: rm -rf quantsmooth.buildbin-libdir && mkdir quantsmooth.buildbin-libdir && C:\Users\biocbuild\bbs-3.10-bioc\R\bin\R.exe CMD INSTALL --merge-multiarch --build --library=quantsmooth.buildbin-libdir quantsmooth_1.52.0.tar.gz | 
| StartedAt: 2020-04-15 09:28:02 -0400 (Wed, 15 Apr 2020) | 
| EndedAt: 2020-04-15 09:28:34 -0400 (Wed, 15 Apr 2020) | 
| EllapsedTime: 31.3 seconds | 
| RetCode: 0 | 
| Status: OK | 
| PackageFile: quantsmooth_1.52.0.zip | 
| PackageFileSize: 366.9 KiB | 
##############################################################################
##############################################################################
###
### Running command:
###
###   rm -rf quantsmooth.buildbin-libdir && mkdir quantsmooth.buildbin-libdir && C:\Users\biocbuild\bbs-3.10-bioc\R\bin\R.exe CMD INSTALL --merge-multiarch --build --library=quantsmooth.buildbin-libdir quantsmooth_1.52.0.tar.gz
###
##############################################################################
##############################################################################
install for i386
* installing *source* package 'quantsmooth' ...
** using staged installation
** R
** data
** inst
** byte-compile and prepare package for lazy loading
** help
*** installing help indices
  converting help for package 'quantsmooth'
    finding HTML links ... done
    Chromosome14                            html  
    chrom.bands                             html  
    drawSimpleChrom                         html  
    getChangedIdx                           html  
    getChangedRegions                       html  
    getLambdaMin                            html  
    grid.chromosome                         html  
    lengthChromosome                        html  
    numericCHR                              html  
    paintCytobands                          html  
    plotChromosome                          html  
    plotSmoothed                            html  
    position2Cytoband                       html  
    prepareGenomePlot                       html  
    quantsmooth                             html  
    quantsmooth.cv                          html  
    quantsmooth.seg                         html  
    scaleto                                 html  
** building package indices
** installing vignettes
** testing if installed package can be loaded from temporary location
** testing if installed package can be loaded from final location
** testing if installed package keeps a record of temporary installation path
install for x64
* installing *source* package 'quantsmooth' ...
** testing if installed package can be loaded
* MD5 sums
packaged installation of 'quantsmooth' as quantsmooth_1.52.0.zip
* DONE (quantsmooth)