| Back to Multiple platform build/check report for BioC 3.10 |
|
This page was generated on 2020-04-15 12:05:26 -0400 (Wed, 15 Apr 2020).
| Package 1341/1823 | Hostname | OS / Arch | INSTALL | BUILD | CHECK | BUILD BIN | ||||||
| qpgraph 2.20.0 Robert Castelo
| malbec1 | Linux (Ubuntu 18.04.4 LTS) / x86_64 | [ OK ] | OK | OK | |||||||
| tokay1 | Windows Server 2012 R2 Standard / x64 | OK | OK | WARNINGS | OK | |||||||
| merida1 | OS X 10.11.6 El Capitan / x86_64 | OK | OK | OK | OK |
| Package: qpgraph |
| Version: 2.20.0 |
| Command: /home/biocbuild/bbs-3.10-bioc/R/bin/R CMD INSTALL qpgraph |
| StartedAt: 2020-04-14 19:06:42 -0400 (Tue, 14 Apr 2020) |
| EndedAt: 2020-04-14 19:07:33 -0400 (Tue, 14 Apr 2020) |
| EllapsedTime: 50.6 seconds |
| RetCode: 0 |
| Status: OK |
##############################################################################
##############################################################################
###
### Running command:
###
### /home/biocbuild/bbs-3.10-bioc/R/bin/R CMD INSTALL qpgraph
###
##############################################################################
##############################################################################
* installing to library ‘/home/biocbuild/bbs-3.10-bioc/R/library’
* installing *source* package ‘qpgraph’ ...
** using staged installation
checking for gcc... gcc
checking for C compiler default output file name... a.out
checking whether the C compiler works... yes
checking whether we are cross compiling... no
checking for suffix of executables...
checking for suffix of object files... o
checking whether we are using the GNU C compiler... yes
checking whether gcc accepts -g... yes
checking for gcc option to accept ANSI C... none needed
checking build system type... x86_64-unknown-linux-gnu
checking host system type... x86_64-unknown-linux-gnu
configure: creating ./config.status
config.status: creating src/Makevars
** libs
gcc -I"/home/biocbuild/bbs-3.10-bioc/R/include" -DNDEBUG -I/usr/local/include -I/usr/local/include -g -O2 -Wall -Wall -pedantic -fpic -g -O2 -Wall -c cliquer.c -o cliquer.o
gcc -I"/home/biocbuild/bbs-3.10-bioc/R/include" -DNDEBUG -I/usr/local/include -I/usr/local/include -g -O2 -Wall -Wall -pedantic -fpic -g -O2 -Wall -c graph.c -o graph.o
gcc -I"/home/biocbuild/bbs-3.10-bioc/R/include" -DNDEBUG -I/usr/local/include -I/usr/local/include -g -O2 -Wall -Wall -pedantic -fpic -g -O2 -Wall -c qpgraph.c -o qpgraph.o
qpgraph.c: In function ‘qp_fast_path_weight’:
qpgraph.c:5851:20: warning: left-hand operand of comma expression has no effect [-Wunused-value]
int i = edges[k, 0];
^
qpgraph.c:5852:20: warning: left-hand operand of comma expression has no effect [-Wunused-value]
int j = edges[k, 1];
^
gcc -I"/home/biocbuild/bbs-3.10-bioc/R/include" -DNDEBUG -I/usr/local/include -I/usr/local/include -g -O2 -Wall -Wall -pedantic -fpic -g -O2 -Wall -c reorder.c -o reorder.o
gcc -shared -L/home/biocbuild/bbs-3.10-bioc/R/lib -L/usr/local/lib -o qpgraph.so cliquer.o graph.o qpgraph.o reorder.o -L/home/biocbuild/bbs-3.10-bioc/R/lib -lRlapack -L/home/biocbuild/bbs-3.10-bioc/R/lib -lRblas -lgfortran -lm -lquadmath -L/home/biocbuild/bbs-3.10-bioc/R/lib -lR
installing to /home/biocbuild/bbs-3.10-bioc/R/library/00LOCK-qpgraph/00new/qpgraph/libs
** R
** data
*** moving datasets to lazyload DB
** inst
** byte-compile and prepare package for lazy loading
No methods found in package ‘GenomicRanges’ for request: ‘c’ when loading ‘qpgraph’
Creating a generic function for ‘det’ from package ‘Matrix’ in package ‘qpgraph’
** help
*** installing help indices
** building package indices
** installing vignettes
‘eQTLnetworks.Rnw’
‘qpTxRegNet.Rnw’
‘qpgraphSimulate.Rnw’
** testing if installed package can be loaded from temporary location
No methods found in package ‘GenomicRanges’ for request: ‘c’ when loading ‘qpgraph’
** checking absolute paths in shared objects and dynamic libraries
** testing if installed package can be loaded from final location
No methods found in package ‘GenomicRanges’ for request: ‘c’ when loading ‘qpgraph’
** testing if installed package keeps a record of temporary installation path
* DONE (qpgraph)