| Back to Multiple platform build/check report for BioC 3.10 | 
  | 
This page was generated on 2020-04-15 12:39:22 -0400 (Wed, 15 Apr 2020).
| Package 1338/1823 | Hostname | OS / Arch | INSTALL | BUILD | CHECK | BUILD BIN | ||||||
| qcmetrics 1.24.0 Laurent Gatto 
  | malbec1 | Linux (Ubuntu 18.04.4 LTS) / x86_64 | OK | OK | OK | |||||||
| tokay1 | Windows Server 2012 R2 Standard / x64 | OK | OK | OK | OK | |||||||
| merida1 | OS X 10.11.6 El Capitan / x86_64 | OK | OK | OK | [ OK ] | 
| Package: qcmetrics | 
| Version: 1.24.0 | 
| Command: rm -rf qcmetrics.buildbin-libdir && mkdir qcmetrics.buildbin-libdir && /Users/biocbuild/BBS/utils/build-universal.sh qcmetrics_1.24.0.tar.gz /Library/Frameworks/R.framework/Versions/Current/Resources/bin/R qcmetrics.buildbin-libdir | 
| StartedAt: 2020-04-15 08:26:26 -0400 (Wed, 15 Apr 2020) | 
| EndedAt: 2020-04-15 08:27:15 -0400 (Wed, 15 Apr 2020) | 
| EllapsedTime: 48.9 seconds | 
| RetCode: 0 | 
| Status: OK | 
| PackageFile: qcmetrics_1.24.0.tgz | 
| PackageFileSize: 3.661 MiB | 
############################################################################## ############################################################################## ### ### Running command: ### ### rm -rf qcmetrics.buildbin-libdir && mkdir qcmetrics.buildbin-libdir && /Users/biocbuild/BBS/utils/build-universal.sh qcmetrics_1.24.0.tar.gz /Library/Frameworks/R.framework/Versions/Current/Resources/bin/R qcmetrics.buildbin-libdir ### ############################################################################## ############################################################################## >>>>>>> >>>>>>> INSTALLATION WITH 'R CMD INSTALL --preclean --no-multiarch --library=qcmetrics.buildbin-libdir qcmetrics_1.24.0.tar.gz' >>>>>>> * installing *source* package ‘qcmetrics’ ... ** using staged installation ** R ** data ** inst ** byte-compile and prepare package for lazy loading ** help *** installing help indices ** building package indices ** installing vignettes ** testing if installed package can be loaded from temporary location ** testing if installed package can be loaded from final location ** testing if installed package keeps a record of temporary installation path * DONE (qcmetrics)