| Back to Multiple platform build/check report for BioC 3.10 |
|
This page was generated on 2020-04-15 12:50:09 -0400 (Wed, 15 Apr 2020).
| Package 1328/1823 | Hostname | OS / Arch | INSTALL | BUILD | CHECK | BUILD BIN | ||||||
| pulsedSilac 1.0.1 Marc Pagès-Gallego
| malbec1 | Linux (Ubuntu 18.04.4 LTS) / x86_64 | OK | OK | OK | |||||||
| tokay1 | Windows Server 2012 R2 Standard / x64 | OK | OK | OK | OK | |||||||
| merida1 | OS X 10.11.6 El Capitan / x86_64 | OK | OK | OK | [ OK ] |
| Package: pulsedSilac |
| Version: 1.0.1 |
| Command: rm -rf pulsedSilac.buildbin-libdir && mkdir pulsedSilac.buildbin-libdir && /Users/biocbuild/BBS/utils/build-universal.sh pulsedSilac_1.0.1.tar.gz /Library/Frameworks/R.framework/Versions/Current/Resources/bin/R pulsedSilac.buildbin-libdir |
| StartedAt: 2020-04-15 08:25:46 -0400 (Wed, 15 Apr 2020) |
| EndedAt: 2020-04-15 08:26:39 -0400 (Wed, 15 Apr 2020) |
| EllapsedTime: 52.7 seconds |
| RetCode: 0 |
| Status: OK |
| PackageFile: pulsedSilac_1.0.1.tgz |
| PackageFileSize: 3.602 MiB |
############################################################################## ############################################################################## ### ### Running command: ### ### rm -rf pulsedSilac.buildbin-libdir && mkdir pulsedSilac.buildbin-libdir && /Users/biocbuild/BBS/utils/build-universal.sh pulsedSilac_1.0.1.tar.gz /Library/Frameworks/R.framework/Versions/Current/Resources/bin/R pulsedSilac.buildbin-libdir ### ############################################################################## ############################################################################## >>>>>>> >>>>>>> INSTALLATION WITH 'R CMD INSTALL --preclean --no-multiarch --library=pulsedSilac.buildbin-libdir pulsedSilac_1.0.1.tar.gz' >>>>>>> * installing *source* package ‘pulsedSilac’ ... ** using staged installation ** R ** data ** inst ** byte-compile and prepare package for lazy loading in method for ‘addMisscleavedPeptides’ with signature ‘"SilacProteinExperiment"’: no definition for class “SilacProteinExperiment” in method for ‘addMisscleavedPeptides’ with signature ‘"SilacPeptideExperiment"’: no definition for class “SilacPeptideExperiment” in method for ‘addMisscleavedPeptides’ with signature ‘"SilacProteomicsExperiment"’: no definition for class “SilacProteomicsExperiment” ** help *** installing help indices ** building package indices ** installing vignettes ** testing if installed package can be loaded from temporary location ** testing if installed package can be loaded from final location ** testing if installed package keeps a record of temporary installation path * DONE (pulsedSilac)