| Back to Multiple platform build/check report for BioC 3.10 |
|
This page was generated on 2020-04-15 12:32:04 -0400 (Wed, 15 Apr 2020).
| Package 1304/1823 | Hostname | OS / Arch | INSTALL | BUILD | CHECK | BUILD BIN | ||||||
| proBatch 1.2.0 Jelena Cuklina
| malbec1 | Linux (Ubuntu 18.04.4 LTS) / x86_64 | OK | OK | ERROR | |||||||
| tokay1 | Windows Server 2012 R2 Standard / x64 | OK | OK | ERROR | [ OK ] | |||||||
| merida1 | OS X 10.11.6 El Capitan / x86_64 | OK | OK | ERROR | OK |
| Package: proBatch |
| Version: 1.2.0 |
| Command: rm -rf proBatch.buildbin-libdir && mkdir proBatch.buildbin-libdir && C:\Users\biocbuild\bbs-3.10-bioc\R\bin\R.exe CMD INSTALL --merge-multiarch --build --library=proBatch.buildbin-libdir proBatch_1.2.0.tar.gz |
| StartedAt: 2020-04-15 09:25:15 -0400 (Wed, 15 Apr 2020) |
| EndedAt: 2020-04-15 09:26:26 -0400 (Wed, 15 Apr 2020) |
| EllapsedTime: 70.7 seconds |
| RetCode: 0 |
| Status: OK |
| PackageFile: proBatch_1.2.0.zip |
| PackageFileSize: 3.13 MiB |
##############################################################################
##############################################################################
###
### Running command:
###
### rm -rf proBatch.buildbin-libdir && mkdir proBatch.buildbin-libdir && C:\Users\biocbuild\bbs-3.10-bioc\R\bin\R.exe CMD INSTALL --merge-multiarch --build --library=proBatch.buildbin-libdir proBatch_1.2.0.tar.gz
###
##############################################################################
##############################################################################
install for i386
* installing *source* package 'proBatch' ...
** using staged installation
** R
** data
*** moving datasets to lazyload DB
** inst
** byte-compile and prepare package for lazy loading
** help
*** installing help indices
converting help for package 'proBatch'
finding HTML links ... done
calculate_PVCA html
calculate_feature_CV html
calculate_peptide_corr_distr html
calculate_sample_corr_distr html
check_sample_consistency html
color_list_to_df html
correct_batch_effects html
create_peptide_annotation html
date_to_sample_order html
dates_to_posix html
define_sample_order html
example_peptide_annotation html
example_proteome html
example_proteome_matrix html
example_sample_annotation html
feature_level_diagnostics html
fit_nonlinear html
generate_colors_for_numeric html
long_to_matrix html
matrix_to_long html
merge_rare_levels html
normalize html
plot_CV_distr html
plot_CV_distr.df html
plot_PCA html
plot_PVCA html
plot_PVCA.df html
plot_corr_matrix html
plot_heatmap_diagnostic html
plot_heatmap_generic html
plot_hierarchical_clustering html
plot_peptide_corr_distribution html
plot_protein_corrplot html
plot_sample_corr_distribution html
plot_sample_corr_heatmap html
plot_sample_mean_or_boxplot html
plot_split_violin_with_boxplot html
prepare_PVCA_df html
proBatch html
sample_annotation_to_colors html
transform_raw_data html
** building package indices
** installing vignettes
** testing if installed package can be loaded from temporary location
** testing if installed package can be loaded from final location
** testing if installed package keeps a record of temporary installation path
install for x64
* installing *source* package 'proBatch' ...
** testing if installed package can be loaded
* MD5 sums
packaged installation of 'proBatch' as proBatch_1.2.0.zip
* DONE (proBatch)