| Back to Multiple platform build/check report for BioC 3.10 |
|
This page was generated on 2020-04-15 12:09:13 -0400 (Wed, 15 Apr 2020).
| Package 1284/1823 | Hostname | OS / Arch | INSTALL | BUILD | CHECK | BUILD BIN | ||||||
| polyester 1.22.0 Jack Fu
| malbec1 | Linux (Ubuntu 18.04.4 LTS) / x86_64 | OK | OK | [ OK ] | |||||||
| tokay1 | Windows Server 2012 R2 Standard / x64 | OK | OK | OK | OK | |||||||
| merida1 | OS X 10.11.6 El Capitan / x86_64 | OK | OK | OK | OK |
| Package: polyester |
| Version: 1.22.0 |
| Command: /home/biocbuild/bbs-3.10-bioc/R/bin/R CMD check --install=check:polyester.install-out.txt --library=/home/biocbuild/bbs-3.10-bioc/R/library --no-vignettes --timings polyester_1.22.0.tar.gz |
| StartedAt: 2020-04-15 02:31:26 -0400 (Wed, 15 Apr 2020) |
| EndedAt: 2020-04-15 02:33:28 -0400 (Wed, 15 Apr 2020) |
| EllapsedTime: 122.1 seconds |
| RetCode: 0 |
| Status: OK |
| CheckDir: polyester.Rcheck |
| Warnings: 0 |
##############################################################################
##############################################################################
###
### Running command:
###
### /home/biocbuild/bbs-3.10-bioc/R/bin/R CMD check --install=check:polyester.install-out.txt --library=/home/biocbuild/bbs-3.10-bioc/R/library --no-vignettes --timings polyester_1.22.0.tar.gz
###
##############################################################################
##############################################################################
* using log directory ‘/home/biocbuild/bbs-3.10-bioc/meat/polyester.Rcheck’
* using R version 3.6.3 (2020-02-29)
* using platform: x86_64-pc-linux-gnu (64-bit)
* using session charset: UTF-8
* using option ‘--no-vignettes’
* checking for file ‘polyester/DESCRIPTION’ ... OK
* this is package ‘polyester’ version ‘1.22.0’
* checking package namespace information ... OK
* checking package dependencies ... OK
* checking if this is a source package ... OK
* checking if there is a namespace ... OK
* checking for hidden files and directories ... OK
* checking for portable file names ... OK
* checking for sufficient/correct file permissions ... OK
* checking whether package ‘polyester’ can be installed ... OK
* checking installed package size ... OK
* checking package directory ... OK
* checking ‘build’ directory ... OK
* checking DESCRIPTION meta-information ... OK
* checking top-level files ... OK
* checking for left-over files ... OK
* checking index information ... OK
* checking package subdirectories ... OK
* checking R files for non-ASCII characters ... OK
* checking R files for syntax errors ... OK
* checking whether the package can be loaded ... OK
* checking whether the package can be loaded with stated dependencies ... OK
* checking whether the package can be unloaded cleanly ... OK
* checking whether the namespace can be loaded with stated dependencies ... OK
* checking whether the namespace can be unloaded cleanly ... OK
* checking dependencies in R code ... NOTE
Namespace in Imports field not imported from: ‘zlibbioc’
All declared Imports should be used.
* checking S3 generic/method consistency ... OK
* checking replacement functions ... OK
* checking foreign function calls ... OK
* checking R code for possible problems ... NOTE
add_platform_error: no visible binding for global variable ‘model1’
add_platform_error: no visible binding for global variable ‘model2’
add_platform_error: no visible binding for global variable ‘model4’
add_platform_error: no visible binding for global variable ‘model5’
add_platform_error: no visible binding for global variable ‘model3’
add_platform_error: no visible binding for global variable ‘model6’
add_platform_error: no visible binding for global variable ‘model7’
generate_fragments: no visible binding for global variable
‘empirical_density’
generate_fragments: no visible binding for global variable ‘rnaf’
generate_fragments: no visible binding for global variable ‘cdnaf’
Undefined global functions or variables:
cdnaf empirical_density model1 model2 model3 model4 model5 model6
model7 rnaf
* checking Rd files ... OK
* checking Rd metadata ... OK
* checking Rd cross-references ... OK
* checking for missing documentation entries ... OK
* checking for code/documentation mismatches ... OK
* checking Rd \usage sections ... OK
* checking Rd contents ... OK
* checking for unstated dependencies in examples ... OK
* checking contents of ‘data’ directory ... OK
* checking data for non-ASCII characters ... OK
* checking data for ASCII and uncompressed saves ... OK
* checking files in ‘vignettes’ ... OK
* checking examples ... OK
Examples with CPU or elapsed time > 5s
user system elapsed
add_gc_bias 13.916 0.040 13.999
create_read_numbers 7.712 0.304 8.029
* checking for unstated dependencies in vignettes ... OK
* checking package vignettes in ‘inst/doc’ ... OK
* checking running R code from vignettes ... SKIPPED
* checking re-building of vignette outputs ... SKIPPED
* checking PDF version of manual ... OK
* DONE
Status: 2 NOTEs
See
‘/home/biocbuild/bbs-3.10-bioc/meat/polyester.Rcheck/00check.log’
for details.
polyester.Rcheck/00install.out
############################################################################## ############################################################################## ### ### Running command: ### ### /home/biocbuild/bbs-3.10-bioc/R/bin/R CMD INSTALL polyester ### ############################################################################## ############################################################################## * installing to library ‘/home/biocbuild/bbs-3.10-bioc/R/library’ * installing *source* package ‘polyester’ ... ** using staged installation ** R ** data ** inst ** byte-compile and prepare package for lazy loading ** help *** installing help indices ** building package indices ** installing vignettes ** testing if installed package can be loaded from temporary location ** testing if installed package can be loaded from final location ** testing if installed package keeps a record of temporary installation path * DONE (polyester)
polyester.Rcheck/polyester-Ex.timings
| name | user | system | elapsed | |
| NB | 0.000 | 0.000 | 0.001 | |
| add_error | 0.188 | 0.008 | 0.221 | |
| add_gc_bias | 13.916 | 0.040 | 13.999 | |
| add_platform_error | 0.300 | 0.000 | 0.303 | |
| count_transcripts | 0.016 | 0.000 | 0.015 | |
| create_read_numbers | 7.712 | 0.304 | 8.029 | |
| fpkm_to_counts | 1.220 | 0.008 | 1.230 | |
| generate_fragments | 0.368 | 0.004 | 0.372 | |
| getAttributeField | 1.268 | 0.008 | 1.278 | |
| get_params | 2.044 | 0.000 | 2.049 | |
| get_reads | 0.208 | 0.000 | 0.208 | |
| reverse_complement | 0.152 | 0.004 | 0.160 | |
| seq_gtf | 0 | 0 | 0 | |
| simulate_experiment | 0 | 0 | 0 | |
| simulate_experiment_countmat | 0 | 0 | 0 | |
| simulate_experiment_empirical | 0 | 0 | 0 | |
| write_reads | 0.104 | 0.004 | 0.107 | |