| Back to Multiple platform build/check report for BioC 3.10 |
|
This page was generated on 2020-04-15 12:24:41 -0400 (Wed, 15 Apr 2020).
| Package 1282/1823 | Hostname | OS / Arch | INSTALL | BUILD | CHECK | BUILD BIN | ||||||
| podkat 1.18.0 Ulrich Bodenhofer
| malbec1 | Linux (Ubuntu 18.04.4 LTS) / x86_64 | OK | OK | OK | |||||||
| tokay1 | Windows Server 2012 R2 Standard / x64 | OK | OK | WARNINGS | [ OK ] | |||||||
| merida1 | OS X 10.11.6 El Capitan / x86_64 | OK | OK | OK | OK |
| Package: podkat |
| Version: 1.18.0 |
| Command: rm -rf podkat.buildbin-libdir && mkdir podkat.buildbin-libdir && C:\Users\biocbuild\bbs-3.10-bioc\R\bin\R.exe CMD INSTALL --merge-multiarch --build --library=podkat.buildbin-libdir podkat_1.18.0.tar.gz |
| StartedAt: 2020-04-15 09:24:03 -0400 (Wed, 15 Apr 2020) |
| EndedAt: 2020-04-15 09:27:13 -0400 (Wed, 15 Apr 2020) |
| EllapsedTime: 190.1 seconds |
| RetCode: 0 |
| Status: OK |
| PackageFile: podkat_1.18.0.zip |
| PackageFileSize: 4.821 MiB |
##############################################################################
##############################################################################
###
### Running command:
###
### rm -rf podkat.buildbin-libdir && mkdir podkat.buildbin-libdir && C:\Users\biocbuild\bbs-3.10-bioc\R\bin\R.exe CMD INSTALL --merge-multiarch --build --library=podkat.buildbin-libdir podkat_1.18.0.tar.gz
###
##############################################################################
##############################################################################
install for i386
* installing *source* package 'podkat' ...
** using staged installation
** libs
C:/Rtools/mingw_32/bin/g++ -std=gnu++11 -I"C:/Users/BIOCBU~1/BBS-3~1.10-/R/include" -DNDEBUG -D_FILE_OFFSET_BITS=64 -I"C:/Users/biocbuild/bbs-3.10-bioc/R/library/Rcpp/include" -I"C:/Users/biocbuild/bbs-3.10-bioc/R/library/Rhtslib/include" -I"C:/extsoft/include" -O2 -Wall -mtune=core2 -c R_init_podkat.cpp -o R_init_podkat.o
C:/Rtools/mingw_32/bin/g++ -std=gnu++11 -I"C:/Users/BIOCBU~1/BBS-3~1.10-/R/include" -DNDEBUG -D_FILE_OFFSET_BITS=64 -I"C:/Users/biocbuild/bbs-3.10-bioc/R/library/Rcpp/include" -I"C:/Users/biocbuild/bbs-3.10-bioc/R/library/Rhtslib/include" -I"C:/extsoft/include" -O2 -Wall -mtune=core2 -c bernoulliExact.cpp -o bernoulliExact.o
C:/Rtools/mingw_32/bin/g++ -std=gnu++11 -I"C:/Users/BIOCBU~1/BBS-3~1.10-/R/include" -DNDEBUG -D_FILE_OFFSET_BITS=64 -I"C:/Users/biocbuild/bbs-3.10-bioc/R/library/Rcpp/include" -I"C:/Users/biocbuild/bbs-3.10-bioc/R/library/Rhtslib/include" -I"C:/extsoft/include" -O2 -Wall -mtune=core2 -c checkAndFixGenotype.cpp -o checkAndFixGenotype.o
C:/Rtools/mingw_32/bin/g++ -std=gnu++11 -I"C:/Users/BIOCBU~1/BBS-3~1.10-/R/include" -DNDEBUG -D_FILE_OFFSET_BITS=64 -I"C:/Users/biocbuild/bbs-3.10-bioc/R/library/Rcpp/include" -I"C:/Users/biocbuild/bbs-3.10-bioc/R/library/Rhtslib/include" -I"C:/extsoft/include" -O2 -Wall -mtune=core2 -c cumMax.cpp -o cumMax.o
C:/Rtools/mingw_32/bin/g++ -std=gnu++11 -I"C:/Users/BIOCBU~1/BBS-3~1.10-/R/include" -DNDEBUG -D_FILE_OFFSET_BITS=64 -I"C:/Users/biocbuild/bbs-3.10-bioc/R/library/Rcpp/include" -I"C:/Users/biocbuild/bbs-3.10-bioc/R/library/Rhtslib/include" -I"C:/extsoft/include" -O2 -Wall -mtune=core2 -c doubleMale.cpp -o doubleMale.o
C:/Rtools/mingw_32/bin/g++ -std=gnu++11 -I"C:/Users/BIOCBU~1/BBS-3~1.10-/R/include" -DNDEBUG -D_FILE_OFFSET_BITS=64 -I"C:/Users/biocbuild/bbs-3.10-bioc/R/library/Rcpp/include" -I"C:/Users/biocbuild/bbs-3.10-bioc/R/library/Rhtslib/include" -I"C:/extsoft/include" -O2 -Wall -mtune=core2 -c kernels.cpp -o kernels.o
C:/Rtools/mingw_32/bin/g++ -std=gnu++11 -I"C:/Users/BIOCBU~1/BBS-3~1.10-/R/include" -DNDEBUG -D_FILE_OFFSET_BITS=64 -I"C:/Users/biocbuild/bbs-3.10-bioc/R/library/Rcpp/include" -I"C:/Users/biocbuild/bbs-3.10-bioc/R/library/Rhtslib/include" -I"C:/extsoft/include" -O2 -Wall -mtune=core2 -c pValues.cpp -o pValues.o
C:/Rtools/mingw_32/bin/g++ -std=gnu++11 -I"C:/Users/BIOCBU~1/BBS-3~1.10-/R/include" -DNDEBUG -D_FILE_OFFSET_BITS=64 -I"C:/Users/biocbuild/bbs-3.10-bioc/R/library/Rcpp/include" -I"C:/Users/biocbuild/bbs-3.10-bioc/R/library/Rhtslib/include" -I"C:/extsoft/include" -O2 -Wall -mtune=core2 -c partitionRegions.cpp -o partitionRegions.o
C:/Rtools/mingw_32/bin/g++ -std=gnu++11 -I"C:/Users/BIOCBU~1/BBS-3~1.10-/R/include" -DNDEBUG -D_FILE_OFFSET_BITS=64 -I"C:/Users/biocbuild/bbs-3.10-bioc/R/library/Rcpp/include" -I"C:/Users/biocbuild/bbs-3.10-bioc/R/library/Rhtslib/include" -I"C:/extsoft/include" -O2 -Wall -mtune=core2 -c qfc.cpp -o qfc.o
C:/Rtools/mingw_32/bin/g++ -std=gnu++11 -I"C:/Users/BIOCBU~1/BBS-3~1.10-/R/include" -DNDEBUG -D_FILE_OFFSET_BITS=64 -I"C:/Users/biocbuild/bbs-3.10-bioc/R/library/Rcpp/include" -I"C:/Users/biocbuild/bbs-3.10-bioc/R/library/Rhtslib/include" -I"C:/extsoft/include" -O2 -Wall -mtune=core2 -c readGenotypeMatrix.cpp -o readGenotypeMatrix.o
C:/Rtools/mingw_32/bin/g++ -std=gnu++11 -I"C:/Users/BIOCBU~1/BBS-3~1.10-/R/include" -DNDEBUG -D_FILE_OFFSET_BITS=64 -I"C:/Users/biocbuild/bbs-3.10-bioc/R/library/Rcpp/include" -I"C:/Users/biocbuild/bbs-3.10-bioc/R/library/Rhtslib/include" -I"C:/extsoft/include" -O2 -Wall -mtune=core2 -c readVariantInfo.cpp -o readVariantInfo.o
C:/Rtools/mingw_32/bin/g++ -std=gnu++11 -shared -s -static-libgcc -o podkat.dll tmp.def R_init_podkat.o bernoulliExact.o checkAndFixGenotype.o cumMax.o doubleMale.o kernels.o pValues.o partitionRegions.o qfc.o readGenotypeMatrix.o readVariantInfo.o C:/Users/biocbuild/bbs-3.10-bioc/R/library/Rhtslib/usrlib/i386/libhts.a -LC:/extsoft/lib/i386 -lcurl -lrtmp -lssl -lssh2 -lcrypto -lgdi32 -lz -lws2_32 -lwldap32 -lwinmm -lidn -LC:/extsoft/lib/i386 -LC:/extsoft/lib -LC:/Users/BIOCBU~1/BBS-3~1.10-/R/bin/i386 -lR
installing to C:/Users/biocbuild/bbs-3.10-bioc/meat/podkat.buildbin-libdir/00LOCK-podkat/00new/podkat/libs/i386
** R
** data
** inst
** byte-compile and prepare package for lazy loading
Creating a generic function for 'p.adjust' from package 'stats' in package 'podkat'
Creating a generic function for 'qqplot' from package 'stats' in package 'podkat'
** help
*** installing help indices
converting help for package 'podkat'
finding HTML links ... done
AssocTestResult-class html
AssocTestResultRanges-class html
finding level-2 HTML links ... done
Rd warning: C:/Users/biocbuild/bbs-3.10-bioc/tmpdir/Rtmpu8bY9T/R.INSTALL19c01ff94c24/podkat/man/AssocTestResultRanges-class.Rd:40: file link 'mcols' in package 'S4Vectors' does not exist and so has been treated as a topic
Rd warning: C:/Users/biocbuild/bbs-3.10-bioc/tmpdir/Rtmpu8bY9T/R.INSTALL19c01ff94c24/podkat/man/AssocTestResultRanges-class.Rd:40: file link 'elementMetadata' in package 'S4Vectors' does not exist and so has been treated as a topic
Rd warning: C:/Users/biocbuild/bbs-3.10-bioc/tmpdir/Rtmpu8bY9T/R.INSTALL19c01ff94c24/podkat/man/AssocTestResultRanges-class.Rd:106: file link 'print' in package 'podkat' does not exist and so has been treated as a topic
GenotypeMatrix-class html
Rd warning: C:/Users/biocbuild/bbs-3.10-bioc/tmpdir/Rtmpu8bY9T/R.INSTALL19c01ff94c24/podkat/man/GenotypeMatrix-class.Rd:56: file link 'rownames' in package 'base' does not exist and so has been treated as a topic
NullModel-class html
VariantInfo-class html
assocTest-methods html
Rd warning: C:/Users/biocbuild/bbs-3.10-bioc/tmpdir/Rtmpu8bY9T/R.INSTALL19c01ff94c24/podkat/man/assocTest-methods.Rd:41: file link 'TabixFile' in package 'Rsamtools' does not exist and so has been treated as a topic
Rd warning: C:/Users/biocbuild/bbs-3.10-bioc/tmpdir/Rtmpu8bY9T/R.INSTALL19c01ff94c24/podkat/man/assocTest-methods.Rd:103: file link 'makePSOCKcluster' in package 'parallel' does not exist and so has been treated as a topic
Rd warning: C:/Users/biocbuild/bbs-3.10-bioc/tmpdir/Rtmpu8bY9T/R.INSTALL19c01ff94c24/podkat/man/assocTest-methods.Rd:246: file link 'TabixFile' in package 'Rsamtools' does not exist and so has been treated as a topic
Rd warning: C:/Users/biocbuild/bbs-3.10-bioc/tmpdir/Rtmpu8bY9T/R.INSTALL19c01ff94c24/podkat/man/assocTest-methods.Rd:253: file link 'makePSOCKcluster' in package 'parallel' does not exist and so has been treated as a topic
computeKernel html
filterResult-methods html
Rd warning: C:/Users/biocbuild/bbs-3.10-bioc/tmpdir/Rtmpu8bY9T/R.INSTALL19c01ff94c24/podkat/man/filterResult-methods.Rd:62: file link 'p.adjust' in package 'podkat' does not exist and so has been treated as a topic
genotypeMatrix-methods html
Rd warning: C:/Users/biocbuild/bbs-3.10-bioc/tmpdir/Rtmpu8bY9T/R.INSTALL19c01ff94c24/podkat/man/genotypeMatrix-methods.Rd:33: file link 'eSet' in package 'Biobase' does not exist and so has been treated as a topic
Rd warning: C:/Users/biocbuild/bbs-3.10-bioc/tmpdir/Rtmpu8bY9T/R.INSTALL19c01ff94c24/podkat/man/genotypeMatrix-methods.Rd:149: file link 'eSet' in package 'Biobase' does not exist and so has been treated as a topic
Rd warning: C:/Users/biocbuild/bbs-3.10-bioc/tmpdir/Rtmpu8bY9T/R.INSTALL19c01ff94c24/podkat/man/genotypeMatrix-methods.Rd:150: file link 'SnpSet' in package 'Biobase' does not exist and so has been treated as a topic
Rd warning: C:/Users/biocbuild/bbs-3.10-bioc/tmpdir/Rtmpu8bY9T/R.INSTALL19c01ff94c24/podkat/man/genotypeMatrix-methods.Rd:152: file link 'eSet' in package 'Biobase' does not exist and so has been treated as a topic
hgA html
nullModel-methods html
p.adjust-methods html
partitionRegions-methods html
Rd warning: C:/Users/biocbuild/bbs-3.10-bioc/tmpdir/Rtmpu8bY9T/R.INSTALL19c01ff94c24/podkat/man/partitionRegions-methods.Rd:20: file link 'BSgenome' in package 'BSgenome' does not exist and so has been treated as a topic
Rd warning: C:/Users/biocbuild/bbs-3.10-bioc/tmpdir/Rtmpu8bY9T/R.INSTALL19c01ff94c24/podkat/man/partitionRegions-methods.Rd:55: file link 'BSgenome' in package 'BSgenome' does not exist and so has been treated as a topic
plot-methods html
podkat-package html
print-methods html
qqplot-methods html
Rd warning: C:/Users/biocbuild/bbs-3.10-bioc/tmpdir/Rtmpu8bY9T/R.INSTALL19c01ff94c24/podkat/man/qqplot-methods.Rd:76: file link 'qqplot' in package 'stats' does not exist and so has been treated as a topic
readGenotypeMatrix-methods html
readRegionsFromBedFile html
readSampleNamesFromVcfHeader html
readVariantInfo-methods html
sort-methods html
split-methods html
unmasked-datasets html
Rd warning: C:/Users/biocbuild/bbs-3.10-bioc/tmpdir/Rtmpu8bY9T/R.INSTALL19c01ff94c24/podkat/man/unmasked-datasets.Rd:30: file link 'pseudoautosomal.hg18' in package 'GWASTools' does not exist and so has been treated as a topic
Rd warning: C:/Users/biocbuild/bbs-3.10-bioc/tmpdir/Rtmpu8bY9T/R.INSTALL19c01ff94c24/podkat/man/unmasked-datasets.Rd:31: file link 'pseudoautosomal.hg19' in package 'GWASTools' does not exist and so has been treated as a topic
Rd warning: C:/Users/biocbuild/bbs-3.10-bioc/tmpdir/Rtmpu8bY9T/R.INSTALL19c01ff94c24/podkat/man/unmasked-datasets.Rd:32: file link 'pseudoautosomal.hg38' in package 'GWASTools' does not exist and so has been treated as a topic
unmaskedRegions html
Rd warning: C:/Users/biocbuild/bbs-3.10-bioc/tmpdir/Rtmpu8bY9T/R.INSTALL19c01ff94c24/podkat/man/unmaskedRegions.Rd:6: file link 'BSgenome' in package 'BSgenome' does not exist and so has been treated as a topic
Rd warning: C:/Users/biocbuild/bbs-3.10-bioc/tmpdir/Rtmpu8bY9T/R.INSTALL19c01ff94c24/podkat/man/unmaskedRegions.Rd:13: file link 'BSgenome' in package 'BSgenome' does not exist and so has been treated as a topic
Rd warning: C:/Users/biocbuild/bbs-3.10-bioc/tmpdir/Rtmpu8bY9T/R.INSTALL19c01ff94c24/podkat/man/unmaskedRegions.Rd:19: file link 'pseudoautosomal.hg18' in package 'GWASTools' does not exist and so has been treated as a topic
Rd warning: C:/Users/biocbuild/bbs-3.10-bioc/tmpdir/Rtmpu8bY9T/R.INSTALL19c01ff94c24/podkat/man/unmaskedRegions.Rd:20: file link 'pseudoautosomal.hg19' in package 'GWASTools' does not exist and so has been treated as a topic
Rd warning: C:/Users/biocbuild/bbs-3.10-bioc/tmpdir/Rtmpu8bY9T/R.INSTALL19c01ff94c24/podkat/man/unmaskedRegions.Rd:21: file link 'pseudoautosomal.hg38' in package 'GWASTools' does not exist and so has been treated as a topic
Rd warning: C:/Users/biocbuild/bbs-3.10-bioc/tmpdir/Rtmpu8bY9T/R.INSTALL19c01ff94c24/podkat/man/unmaskedRegions.Rd:29: file link 'BSgenome' in package 'BSgenome' does not exist and so has been treated as a topic
Rd warning: C:/Users/biocbuild/bbs-3.10-bioc/tmpdir/Rtmpu8bY9T/R.INSTALL19c01ff94c24/podkat/man/unmaskedRegions.Rd:34: file link 'BSgenome' in package 'BSgenome' does not exist and so has been treated as a topic
Rd warning: C:/Users/biocbuild/bbs-3.10-bioc/tmpdir/Rtmpu8bY9T/R.INSTALL19c01ff94c24/podkat/man/unmaskedRegions.Rd:47: file link 'BSgenome' in package 'BSgenome' does not exist and so has been treated as a topic
Rd warning: C:/Users/biocbuild/bbs-3.10-bioc/tmpdir/Rtmpu8bY9T/R.INSTALL19c01ff94c24/podkat/man/unmaskedRegions.Rd:51: file link 'pseudoautosomal.hg18' in package 'GWASTools' does not exist and so has been treated as a topic
Rd warning: C:/Users/biocbuild/bbs-3.10-bioc/tmpdir/Rtmpu8bY9T/R.INSTALL19c01ff94c24/podkat/man/unmaskedRegions.Rd:52: file link 'pseudoautosomal.hg19' in package 'GWASTools' does not exist and so has been treated as a topic
Rd warning: C:/Users/biocbuild/bbs-3.10-bioc/tmpdir/Rtmpu8bY9T/R.INSTALL19c01ff94c24/podkat/man/unmaskedRegions.Rd:53: file link 'pseudoautosomal.hg38' in package 'GWASTools' does not exist and so has been treated as a topic
weightFuncs html
weights-methods html
Rd warning: C:/Users/biocbuild/bbs-3.10-bioc/tmpdir/Rtmpu8bY9T/R.INSTALL19c01ff94c24/podkat/man/weights-methods.Rd:20: file link 'TabixFile' in package 'Rsamtools' does not exist and so has been treated as a topic
Rd warning: C:/Users/biocbuild/bbs-3.10-bioc/tmpdir/Rtmpu8bY9T/R.INSTALL19c01ff94c24/podkat/man/weights-methods.Rd:65: file link 'TabixFile' in package 'Rsamtools' does not exist and so has been treated as a topic
Rd warning: C:/Users/biocbuild/bbs-3.10-bioc/tmpdir/Rtmpu8bY9T/R.INSTALL19c01ff94c24/podkat/man/weights-methods.Rd:92: file link 'TabixFile' in package 'Rsamtools' does not exist and so has been treated as a topic
** building package indices
** installing vignettes
** testing if installed package can be loaded from temporary location
** testing if installed package can be loaded from final location
** testing if installed package keeps a record of temporary installation path
install for x64
* installing *source* package 'podkat' ...
** libs
C:/Rtools/mingw_64/bin/g++ -std=gnu++11 -I"C:/Users/BIOCBU~1/BBS-3~1.10-/R/include" -DNDEBUG -D_FILE_OFFSET_BITS=64 -I"C:/Users/biocbuild/bbs-3.10-bioc/R/library/Rcpp/include" -I"C:/Users/biocbuild/bbs-3.10-bioc/R/library/Rhtslib/include" -I"C:/extsoft/include" -O2 -Wall -mtune=core2 -c R_init_podkat.cpp -o R_init_podkat.o
C:/Rtools/mingw_64/bin/g++ -std=gnu++11 -I"C:/Users/BIOCBU~1/BBS-3~1.10-/R/include" -DNDEBUG -D_FILE_OFFSET_BITS=64 -I"C:/Users/biocbuild/bbs-3.10-bioc/R/library/Rcpp/include" -I"C:/Users/biocbuild/bbs-3.10-bioc/R/library/Rhtslib/include" -I"C:/extsoft/include" -O2 -Wall -mtune=core2 -c bernoulliExact.cpp -o bernoulliExact.o
C:/Rtools/mingw_64/bin/g++ -std=gnu++11 -I"C:/Users/BIOCBU~1/BBS-3~1.10-/R/include" -DNDEBUG -D_FILE_OFFSET_BITS=64 -I"C:/Users/biocbuild/bbs-3.10-bioc/R/library/Rcpp/include" -I"C:/Users/biocbuild/bbs-3.10-bioc/R/library/Rhtslib/include" -I"C:/extsoft/include" -O2 -Wall -mtune=core2 -c checkAndFixGenotype.cpp -o checkAndFixGenotype.o
C:/Rtools/mingw_64/bin/g++ -std=gnu++11 -I"C:/Users/BIOCBU~1/BBS-3~1.10-/R/include" -DNDEBUG -D_FILE_OFFSET_BITS=64 -I"C:/Users/biocbuild/bbs-3.10-bioc/R/library/Rcpp/include" -I"C:/Users/biocbuild/bbs-3.10-bioc/R/library/Rhtslib/include" -I"C:/extsoft/include" -O2 -Wall -mtune=core2 -c cumMax.cpp -o cumMax.o
C:/Rtools/mingw_64/bin/g++ -std=gnu++11 -I"C:/Users/BIOCBU~1/BBS-3~1.10-/R/include" -DNDEBUG -D_FILE_OFFSET_BITS=64 -I"C:/Users/biocbuild/bbs-3.10-bioc/R/library/Rcpp/include" -I"C:/Users/biocbuild/bbs-3.10-bioc/R/library/Rhtslib/include" -I"C:/extsoft/include" -O2 -Wall -mtune=core2 -c doubleMale.cpp -o doubleMale.o
C:/Rtools/mingw_64/bin/g++ -std=gnu++11 -I"C:/Users/BIOCBU~1/BBS-3~1.10-/R/include" -DNDEBUG -D_FILE_OFFSET_BITS=64 -I"C:/Users/biocbuild/bbs-3.10-bioc/R/library/Rcpp/include" -I"C:/Users/biocbuild/bbs-3.10-bioc/R/library/Rhtslib/include" -I"C:/extsoft/include" -O2 -Wall -mtune=core2 -c kernels.cpp -o kernels.o
C:/Rtools/mingw_64/bin/g++ -std=gnu++11 -I"C:/Users/BIOCBU~1/BBS-3~1.10-/R/include" -DNDEBUG -D_FILE_OFFSET_BITS=64 -I"C:/Users/biocbuild/bbs-3.10-bioc/R/library/Rcpp/include" -I"C:/Users/biocbuild/bbs-3.10-bioc/R/library/Rhtslib/include" -I"C:/extsoft/include" -O2 -Wall -mtune=core2 -c pValues.cpp -o pValues.o
C:/Rtools/mingw_64/bin/g++ -std=gnu++11 -I"C:/Users/BIOCBU~1/BBS-3~1.10-/R/include" -DNDEBUG -D_FILE_OFFSET_BITS=64 -I"C:/Users/biocbuild/bbs-3.10-bioc/R/library/Rcpp/include" -I"C:/Users/biocbuild/bbs-3.10-bioc/R/library/Rhtslib/include" -I"C:/extsoft/include" -O2 -Wall -mtune=core2 -c partitionRegions.cpp -o partitionRegions.o
C:/Rtools/mingw_64/bin/g++ -std=gnu++11 -I"C:/Users/BIOCBU~1/BBS-3~1.10-/R/include" -DNDEBUG -D_FILE_OFFSET_BITS=64 -I"C:/Users/biocbuild/bbs-3.10-bioc/R/library/Rcpp/include" -I"C:/Users/biocbuild/bbs-3.10-bioc/R/library/Rhtslib/include" -I"C:/extsoft/include" -O2 -Wall -mtune=core2 -c qfc.cpp -o qfc.o
C:/Rtools/mingw_64/bin/g++ -std=gnu++11 -I"C:/Users/BIOCBU~1/BBS-3~1.10-/R/include" -DNDEBUG -D_FILE_OFFSET_BITS=64 -I"C:/Users/biocbuild/bbs-3.10-bioc/R/library/Rcpp/include" -I"C:/Users/biocbuild/bbs-3.10-bioc/R/library/Rhtslib/include" -I"C:/extsoft/include" -O2 -Wall -mtune=core2 -c readGenotypeMatrix.cpp -o readGenotypeMatrix.o
C:/Rtools/mingw_64/bin/g++ -std=gnu++11 -I"C:/Users/BIOCBU~1/BBS-3~1.10-/R/include" -DNDEBUG -D_FILE_OFFSET_BITS=64 -I"C:/Users/biocbuild/bbs-3.10-bioc/R/library/Rcpp/include" -I"C:/Users/biocbuild/bbs-3.10-bioc/R/library/Rhtslib/include" -I"C:/extsoft/include" -O2 -Wall -mtune=core2 -c readVariantInfo.cpp -o readVariantInfo.o
C:/Rtools/mingw_64/bin/g++ -std=gnu++11 -shared -s -static-libgcc -o podkat.dll tmp.def R_init_podkat.o bernoulliExact.o checkAndFixGenotype.o cumMax.o doubleMale.o kernels.o pValues.o partitionRegions.o qfc.o readGenotypeMatrix.o readVariantInfo.o C:/Users/biocbuild/bbs-3.10-bioc/R/library/Rhtslib/usrlib/x64/libhts.a -LC:/extsoft/lib/x64 -lcurl -lrtmp -lssl -lssh2 -lcrypto -lgdi32 -lz -lws2_32 -lwldap32 -lwinmm -LC:/extsoft/lib/x64 -LC:/extsoft/lib -LC:/Users/BIOCBU~1/BBS-3~1.10-/R/bin/x64 -lR
installing to C:/Users/biocbuild/bbs-3.10-bioc/meat/podkat.buildbin-libdir/podkat/libs/x64
** testing if installed package can be loaded
* MD5 sums
packaged installation of 'podkat' as podkat_1.18.0.zip
* DONE (podkat)