| Back to Multiple platform build/check report for BioC 3.10 |
|
This page was generated on 2020-04-15 12:18:15 -0400 (Wed, 15 Apr 2020).
| Package 1279/1823 | Hostname | OS / Arch | INSTALL | BUILD | CHECK | BUILD BIN | ||||||
| plw 1.46.0 Magnus Astrand
| malbec1 | Linux (Ubuntu 18.04.4 LTS) / x86_64 | OK | OK | OK | |||||||
| tokay1 | Windows Server 2012 R2 Standard / x64 | OK | OK | OK | [ OK ] | |||||||
| merida1 | OS X 10.11.6 El Capitan / x86_64 | OK | OK | OK | OK |
| Package: plw |
| Version: 1.46.0 |
| Command: rm -rf plw.buildbin-libdir && mkdir plw.buildbin-libdir && C:\Users\biocbuild\bbs-3.10-bioc\R\bin\R.exe CMD INSTALL --merge-multiarch --build --library=plw.buildbin-libdir plw_1.46.0.tar.gz |
| StartedAt: 2020-04-15 09:23:53 -0400 (Wed, 15 Apr 2020) |
| EndedAt: 2020-04-15 09:24:34 -0400 (Wed, 15 Apr 2020) |
| EllapsedTime: 41.1 seconds |
| RetCode: 0 |
| Status: OK |
| PackageFile: plw_1.46.0.zip |
| PackageFileSize: 874 KiB |
##############################################################################
##############################################################################
###
### Running command:
###
### rm -rf plw.buildbin-libdir && mkdir plw.buildbin-libdir && C:\Users\biocbuild\bbs-3.10-bioc\R\bin\R.exe CMD INSTALL --merge-multiarch --build --library=plw.buildbin-libdir plw_1.46.0.tar.gz
###
##############################################################################
##############################################################################
install for i386
* installing *source* package 'plw' ...
** using staged installation
** libs
C:/Rtools/mingw_32/bin/gcc -I"C:/Users/BIOCBU~1/BBS-3~1.10-/R/include" -DNDEBUG -I"C:/extsoft/include" -O3 -Wall -std=gnu99 -mtune=core2 -c SpecialFunctions.c -o SpecialFunctions.o
SpecialFunctions.c: In function 'getPosteriorProbsAndSigmaHatStrata0':
SpecialFunctions.c:154:20: warning: variable 's2' set but not used [-Wunused-but-set-variable]
double kk,C,s0,s1,s2,temp0,aa;
^
SpecialFunctions.c:154:17: warning: variable 's1' set but not used [-Wunused-but-set-variable]
double kk,C,s0,s1,s2,temp0,aa;
^
SpecialFunctions.c:154:14: warning: variable 's0' set but not used [-Wunused-but-set-variable]
double kk,C,s0,s1,s2,temp0,aa;
^
C:/Rtools/mingw_32/bin/gcc -I"C:/Users/BIOCBU~1/BBS-3~1.10-/R/include" -DNDEBUG -I"C:/extsoft/include" -O3 -Wall -std=gnu99 -mtune=core2 -c SpecialOptim.c -o SpecialOptim.o
C:/Rtools/mingw_32/bin/gcc -shared -s -static-libgcc -o plw.dll tmp.def SpecialFunctions.o SpecialOptim.o -LC:/extsoft/lib/i386 -LC:/extsoft/lib -LC:/Users/BIOCBU~1/BBS-3~1.10-/R/bin/i386 -lR
installing to C:/Users/biocbuild/bbs-3.10-bioc/meat/plw.buildbin-libdir/00LOCK-plw/00new/plw/libs/i386
** R
** data
** inst
** byte-compile and prepare package for lazy loading
** help
*** installing help indices
converting help for package 'plw'
finding HTML links ... done
AffySpikeU95Subset html
HowToPLW html
estimateMVbeta html
estimateSigma html
estimateSigmaMV html
estimateSigmaMVbeta html
getKnots html
lmw html
logitT html
plw-package html
plw html
scaleParameterPlot html
statByIndex html
topRankSummary html
varHistPlot html
** building package indices
** installing vignettes
** testing if installed package can be loaded from temporary location
** testing if installed package can be loaded from final location
** testing if installed package keeps a record of temporary installation path
install for x64
* installing *source* package 'plw' ...
** libs
C:/Rtools/mingw_64/bin/gcc -I"C:/Users/BIOCBU~1/BBS-3~1.10-/R/include" -DNDEBUG -I"C:/extsoft/include" -O2 -Wall -std=gnu99 -mtune=core2 -c SpecialFunctions.c -o SpecialFunctions.o
SpecialFunctions.c: In function 'getPosteriorProbsAndSigmaHatStrata0':
SpecialFunctions.c:154:20: warning: variable 's2' set but not used [-Wunused-but-set-variable]
double kk,C,s0,s1,s2,temp0,aa;
^
SpecialFunctions.c:154:17: warning: variable 's1' set but not used [-Wunused-but-set-variable]
double kk,C,s0,s1,s2,temp0,aa;
^
SpecialFunctions.c:154:14: warning: variable 's0' set but not used [-Wunused-but-set-variable]
double kk,C,s0,s1,s2,temp0,aa;
^
C:/Rtools/mingw_64/bin/gcc -I"C:/Users/BIOCBU~1/BBS-3~1.10-/R/include" -DNDEBUG -I"C:/extsoft/include" -O2 -Wall -std=gnu99 -mtune=core2 -c SpecialOptim.c -o SpecialOptim.o
C:/Rtools/mingw_64/bin/gcc -shared -s -static-libgcc -o plw.dll tmp.def SpecialFunctions.o SpecialOptim.o -LC:/extsoft/lib/x64 -LC:/extsoft/lib -LC:/Users/BIOCBU~1/BBS-3~1.10-/R/bin/x64 -lR
installing to C:/Users/biocbuild/bbs-3.10-bioc/meat/plw.buildbin-libdir/plw/libs/x64
** testing if installed package can be loaded
* MD5 sums
packaged installation of 'plw' as plw_1.46.0.zip
* DONE (plw)